Workbook

Sheet 119th
K2: Presidential Nomination # | M2: PN150-3 | N2: PN346-2 | O2: PN466-4 | P2: PN520-5 | Q2: PN400-1 | R2: PN400-3 | S2: PN851-7 | T2: PN938-2 | U2: PN938-1 | V2: PN999-6 | W2: PN787-5 | X2: PN150-2 | Y2: PN150-6 | Z2: PN150-1 | AA2: PN346-1 | AB2: PN150-4 | AC2: PN346-3 | AD2: PN346-5 | AE2: PN466-6 | AF2: PN400-2 | AG2: PN368 | AH2: PN466-3 | AI2: PN346-6 | AJ2: PN466-2 | AK2: PN520-1 | AL2: PN520-2 | AM2: PN520-3 | AN2: PN520-4 | AO2: PN466-1 | AP2: PN466-5 | AQ2: PN615-1 | AR2: PN615-2 | AS2: PN726-5 | AT2: PN726-6 | AU2: PN726-2 | AV2: PN726-12 | AW2: PN726-9 | AX2: PN726-11 | AY2: PN787-4 | AZ2: PN787-5 | BA2: PN787-1 | BB2: PN851-1 | BC2: PN851-6 | BD2: PN851-2 | BE2: PN851-3 | BF2: PN851-4 | BG2: PN851-5 | BH2: PN930-2 | BI2: PN930-7 | BJ2: PN930-3 | BK2: PN930-4 | BL2: PN851-8 | BM2: PN999-3 | BN2: PN999-5 | BO2: PN1093-3 | BP2: PN999-4 | BQ2: PN999-1 | BR2: PN1093-3
K4: Date of Vote | M4: 45852 | N4: 45867 | O4: 45939 | P4: 45957 | Q4: 45965 | R4: 45966 | S4: 46188 | T4: 46217 | U4: 46225 | V4: 46226 | X4: 45860 | Y4: 45860 | Z4: 45861 | AA4: 45908 | AB4: 45909 | AC4: 45909 | AD4: 45951 | AE4: 45951 | AF4: 45952 | AG4: 45953 | AH4: 45957 | AI4: 45958 | AJ4: 45959 | AK4: 45993 | AL4: 45993 | AM4: 45994 | AN4: 45995 | AO4: 46000 | AP4: 46000 | AQ4: 46000 | AR4: 46030 | AS4: 46056 | AT4: 46056 | AU4: 46057 | AV4: 46057 | AW4: 46058 | AX4: 46058 | AY4: 46098 | AZ4: 46126 | BA4: 46132 | BB4: 46161 | BC4: 46162 | BD4: 46175 | BE4: 46175 | BF4: 46182 | BG4: 42531 | BH4: 46197 | BI4: 46197 | BJ4: 46216 | BK4: 46218 | BL4: 46224 | BM4: 46225 | BN4: 46226 | BO4: 46280 | BP4: 46282 | BQ4: 46288 | BR4: 46280
K5: Court | M5: 6th Circuit | N5: 3rd Circuit | O5: 3rd Circuit | P5: 7th Circuit | Q5: 1st Circuit | R5: 9th Circuit | S5: 8th Circuit | T5: 2nd Circuit | U5: 6th Circuit | V5: 8th Circuit | X5: East-West Dist. MO | Y5: East Dist. MO | Z5: East. Dist. of MO | AA5: South Dist. of FL | AB5: East. Dist. of MO | AC5: Mid. Dist. of FL. | AD5: Mid. Dist. Of FL | AE5: North Dist. Of AL | AF5: Dist. Of MT | AG5: East Dist. Of KY | AH5: Mid. Dist. of AL | AI5: Mid. Dist. of FL | AJ5: North Dist. of AL | AK5: Mid. Dist. Of NC | AL5: Mid. Dist. Of NC | AM5: West Dist. Of NC | AN5: West Dist. Of NC | AO5: North Dist. Of MS | AP5: North Dist. Of MS | AQ5: East Dist. Of LA | AR5: West Dist. Of LA | AS5: West Dist. Of AR | AT5: South Dist. Of TX | AU5: West Dist. Of MO | AV5: Dist. Of AK | AW5: West. Dist. Of TN | AX5: South. Dist. Of IN | AY5: East. Dist. Of LA | AZ5: West. Dist. Of TX | BA5: West. Dist. Of TX | BB5: Dist. Of SC | BC5: Dist. Of VI | BD5: Dist. Of KS | BE5: Dist. Of MT | BF5: Dist. Of KS | BG5: Dist. Of KS | BH5: North Dist. Of OH | BI5: South Dist. Of TX | BJ5: South Dist. Of TX | BK5: South Dist. Of FL | BL5: Int. Trade | BM5: East. Dist. Of MI | BN5: East Dist. Of PA | BO5: South Dist. Of OH | BP5: North Dist. Of TX | BQ5: South Dist. Of TX | BR5: South Dist. Of OH
B6: Priority Yes -PY_CODE | G6: Yes - Y_CODE | H6: Unclear - U_CODE | I6: No - N_CODE | J6: Priority No - PN_CODE | K6: AFA Recommendation Status | M6: 2 | N6: 3 | O6: 3 | P6: 5 | Q6: 2 | R6: 3 | S6: 2 | T6: 2 | U6: 2 | V6: 3 | X6: 1 | Y6: 3 | Z6: 3 | AA6: 2 | AB6: 3 | AC6: 3 | AD6: 3 | AE6: 3 | AF6: 3 | AG6: 2 | AH6: 3 | AI6: 1 | AJ6: 2 | AK6: 3 | AL6: 3 | AM6: 3 | AN6: 3 | AO6: 3 | AP6: 3 | AQ6: 3 | AR6: 3 | AS6: 3 | AT6: 3 | AU6: 3 | AV6: 3 | AW6: 3 | AX6: 2 | AY6: 3 | AZ6: 3 | BA6: 3 | BB6: 3 | BC6: 3 | BD6: 3 | BE6: 3 | BF6: 3 | BG6: 3 | BH6: 3 | BI6: 3 | BJ6: 3 | BK6: 3 | BL6: 3 | BM6: 3 | BN6: 3 | BO6: 1 | BP6: 2 | BQ6: 3
A7: 119th Congress Score | B7: 2025 Q3 Score | C7: 2025 Q4 Score | D7: 2026 Q1 Score | E7: 2026 Q2 Score | F7: 2026 Q3 Score | I7: Last | J7: First | K7: State | L7: Party | M7: Whitney D. Hermandorfer | N7: Emil J. Bove III | O7: Jennifer Lee Mascott | P7: Rebecca L. Taibleson | Q7: Joshua D. Dunlap | R7: Eric Chunyee Tung | S7: Justin D. Smith | T7: Matthew A. Schwartz | U7: Benjamin M. Flowers | V7: Daniel Mack Traynor | X7: Joshua M. Divine | Y7: Cristian M. Stevens | Z7: Zachary M. Bluestone | AA7: Edward L. Artau | AB7: Maria A. Lanahan | AC7: Kyle Christopher Dudek | AD7: Anne-Leigh Gaylord Moe | AE7: Harold D. Mooty III | AF7: William W. Mercer | AG7: Stephen Chad Meredith | AH7: Bill Lewis | AI7: Jordan Emery Pratt | AJ7: Edmund G. LaCour Jr. | AK7: David A. Bragdon | AL7: Lindsey Ann Freeman | AM7: Matthew E. Orso | AN7: Susan Courtwright Rodriguez | AO7: Robert P. Chamberlin | AP7: James D. Maxwell II | AQ7: William J. Crain | AR7: Alexander C. Van Hook | AS7: David Clay Fowlkes | AT7: Nicholas Jon Ganjei | AU7: Megan Blair Benton | AV7: Aaron Christian Peterson | AW7: Brian Charles Lea | AX7: Justin R. Olson | AY7: Anna St. John | AZ7: Christopher R. Wolfe | BA7: Andrew B. Davis | BB7: Sheria Akins Clarke | BC7: Evan Rikhye | BD7: Jeffrey M. Kuhlman | BE7: Kathleen S. Lane | BF7: Anthony W. Mattivi | BG7: Anthony J. Powell | BH7: Michael J. Hendershot | BI7: John George Edward Marck | BJ7: Arthur Roberts Jones | BK7: Jeffrey T. Kuntz | BL7: Kara Marie Westercamp | BM7: Michael C. Martin | BN7: Antonio M. Pozos | BO7: Matthew R. Byrne | BP7: Kasdin Miller Mitchell | BQ7: Angela Veronica Colmenero | BS7: Total Vote Weighted | BT7: Total Preffered Votes Weighted | BU7: Total NV Votes | BV7: Total Votes Taken | BX7: Total Vote Weighted Q3 | BY7: Total Preffered Votes Weighted Q3 | BZ7: Total Q3 Votes Taken | CA7: Total Vote Weighted Q4 | CB7: Total No Votes Weighted Q4 | CC7: Total Q4 Votes Taken | CD7: Total Vote Weighted Q1 2026 | CE7: Total Reccomended Votes Weighted Q1 2026 | CF7: Total Q1 Votes Taken 2026 | CG7: Total Vote Weighted Q2 2026 | CH7: Total Recommended Votes Weighted Q2 2026 | CI7: Total Q2 Votes Taken 2026 | CJ7: Total Vote Weighted Q3 2026 | CK7: Total Recommended Votes Weighted Q3 2026 | CL7: Total Q3 Votes Taken 2026 | CM7: Total Vote Weighted Q4 2026 | CN7: Total No Votes Weighted Q4 2026 | CO7: Total Q4 Votes Taken 2026 | CP7: Total Vote Weighted 2026 | CQ7: Total No Votes Weighted 2026 | CR7: Total Votes Taken 2026
A8: =SUM((BT8/BS8)*100) -> 100 | B8: =SUM(BY8/BX8)*100 -> #DIV/0! | C8: =SUM(CB8/CA8)*100 -> #DIV/0! | D8: =SUM(CE8/CD8)*100 -> #DIV/0! | E8: =SUM(CH8/CG8)*100 -> 100 | F8: =SUM(CK8/CJ8)*100 -> 100 | H8: Sen. | I8: Armstrong | J8: Alan | K8: OK | L8: R | S8: Y | T8: Y | U8: Y | V8: Y | W8: Y | AZ8: Y | BA8: Y | BB8: Y | BC8: Y | BD8: Y | BE8: Y | BF8: Y | BG8: Y | BH8: Y | BI8: Y | BJ8: Y | BK8: Y | BL8: Y | BM8: Y | BN8: Y | BO8: Y | BP8: Y | BQ8: Y | BR8: Y | BS8: {=5 * (SUMPRODUCT( (M$6:V$6=1)*((M8:V8="Y") + (M8:V8="N")) * 2 ) +SUMPRODUCT( (M$6:V$6=2) * ((M8:V8="Y") + (M8:V8="N")) * 1 ) + SUMPRODUCT( (M$6:V$6=3)*((M8:V8="Y")+(M8:V8="N"))*1 ) +SUMPRODUCT( (M$6:V$6=4 ) * ((M8:V8="Y") + (M8:V8="N")) * 1 )+SUMPRODUCT( (M$6:V$6=5) * ((M8:V8="Y")+(M8:V8="N")) * 2 ))+1*(SUMPRODUCT( (X$6:BQ$6=1) * ((X8:BQ8="Y") + (X8:BQ8="N")) * 2 ) +SUMPRODUCT( (X$6:BQ$6=2 ) * ((X8:BQ8="Y") + (X8:BQ8="N")) * 1 ) +SUMPRODUCT( (X$6:BQ$6=3) * ((X8:BQ8="Y") + (X8:BQ8="N")) * 1 ) +SUMPRODUCT( (X$6:BQ$6=4) * ((X8:BQ8="Y") + (X8:BQ8="N")) * 1 ) + SUMPRODUCT( (X$6:BQ$6=5) * ((X8:BQ8="Y") + (X8:BQ8="N")) * 2 ))} -> 39 | BT8: {=5 * (SUMPRODUCT( (M$6:V$6=1) * (M8:V8="Y") * 2 ) + SUMPRODUCT( (M$6:V$6=2) * (M8:V8="Y") * 1 ) +SUMPRODUCT( (M$6:V$6=3) * (M8:V8="Y") * 1 ) + SUMPRODUCT( (M$6:V$6=4) * (M8:V8="N") * 1 ) +SUMPRODUCT( (M$6:V$6=5) * (M8:V8="N") * 2 )) + (SUMPRODUCT( (X$6:BQ$6=1) * (X8:BQ8="Y") * 2 ) +SUMPRODUCT( (X$6:BQ$6=2) * (X8:BQ8="Y") * 1 ) +SUMPRODUCT( (X$6:BQ$6=3) * (X8:BQ8="Y") * 1 ) +SUMPRODUCT( (X$6:BQ$6=4) * (X8:BQ8="N") * 1 ) +SUMPRODUCT( (X$6:BQ$6=5) * (X8:BQ8="N") * 2 ))} -> 39 | BU8: =SUM(COUNTIF(M8:V8,$H$130)*$H$137)+(COUNTIF(X8:BQ8, $H$130)*$H$135) -> 0 | BV8: =COUNTA(M8) -> 0 | BX8: =5 * (SUMPRODUCT( (M$6:N$6=1)*((M8:N8="Y") + (M8:N8="N")) * 2 ) +SUMPRODUCT( (M$6:N$6=2) * ((M8:N8="Y") + (M8:N8="N")) * 1 ) + SUMPRODUCT( (M$6:N$6=3)*((M8:N8="Y")+(M8:N8="N"))*1 ) +SUMPRODUCT( (M$6:N$6=4 ) * ((M8:N8="Y") + (M8:N8="N")) * 1 )+SUMPRODUCT( (M$6:N$6=5) * ((M8:N8="Y")+(M8:N8="N")) * 2 ))+1*(SUMPRODUCT( (X$6:AC$6=1) * ((X8:AC8="Y") + (X8:AC8="N")) * 2 ) +SUMPRODUCT( (X$6:AC$6=2 ) * ((X8:AC8="Y") + (X8:AC8="N")) * 1 ) +SUMPRODUCT( (X$6:AC$6=3) * ((X8:AC8="Y") + (X8:AC8="N")) * 1 ) +SUMPRODUCT( (X$6:AC$6=4) * ((X8:AC8="Y") + (X8:AC8="N")) * 1 ) + SUMPRODUCT( (X$6:AC$6=5) * ((X8:AC8="Y") + (X8:AC8="N")) * 2 )) -> 0 | BY8: =5 * (SUMPRODUCT( (M$6:N$6=1) * (M8:N8="Y") * 2 ) + SUMPRODUCT( (M$6:N$6=2) * (M8:N8="Y") * 1 ) +SUMPRODUCT( (M$6:N$6=3) * (M8:N8="Y") * 1 ) + SUMPRODUCT( (M$6:N$6=4) * (M8:N8="N") * 1 ) +SUMPRODUCT( (M$6:N$6=5) * (M8:N8="N") * 2 )) + (SUMPRODUCT( (X$6:AC$6=1) * (X8:AC8="Y") * 2 ) +SUMPRODUCT( (X$6:AC$6=2) * (X8:AC8="Y") * 1 ) +SUMPRODUCT( (X$6:AC$6=3) * (X8:AC8="Y") * 1 ) +SUMPRODUCT( (X$6:AC$6=4) * (X8:AC8="N") * 1 ) +SUMPRODUCT( (X$6:AC$6=5) * (X8:AC8="N") * 2 )) -> 0 | BZ8: =COUNTA(M8:N8)+COUNTA(X8:AC8) -> 0 | CA8: =5 * (SUMPRODUCT( (O$6:R$6=1)*((O8:R8="Y") + (O8:R8="N")) * 2 ) +SUMPRODUCT( (O$6:R$6=2) * ((O8:R8="Y") + (O8:R8="N")) * 1 ) + SUMPRODUCT( (O$6:R$6=3)*((O8:R8="Y")+(O8:R8="N"))*1 ) +SUMPRODUCT( (O$6:R$6=4 ) * ((O8:R8="Y") + (O8:R8="N")) * 1 )+SUMPRODUCT( (O$6:R$6=5) * ((O8:R8="Y")+(O8:R8="N")) * 2 )) +1*(SUMPRODUCT( (AD$6:AQ$6=1) * ((AD8:AQ8="Y") + (AD8:AQ8="N")) * 2 ) +SUMPRODUCT( (AD$6:AQ$6=2 ) * ((AD8:AQ8="Y") + (AD8:AQ8="N")) * 1 ) +SUMPRODUCT( (AD$6:AQ$6=3) * ((AD8:AQ8="Y") + (AD8:AQ8="N")) * 1 ) +SUMPRODUCT( (AD$6:AQ$6=4) * ((AD8:AQ8="Y") + (AD8:AQ8="N")) * 1 ) + SUMPRODUCT( (AD$6:AQ$6=5) * ((AD8:AQ8="Y") + (AD8:AQ8="N")) * 2 )) -> 0 | CB8: =5 * (SUMPRODUCT( (O$6:R$6=1) * (O8:R8="Y") * 2 ) + SUMPRODUCT( (O$6:R$6=2) * (O8:R8="Y") * 1 ) +SUMPRODUCT( (O$6:R$6=3) * (O8:R8="Y") * 1 ) + SUMPRODUCT( (O$6:R$6=4) * (O8:R8="N") * 1 ) +SUMPRODUCT( (O$6:R$6=5) * (O8:R8="N") * 2 )) + (SUMPRODUCT( (AD$6:AQ$6=1) * (AD8:AQ8="Y") * 2 ) +SUMPRODUCT( (AD$6:AQ$6=2) * (AD8:AQ8="Y") * 1 ) +SUMPRODUCT( (AD$6:AQ$6=3) * (AD8:AQ8="Y") * 1 ) +SUMPRODUCT( (AD$6:AQ$6=4) * (AD8:AQ8="N") * 1 ) +SUMPRODUCT( (AD$6:AQ$6=5) * (AD8:AQ8="N") * 2 )) -> 0 | CC8: =COUNTA(O8:R8)+COUNTA(AD8:AQ8) -> 0 | CD8: =1*(SUMPRODUCT( (AR$6:AY$6=1) * ((AR8:AY8="Y") + (AR8:AY8="N")) * 2 ) +SUMPRODUCT( (AR$6:AY$6=2 ) * ((AR8:AY8="Y") + (AR8:AY8="N")) * 1 ) +SUMPRODUCT( (AR$6:AY$6=3) * ((AR8:AY8="Y") + (AR8:AY8="N")) * 1 ) +SUMPRODUCT( (AR$6:AY$6=4) * ((AR8:AY8="Y") + (AR8:AY8="N")) * 1 ) + SUMPRODUCT( (AR$6:AY$6=5) * ((AR8:AY8="Y") + (AR8:AY8="N")) * 2 )) -> 0 | CE8: =(SUMPRODUCT( (AR$6:AY$6=1) * (AR8:AY8="Y") * 2 ) +SUMPRODUCT( (AR$6:AY$6=2) * (AR8:AY8="Y") * 1 ) +SUMPRODUCT( (AR$6:AY$6=3) * (AR8:AY8="Y") * 1 ) +SUMPRODUCT( (AR$6:AY$6=4) * (AR8:AY8="N") * 1 ) +SUMPRODUCT( (AR$6:AY$6=5) * (AR8:AY8="N") * 2 )) -> 0 | CF8: =COUNTA(AR8:AY8) -> 0 | CG8: {=5*(SUMPRODUCT((S$6=1)*((S8="Y")+(S8="N"))*2)+SUMPRODUCT((S$6=2)*((S8="Y")+(S8="N"))*1)+SUMPRODUCT((S$6=3)*((S8="Y")+(S8="N"))*1)+SUMPRODUCT((S$6=4)*((S8="Y")+(S8="N"))*1)+SUMPRODUCT((S$6=5)*((S8="Y")+(S8="N"))*2))+1*(SUMPRODUCT((AZ$6:BI$6=1)*((AZ8:BI8="Y")+(AZ8:BI8="N"))*2)+SUMPRODUCT((AZ$6:BI$6=2)*((AZ8:BI8="Y")+(AZ8:BI8="N"))*1)+SUMPRODUCT((AZ$6:BI$6=3)*((AZ8:BI8="Y")+(AZ8:BI8="N"))*1)+SUMPRODUCT((AZ$6:BI$6=4)*((AZ8:BI8="Y")+(AZ8:BI8="N"))*1)+SUMPRODUCT((AZ$6:BI$6=5)*((AZ8:BI8="Y")+(AZ8:BI8="N"))*2))} -> 15 | CH8: {=5*(SUMPRODUCT((S$6=1)*(S8="Y")*2)+SUMPRODUCT((S$6=2)*(S8="Y")*1)+SUMPRODUCT((S$6=3)*(S8="Y")*1)+SUMPRODUCT((S$6=4)*(S8="N")*1)+SUMPRODUCT((S$6=5)*(S8="N")*2))+(SUMPRODUCT((AZ$6:BI$6=1)*(AZ8:BI8="Y")*2)+SUMPRODUCT((AZ$6:BI$6=2)*(AZ8:BI8="Y")*1)+SUMPRODUCT((AZ$6:BI$6=3)*(AZ8:BI8="Y")*1)+SUMPRODUCT((AZ$6:BI$6=4)*(AZ8:BI8="N")*1)+SUMPRODUCT((AZ$6:BI$6=5)*(AZ8:BI8="N")*2))} -> 15 | CI8: =COUNTA(S8)+COUNTA(AZ8:BI8) -> 11 | CJ8: {=5*(SUMPRODUCT((T$6:V$6=1)*((T8:V8="Y")+(T8:V8="N"))*2)+SUMPRODUCT((T$6:V$6=2)*((T8:V8="Y")+(T8:V8="N"))*1)+SUMPRODUCT((T$6:V$6=3)*((T8:V8="Y")+(T8:V8="N"))*1)+SUMPRODUCT((T$6:V$6=4)*((T8:V8="Y")+(T8:V8="N"))*1)+SUMPRODUCT((T$6:V$6=5)*((T8:V8="Y")+(T8:V8="N"))*2))+1*(SUMPRODUCT((BJ$6:BQ$6=1)*((BJ8:BQ8="Y")+(BJ8:BQ8="N"))*2)+SUMPRODUCT((BJ$6:BQ$6=2)*((BJ8:BQ8="Y")+(BJ8:BQ8="N"))*1)+SUMPRODUCT((BJ$6:BQ$6=3)*((BJ8:BQ8="Y")+(BJ8:BQ8="N"))*1)+SUMPRODUCT((BJ$6:BQ$6=4)*((BJ8:BQ8="Y")+(BJ8:BQ8="N"))*1)+SUMPRODUCT((BJ$6:BQ$6=5)*((BJ8:BQ8="Y")+(BJ8:BQ8="N"))*2))} -> 24 | CK8: {=5*(SUMPRODUCT((T$6:V$6=1)*(T8:V8="Y")*2)+SUMPRODUCT((T$6:V$6=2)*(T8:V8="Y")*1)+SUMPRODUCT((T$6:V$6=3)*(T8:V8="Y")*1)+SUMPRODUCT((T$6:V$6=4)*(T8:V8="N")*1)+SUMPRODUCT((T$6:V$6=5)*(T8:V8="N")*2))+(SUMPRODUCT((BJ$6:BQ$6=1)*(BJ8:BQ8="Y")*2)+SUMPRODUCT((BJ$6:BQ$6=2)*(BJ8:BQ8="Y")*1)+SUMPRODUCT((BJ$6:BQ$6=3)*(BJ8:BQ8="Y")*1)+SUMPRODUCT((BJ$6:BQ$6=4)*(BJ8:BQ8="N")*1)+SUMPRODUCT((BJ$6:BQ$6=5)*(BJ8:BQ8="N")*2))} -> 24 | CL8: =COUNTA(T8:V8)+COUNTA(BJ8:BQ8) -> 11 | CM8: =SUM(COUNTIF(M8, $H$128)*$H$137)+(COUNTIF(M8, $H$129)*$H$137)+(COUNTIF(#REF!, $H$128)*$H$135)+(COUNTIF(#REF!, $H$129)*$H$135) -> #REF! | CN8: =SUM(COUNTIF(M8, $H$128)*$H$137)+(COUNTIF(#REF!, $H$128)*$H$135) -> #REF! | CO8: =COUNTA(M8)+COUNTA(#REF!) -> 1 | CP8: =SUM(COUNTIF(M8, $H$128)*$H$137)+(COUNTIF(M8, $H$129)*$H$137)+(COUNTIF(#REF!, $H$128)*$H$135)+(COUNTIF(#REF!, $H$129)*$H$135) -> #REF! | CQ8: =SUM(COUNTIF(M8, $H$128)*$H$137)+(COUNTIF(#REF!, $H$128)*$H$135) -> #REF! | CR8: =COUNTA(M8)+COUNTA(#REF!) -> 1
A9: =SUM((BT9/BS9)*100) -> 90.384615 | B9: =SUM(BY9/BX9)*100 -> 100 | C9: =SUM(CB9/CA9)*100 -> 75 | D9: =SUM(CE9/CD9)*100 -> 100 | E9: =SUM(CH9/CG9)*100 -> 100 | F9: =SUM(CK9/CJ9)*100 -> 100 | H9: Sen. | I9: Banks | J9: Jim | K9: IN | L9: R | M9: Y | N9: Y | O9: Y | P9: Y | Q9: Y | R9: Y | S9: Y | T9: Y | U9: Y | V9: Y | W9: Y | X9: Y | Y9: Y | Z9: Y | AA9: Y | AB9: Y | AC9: Y | AD9: Y | AE9: Y | AF9: Y | AG9: Y | AH9: Y | AI9: Y | AJ9: Y | AK9: Y | AL9: Y | AM9: Y | AN9: Y | AO9: Y | AP9: Y | AQ9: Y | AR9: Y | AS9: Y | AT9: Y | AU9: Y | AV9: Y | AW9: Y | AX9: Y | AY9: Y | AZ9: Y | BA9: Y | BB9: Y | BC9: Y | BD9: Y | BE9: Y | BF9: Y | BG9: Y | BH9: Y | BI9: Y | BJ9: Y | BK9: Y | BL9: Y | BM9: Y | BN9: Y | BO9: Y | BP9: Y | BQ9: Y | BR9: Y | BS9: {=5 * (SUMPRODUCT( (M$6:V$6=1)*((M9:V9="Y") + (M9:V9="N")) * 2 ) +SUMPRODUCT( (M$6:V$6=2) * ((M9:V9="Y") + (M9:V9="N")) * 1 ) + SUMPRODUCT( (M$6:V$6=3)*((M9:V9="Y")+(M9:V9="N"))*1 ) +SUMPRODUCT( (M$6:V$6=4 ) * ((M9:V9="Y") + (M9:V9="N")) * 1 )+SUMPRODUCT( (M$6:V$6=5) * ((M9:V9="Y")+(M9:V9="N")) * 2 ))+1*(SUMPRODUCT( (X$6:BQ$6=1) * ((X9:BQ9="Y") + (X9:BQ9="N")) * 2 ) +SUMPRODUCT( (X$6:BQ$6=2 ) * ((X9:BQ9="Y") + (X9:BQ9="N")) * 1 ) +SUMPRODUCT( (X$6:BQ$6=3) * ((X9:BQ9="Y") + (X9:BQ9="N")) * 1 ) +SUMPRODUCT( (X$6:BQ$6=4) * ((X9:BQ9="Y") + (X9:BQ9="N")) * 1 ) + SUMPRODUCT( (X$6:BQ$6=5) * ((X9:BQ9="Y") + (X9:BQ9="N")) * 2 ))} -> 104 | BT9: {=5 * (SUMPRODUCT( (M$6:V$6=1) * (M9:V9="Y") * 2 ) + SUMPRODUCT( (M$6:V$6=2) * (M9:V9="Y") * 1 ) +SUMPRODUCT( (M$6:V$6=3) * (M9:V9="Y") * 1 ) + SUMPRODUCT( (M$6:V$6=4) * (M9:V9="N") * 1 ) +SUMPRODUCT( (M$6:V$6=5) * (M9:V9="N") * 2 )) + (SUMPRODUCT( (X$6:BQ$6=1) * (X9:BQ9="Y") * 2 ) +SUMPRODUCT( (X$6:BQ$6=2) * (X9:BQ9="Y") * 1 ) +SUMPRODUCT( (X$6:BQ$6=3) * (X9:BQ9="Y") * 1 ) +SUMPRODUCT( (X$6:BQ$6=4) * (X9:BQ9="N") * 1 ) +SUMPRODUCT( (X$6:BQ$6=5) * (X9:BQ9="N") * 2 ))} -> 94 | BU9: =SUM(COUNTIF(M9:V9,$H$130)*$H$137)+(COUNTIF(X9:BQ9, $H$130)*$H$135) -> 0 | BV9: =COUNTA(M9) -> 1 | BX9: =5 * (SUMPRODUCT( (M$6:N$6=1)*((M9:N9="Y") + (M9:N9="N")) * 2 ) +SUMPRODUCT( (M$6:N$6=2) * ((M9:N9="Y") + (M9:N9="N")) * 1 ) + SUMPRODUCT( (M$6:N$6=3)*((M9:N9="Y")+(M9:N9="N"))*1 ) +SUMPRODUCT( (M$6:N$6=4 ) * ((M9:N9="Y") + (M9:N9="N")) * 1 )+SUMPRODUCT( (M$6:N$6=5) * ((M9:N9="Y")+(M9:N9="N")) * 2 ))+1*(SUMPRODUCT( (X$6:AC$6=1) * ((X9:AC9="Y") + (X9:AC9="N")) * 2 ) +SUMPRODUCT( (X$6:AC$6=2 ) * ((X9:AC9="Y") + (X9:AC9="N")) * 1 ) +SUMPRODUCT( (X$6:AC$6=3) * ((X9:AC9="Y") + (X9:AC9="N")) * 1 ) +SUMPRODUCT( (X$6:AC$6=4) * ((X9:AC9="Y") + (X9:AC9="N")) * 1 ) + SUMPRODUCT( (X$6:AC$6=5) * ((X9:AC9="Y") + (X9:AC9="N")) * 2 )) -> 17 | BY9: =5 * (SUMPRODUCT( (M$6:N$6=1) * (M9:N9="Y") * 2 ) + SUMPRODUCT( (M$6:N$6=2) * (M9:N9="Y") * 1 ) +SUMPRODUCT( (M$6:N$6=3) * (M9:N9="Y") * 1 ) + SUMPRODUCT( (M$6:N$6=4) * (M9:N9="N") * 1 ) +SUMPRODUCT( (M$6:N$6=5) * (M9:N9="N") * 2 )) + (SUMPRODUCT( (X$6:AC$6=1) * (X9:AC9="Y") * 2 ) +SUMPRODUCT( (X$6:AC$6=2) * (X9:AC9="Y") * 1 ) +SUMPRODUCT( (X$6:AC$6=3) * (X9:AC9="Y") * 1 ) +SUMPRODUCT( (X$6:AC$6=4) * (X9:AC9="N") * 1 ) +SUMPRODUCT( (X$6:AC$6=5) * (X9:AC9="N") * 2 )) -> 17 | BZ9: =COUNTA(M9:N9)+COUNTA(X9:AC9) -> 8 | CA9: {=5 * (SUMPRODUCT( (O$6:R$6=1)*((O9:R9="Y") + (O9:R9="N")) * 2 ) +SUMPRODUCT( (O$6:R$6=2) * ((O9:R9="Y") + (O9:R9="N")) * 1 ) + SUMPRODUCT( (O$6:R$6=3)*((O9:R9="Y")+(O9:R9="N"))*1 ) +SUMPRODUCT( (O$6:R$6=4 ) * ((O9:R9="Y") + (O9:R9="N")) * 1 )+SUMPRODUCT( (O$6:R$6=5) * ((O9:R9="Y")+(O9:R9="N")) * 2 )) +1*(SUMPRODUCT( (AD$6:AQ$6=1) * ((AD9:AQ9="Y") + (AD9:AQ9="N")) * 2 ) +SUMPRODUCT( (AD$6:AQ$6=2 ) * ((AD9:AQ9="Y") + (AD9:AQ9="N")) * 1 ) +SUMPRODUCT( (AD$6:AQ$6=3) * ((AD9:AQ9="Y") + (AD9:AQ9="N")) * 1 ) +SUMPRODUCT( (AD$6:AQ$6=4) * ((AD9:AQ9="Y") + (AD9:AQ9="N")) * 1 ) + SUMPRODUCT( (AD$6:AQ$6=5) * ((AD9:AQ9="Y") + (AD9:AQ9="N")) * 2 ))} -> 40 | CB9: {=5 * (SUMPRODUCT( (O$6:R$6=1) * (O9:R9="Y") * 2 ) + SUMPRODUCT( (O$6:R$6=2) * (O9:R9="Y") * 1 ) +SUMPRODUCT( (O$6:R$6=3) * (O9:R9="Y") * 1 ) + SUMPRODUCT( (O$6:R$6=4) * (O9:R9="N") * 1 ) +SUMPRODUCT( (O$6:R$6=5) * (O9:R9="N") * 2 )) + (SUMPRODUCT( (AD$6:AQ$6=1) * (AD9:AQ9="Y") * 2 ) +SUMPRODUCT( (AD$6:AQ$6=2) * (AD9:AQ9="Y") * 1 ) +SUMPRODUCT( (AD$6:AQ$6=3) * (AD9:AQ9="Y") * 1 ) +SUMPRODUCT( (AD$6:AQ$6=4) * (AD9:AQ9="N") * 1 ) +SUMPRODUCT( (AD$6:AQ$6=5) * (AD9:AQ9="N") * 2 ))} -> 30 | CC9: =COUNTA(O9:R9)+COUNTA(AD9:AQ9) -> 18 | CD9: =1*(SUMPRODUCT( (AR$6:AY$6=1) * ((AR9:AY9="Y") + (AR9:AY9="N")) * 2 ) +SUMPRODUCT( (AR$6:AY$6=2 ) * ((AR9:AY9="Y") + (AR9:AY9="N")) * 1 ) +SUMPRODUCT( (AR$6:AY$6=3) * ((AR9:AY9="Y") + (AR9:AY9="N")) * 1 ) +SUMPRODUCT( (AR$6:AY$6=4) * ((AR9:AY9="Y") + (AR9:AY9="N")) * 1 ) + SUMPRODUCT( (AR$6:AY$6=5) * ((AR9:AY9="Y") + (AR9:AY9="N")) * 2 )) -> 8 | CE9: {=(SUMPRODUCT( (AR$6:AY$6=1) * (AR9:AY9="Y") * 2 ) +SUMPRODUCT( (AR$6:AY$6=2) * (AR9:AY9="Y") * 1 ) +SUMPRODUCT( (AR$6:AY$6=3) * (AR9:AY9="Y") * 1 ) +SUMPRODUCT( (AR$6:AY$6=4) * (AR9:AY9="N") * 1 ) +SUMPRODUCT( (AR$6:AY$6=5) * (AR9:AY9="N") * 2 ))} -> 8 | CF9: =COUNTA(AR9:AY9) -> 8 | CG9: {=5*(SUMPRODUCT((S$6=1)*((S9="Y")+(S9="N"))*2)+SUMPRODUCT((S$6=2)*((S9="Y")+(S9="N"))*1)+SUMPRODUCT((S$6=3)*((S9="Y")+(S9="N"))*1)+SUMPRODUCT((S$6=4)*((S9="Y")+(S9="N"))*1)+SUMPRODUCT((S$6=5)*((S9="Y")+(S9="N"))*2))+1*(SUMPRODUCT((AZ$6:BI$6=1)*((AZ9:BI9="Y")+(AZ9:BI9="N"))*2)+SUMPRODUCT((AZ$6:BI$6=2)*((AZ9:BI9="Y")+(AZ9:BI9="N"))*1)+SUMPRODUCT((AZ$6:BI$6=3)*((AZ9:BI9="Y")+(AZ9:BI9="N"))*1)+SUMPRODUCT((AZ$6:BI$6=4)*((AZ9:BI9="Y")+(AZ9:BI9="N"))*1)+SUMPRODUCT((AZ$6:BI$6=5)*((AZ9:BI9="Y")+(AZ9:BI9="N"))*2))} -> 15 | CH9: {=5*(SUMPRODUCT((S$6=1)*(S9="Y")*2)+SUMPRODUCT((S$6=2)*(S9="Y")*1)+SUMPRODUCT((S$6=3)*(S9="Y")*1)+SUMPRODUCT((S$6=4)*(S9="N")*1)+SUMPRODUCT((S$6=5)*(S9="N")*2))+(SUMPRODUCT((AZ$6:BI$6=1)*(AZ9:BI9="Y")*2)+SUMPRODUCT((AZ$6:BI$6=2)*(AZ9:BI9="Y")*1)+SUMPRODUCT((AZ$6:BI$6=3)*(AZ9:BI9="Y")*1)+SUMPRODUCT((AZ$6:BI$6=4)*(AZ9:BI9="N")*1)+SUMPRODUCT((AZ$6:BI$6=5)*(AZ9:BI9="N")*2))} -> 15 | CI9: =COUNTA(S9)+COUNTA(AZ9:BI9) -> 11 | CJ9: {=5*(SUMPRODUCT((T$6:V$6=1)*((T9:V9="Y")+(T9:V9="N"))*2)+SUMPRODUCT((T$6:V$6=2)*((T9:V9="Y")+(T9:V9="N"))*1)+SUMPRODUCT((T$6:V$6=3)*((T9:V9="Y")+(T9:V9="N"))*1)+SUMPRODUCT((T$6:V$6=4)*((T9:V9="Y")+(T9:V9="N"))*1)+SUMPRODUCT((T$6:V$6=5)*((T9:V9="Y")+(T9:V9="N"))*2))+1*(SUMPRODUCT((BJ$6:BQ$6=1)*((BJ9:BQ9="Y")+(BJ9:BQ9="N"))*2)+SUMPRODUCT((BJ$6:BQ$6=2)*((BJ9:BQ9="Y")+(BJ9:BQ9="N"))*1)+SUMPRODUCT((BJ$6:BQ$6=3)*((BJ9:BQ9="Y")+(BJ9:BQ9="N"))*1)+SUMPRODUCT((BJ$6:BQ$6=4)*((BJ9:BQ9="Y")+(BJ9:BQ9="N"))*1)+SUMPRODUCT((BJ$6:BQ$6=5)*((BJ9:BQ9="Y")+(BJ9:BQ9="N"))*2))} -> 24 | CK9: {=5*(SUMPRODUCT((T$6:V$6=1)*(T9:V9="Y")*2)+SUMPRODUCT((T$6:V$6=2)*(T9:V9="Y")*1)+SUMPRODUCT((T$6:V$6=3)*(T9:V9="Y")*1)+SUMPRODUCT((T$6:V$6=4)*(T9:V9="N")*1)+SUMPRODUCT((T$6:V$6=5)*(T9:V9="N")*2))+(SUMPRODUCT((BJ$6:BQ$6=1)*(BJ9:BQ9="Y")*2)+SUMPRODUCT((BJ$6:BQ$6=2)*(BJ9:BQ9="Y")*1)+SUMPRODUCT((BJ$6:BQ$6=3)*(BJ9:BQ9="Y")*1)+SUMPRODUCT((BJ$6:BQ$6=4)*(BJ9:BQ9="N")*1)+SUMPRODUCT((BJ$6:BQ$6=5)*(BJ9:BQ9="N")*2))} -> 24 | CL9: =COUNTA(T9:V9)+COUNTA(BJ9:BQ9) -> 11 | CM9: =SUM(COUNTIF(M9, $H$128)*$H$137)+(COUNTIF(M9, $H$129)*$H$137)+(COUNTIF(#REF!, $H$128)*$H$135)+(COUNTIF(#REF!, $H$129)*$H$135) -> #REF! | CN9: =SUM(COUNTIF(M9, $H$128)*$H$137)+(COUNTIF(#REF!, $H$128)*$H$135) -> #REF! | CO9: =COUNTA(M9)+COUNTA(#REF!) -> 2 | CP9: =SUM(COUNTIF(M9, $H$128)*$H$137)+(COUNTIF(M9, $H$129)*$H$137)+(COUNTIF(#REF!, $H$128)*$H$135)+(COUNTIF(#REF!, $H$129)*$H$135) -> #REF! | CQ9: =SUM(COUNTIF(M9, $H$128)*$H$137)+(COUNTIF(#REF!, $H$128)*$H$135) -> #REF! | CR9: =COUNTA(M9)+COUNTA(#REF!) -> 2
A10: =SUM((BT10/BS10)*100) -> 90.384615 | B10: =SUM(BY10/BX10)*100 -> 100 | C10: =SUM(CB10/CA10)*100 -> 75 | D10: =SUM(CE10/CD10)*100 -> 100 | E10: =SUM(CH10/CG10)*100 -> 100 | F10: =SUM(CK10/CJ10)*100 -> 100 | H10: Sen. | I10: Barrasso | J10: John | K10: WY | L10: R | M10: Y | N10: Y | O10: Y | P10: Y | Q10: Y | R10: Y | S10: Y | T10: Y | U10: Y | V10: Y | W10: Y | X10: Y | Y10: Y | Z10: Y | AA10: Y | AB10: Y | AC10: Y | AD10: Y | AE10: Y | AF10: Y | AG10: Y | AH10: Y | AI10: Y | AJ10: Y | AK10: Y | AL10: Y | AM10: Y | AN10: Y | AO10: Y | AP10: Y | AQ10: Y | AR10: Y | AS10: Y | AT10: Y | AU10: Y | AV10: Y | AW10: Y | AX10: Y | AY10: Y | AZ10: Y | BA10: Y | BB10: Y | BC10: Y | BD10: Y | BE10: Y | BF10: Y | BG10: Y | BH10: Y | BI10: Y | BJ10: Y | BK10: Y | BL10: Y | BM10: Y | BN10: Y | BO10: Y | BP10: Y | BQ10: Y | BR10: Y | BS10: {=5 * (SUMPRODUCT( (M$6:V$6=1)*((M10:V10="Y") + (M10:V10="N")) * 2 ) +SUMPRODUCT( (M$6:V$6=2) * ((M10:V10="Y") + (M10:V10="N")) * 1 ) + SUMPRODUCT( (M$6:V$6=3)*((M10:V10="Y")+(M10:V10="N"))*1 ) +SUMPRODUCT( (M$6:V$6=4 ) * ((M10:V10="Y") + (M10:V10="N")) * 1 )+SUMPRODUCT( (M$6:V$6=5) * ((M10:V10="Y")+(M10:V10="N")) * 2 ))+1*(SUMPRODUCT( (X$6:BQ$6=1) * ((X10:BQ10="Y") + (X10:BQ10="N")) * 2 ) +SUMPRODUCT( (X$6:BQ$6=2 ) * ((X10:BQ10="Y") + (X10:BQ10="N")) * 1 ) +SUMPRODUCT( (X$6:BQ$6=3) * ((X10:BQ10="Y") + (X10:BQ10="N")) * 1 ) +SUMPRODUCT( (X$6:BQ$6=4) * ((X10:BQ10="Y") + (X10:BQ10="N")) * 1 ) + SUMPRODUCT( (X$6:BQ$6=5) * ((X10:BQ10="Y") + (X10:BQ10="N")) * 2 ))} -> 104 | BT10: {=5 * (SUMPRODUCT( (M$6:V$6=1) * (M10:V10="Y") * 2 ) + SUMPRODUCT( (M$6:V$6=2) * (M10:V10="Y") * 1 ) +SUMPRODUCT( (M$6:V$6=3) * (M10:V10="Y") * 1 ) + SUMPRODUCT( (M$6:V$6=4) * (M10:V10="N") * 1 ) +SUMPRODUCT( (M$6:V$6=5) * (M10:V10="N") * 2 )) + (SUMPRODUCT( (X$6:BQ$6=1) * (X10:BQ10="Y") * 2 ) +SUMPRODUCT( (X$6:BQ$6=2) * (X10:BQ10="Y") * 1 ) +SUMPRODUCT( (X$6:BQ$6=3) * (X10:BQ10="Y") * 1 ) +SUMPRODUCT( (X$6:BQ$6=4) * (X10:BQ10="N") * 1 ) +SUMPRODUCT( (X$6:BQ$6=5) * (X10:BQ10="N") * 2 ))} -> 94 | BU10: =SUM(COUNTIF(M10:V10,$H$130)*$H$137)+(COUNTIF(X10:BQ10, $H$130)*$H$135) -> 0 | BV10: =COUNTA(M10) -> 1 | BX10: =5 * (SUMPRODUCT( (M$6:N$6=1)*((M10:N10="Y") + (M10:N10="N")) * 2 ) +SUMPRODUCT( (M$6:N$6=2) * ((M10:N10="Y") + (M10:N10="N")) * 1 ) + SUMPRODUCT( (M$6:N$6=3)*((M10:N10="Y")+(M10:N10="N"))*1 ) +SUMPRODUCT( (M$6:N$6=4 ) * ((M10:N10="Y") + (M10:N10="N")) * 1 )+SUMPRODUCT( (M$6:N$6=5) * ((M10:N10="Y")+(M10:N10="N")) * 2 ))+1*(SUMPRODUCT( (X$6:AC$6=1) * ((X10:AC10="Y") + (X10:AC10="N")) * 2 ) +SUMPRODUCT( (X$6:AC$6=2 ) * ((X10:AC10="Y") + (X10:AC10="N")) * 1 ) +SUMPRODUCT( (X$6:AC$6=3) * ((X10:AC10="Y") + (X10:AC10="N")) * 1 ) +SUMPRODUCT( (X$6:AC$6=4) * ((X10:AC10="Y") + (X10:AC10="N")) * 1 ) + SUMPRODUCT( (X$6:AC$6=5) * ((X10:AC10="Y") + (X10:AC10="N")) * 2 )) -> 17 | BY10: =5 * (SUMPRODUCT( (M$6:N$6=1) * (M10:N10="Y") * 2 ) + SUMPRODUCT( (M$6:N$6=2) * (M10:N10="Y") * 1 ) +SUMPRODUCT( (M$6:N$6=3) * (M10:N10="Y") * 1 ) + SUMPRODUCT( (M$6:N$6=4) * (M10:N10="N") * 1 ) +SUMPRODUCT( (M$6:N$6=5) * (M10:N10="N") * 2 )) + (SUMPRODUCT( (X$6:AC$6=1) * (X10:AC10="Y") * 2 ) +SUMPRODUCT( (X$6:AC$6=2) * (X10:AC10="Y") * 1 ) +SUMPRODUCT( (X$6:AC$6=3) * (X10:AC10="Y") * 1 ) +SUMPRODUCT( (X$6:AC$6=4) * (X10:AC10="N") * 1 ) +SUMPRODUCT( (X$6:AC$6=5) * (X10:AC10="N") * 2 )) -> 17 | BZ10: =COUNTA(M10:N10)+COUNTA(X10:AC10) -> 8 | CA10: =5 * (SUMPRODUCT( (O$6:R$6=1)*((O10:R10="Y") + (O10:R10="N")) * 2 ) +SUMPRODUCT( (O$6:R$6=2) * ((O10:R10="Y") + (O10:R10="N")) * 1 ) + SUMPRODUCT( (O$6:R$6=3)*((O10:R10="Y")+(O10:R10="N"))*1 ) +SUMPRODUCT( (O$6:R$6=4 ) * ((O10:R10="Y") + (O10:R10="N")) * 1 )+SUMPRODUCT( (O$6:R$6=5) * ((O10:R10="Y")+(O10:R10="N")) * 2 )) +1*(SUMPRODUCT( (AD$6:AQ$6=1) * ((AD10:AQ10="Y") + (AD10:AQ10="N")) * 2 ) +SUMPRODUCT( (AD$6:AQ$6=2 ) * ((AD10:AQ10="Y") + (AD10:AQ10="N")) * 1 ) +SUMPRODUCT( (AD$6:AQ$6=3) * ((AD10:AQ10="Y") + (AD10:AQ10="N")) * 1 ) +SUMPRODUCT( (AD$6:AQ$6=4) * ((AD10:AQ10="Y") + (AD10:AQ10="N")) * 1 ) + SUMPRODUCT( (AD$6:AQ$6=5) * ((AD10:AQ10="Y") + (AD10:AQ10="N")) * 2 )) -> 40 | CB10: {=5 * (SUMPRODUCT( (O$6:R$6=1) * (O10:R10="Y") * 2 ) + SUMPRODUCT( (O$6:R$6=2) * (O10:R10="Y") * 1 ) +SUMPRODUCT( (O$6:R$6=3) * (O10:R10="Y") * 1 ) + SUMPRODUCT( (O$6:R$6=4) * (O10:R10="N") * 1 ) +SUMPRODUCT( (O$6:R$6=5) * (O10:R10="N") * 2 )) + (SUMPRODUCT( (AD$6:AQ$6=1) * (AD10:AQ10="Y") * 2 ) +SUMPRODUCT( (AD$6:AQ$6=2) * (AD10:AQ10="Y") * 1 ) +SUMPRODUCT( (AD$6:AQ$6=3) * (AD10:AQ10="Y") * 1 ) +SUMPRODUCT( (AD$6:AQ$6=4) * (AD10:AQ10="N") * 1 ) +SUMPRODUCT( (AD$6:AQ$6=5) * (AD10:AQ10="N") * 2 ))} -> 30 | CC10: =COUNTA(O10:R10)+COUNTA(AD10:AQ10) -> 18 | CD10: =1*(SUMPRODUCT( (AR$6:AY$6=1) * ((AR10:AY10="Y") + (AR10:AY10="N")) * 2 ) +SUMPRODUCT( (AR$6:AY$6=2 ) * ((AR10:AY10="Y") + (AR10:AY10="N")) * 1 ) +SUMPRODUCT( (AR$6:AY$6=3) * ((AR10:AY10="Y") + (AR10:AY10="N")) * 1 ) +SUMPRODUCT( (AR$6:AY$6=4) * ((AR10:AY10="Y") + (AR10:AY10="N")) * 1 ) + SUMPRODUCT( (AR$6:AY$6=5) * ((AR10:AY10="Y") + (AR10:AY10="N")) * 2 )) -> 8 | CE10: =(SUMPRODUCT( (AR$6:AY$6=1) * (AR10:AY10="Y") * 2 ) +SUMPRODUCT( (AR$6:AY$6=2) * (AR10:AY10="Y") * 1 ) +SUMPRODUCT( (AR$6:AY$6=3) * (AR10:AY10="Y") * 1 ) +SUMPRODUCT( (AR$6:AY$6=4) * (AR10:AY10="N") * 1 ) +SUMPRODUCT( (AR$6:AY$6=5) * (AR10:AY10="N") * 2 )) -> 8 | CF10: =COUNTA(AR10:AY10) -> 8 | CG10: {=5*(SUMPRODUCT((S$6=1)*((S10="Y")+(S10="N"))*2)+SUMPRODUCT((S$6=2)*((S10="Y")+(S10="N"))*1)+SUMPRODUCT((S$6=3)*((S10="Y")+(S10="N"))*1)+SUMPRODUCT((S$6=4)*((S10="Y")+(S10="N"))*1)+SUMPRODUCT((S$6=5)*((S10="Y")+(S10="N"))*2))+1*(SUMPRODUCT((AZ$6:BI$6=1)*((AZ10:BI10="Y")+(AZ10:BI10="N"))*2)+SUMPRODUCT((AZ$6:BI$6=2)*((AZ10:BI10="Y")+(AZ10:BI10="N"))*1)+SUMPRODUCT((AZ$6:BI$6=3)*((AZ10:BI10="Y")+(AZ10:BI10="N"))*1)+SUMPRODUCT((AZ$6:BI$6=4)*((AZ10:BI10="Y")+(AZ10:BI10="N"))*1)+SUMPRODUCT((AZ$6:BI$6=5)*((AZ10:BI10="Y")+(AZ10:BI10="N"))*2))} -> 15 | CH10: {=5*(SUMPRODUCT((S$6=1)*(S10="Y")*2)+SUMPRODUCT((S$6=2)*(S10="Y")*1)+SUMPRODUCT((S$6=3)*(S10="Y")*1)+SUMPRODUCT((S$6=4)*(S10="N")*1)+SUMPRODUCT((S$6=5)*(S10="N")*2))+(SUMPRODUCT((AZ$6:BI$6=1)*(AZ10:BI10="Y")*2)+SUMPRODUCT((AZ$6:BI$6=2)*(AZ10:BI10="Y")*1)+SUMPRODUCT((AZ$6:BI$6=3)*(AZ10:BI10="Y")*1)+SUMPRODUCT((AZ$6:BI$6=4)*(AZ10:BI10="N")*1)+SUMPRODUCT((AZ$6:BI$6=5)*(AZ10:BI10="N")*2))} -> 15 | CI10: =COUNTA(S10)+COUNTA(AZ10:BI10) -> 11 | CJ10: {=5*(SUMPRODUCT((T$6:V$6=1)*((T10:V10="Y")+(T10:V10="N"))*2)+SUMPRODUCT((T$6:V$6=2)*((T10:V10="Y")+(T10:V10="N"))*1)+SUMPRODUCT((T$6:V$6=3)*((T10:V10="Y")+(T10:V10="N"))*1)+SUMPRODUCT((T$6:V$6=4)*((T10:V10="Y")+(T10:V10="N"))*1)+SUMPRODUCT((T$6:V$6=5)*((T10:V10="Y")+(T10:V10="N"))*2))+1*(SUMPRODUCT((BJ$6:BQ$6=1)*((BJ10:BQ10="Y")+(BJ10:BQ10="N"))*2)+SUMPRODUCT((BJ$6:BQ$6=2)*((BJ10:BQ10="Y")+(BJ10:BQ10="N"))*1)+SUMPRODUCT((BJ$6:BQ$6=3)*((BJ10:BQ10="Y")+(BJ10:BQ10="N"))*1)+SUMPRODUCT((BJ$6:BQ$6=4)*((BJ10:BQ10="Y")+(BJ10:BQ10="N"))*1)+SUMPRODUCT((BJ$6:BQ$6=5)*((BJ10:BQ10="Y")+(BJ10:BQ10="N"))*2))} -> 24 | CK10: {=5*(SUMPRODUCT((T$6:V$6=1)*(T10:V10="Y")*2)+SUMPRODUCT((T$6:V$6=2)*(T10:V10="Y")*1)+SUMPRODUCT((T$6:V$6=3)*(T10:V10="Y")*1)+SUMPRODUCT((T$6:V$6=4)*(T10:V10="N")*1)+SUMPRODUCT((T$6:V$6=5)*(T10:V10="N")*2))+(SUMPRODUCT((BJ$6:BQ$6=1)*(BJ10:BQ10="Y")*2)+SUMPRODUCT((BJ$6:BQ$6=2)*(BJ10:BQ10="Y")*1)+SUMPRODUCT((BJ$6:BQ$6=3)*(BJ10:BQ10="Y")*1)+SUMPRODUCT((BJ$6:BQ$6=4)*(BJ10:BQ10="N")*1)+SUMPRODUCT((BJ$6:BQ$6=5)*(BJ10:BQ10="N")*2))} -> 24 | CL10: =COUNTA(T10:V10)+COUNTA(BJ10:BQ10) -> 11 | CM10: =SUM(COUNTIF(M10, $H$128)*$H$137)+(COUNTIF(M10, $H$129)*$H$137)+(COUNTIF(#REF!, $H$128)*$H$135)+(COUNTIF(#REF!, $H$129)*$H$135) -> #REF! | CN10: =SUM(COUNTIF(M10, $H$128)*$H$137)+(COUNTIF(#REF!, $H$128)*$H$135) -> #REF! | CO10: =COUNTA(M10)+COUNTA(#REF!) -> 2 | CP10: =SUM(COUNTIF(M10, $H$128)*$H$137)+(COUNTIF(M10, $H$129)*$H$137)+(COUNTIF(#REF!, $H$128)*$H$135)+(COUNTIF(#REF!, $H$129)*$H$135) -> #REF! | CQ10: =SUM(COUNTIF(M10, $H$128)*$H$137)+(COUNTIF(#REF!, $H$128)*$H$135) -> #REF! | CR10: =COUNTA(M10)+COUNTA(#REF!) -> 2
A11: =SUM((BT11/BS11)*100) -> 90.09901 | B11: =SUM(BY11/BX11)*100 -> 100 | C11: =SUM(CB11/CA11)*100 -> 74.358974 | D11: =SUM(CE11/CD11)*100 -> 100 | E11: =SUM(CH11/CG11)*100 -> 100 | F11: =SUM(CK11/CJ11)*100 -> 100 | H11: Sen. | I11: Blackburn | J11: Marsha | K11: TN | L11: R | M11: Y | N11: Y | O11: Y | P11: Y | Q11: Y | R11: Y | S11: Y | T11: Y | U11: Y | V11: Y | W11: Y | X11: Y | Y11: Y | Z11: Y | AA11: Y | AB11: Y | AC11: Y | AD11: Y | AE11: Y | AF11: Y | AG11: NV | AH11: Y | AI11: Y | AJ11: Y | AK11: Y | AL11: Y | AM11: Y | AN11: Y | AO11: Y | AP11: Y | AQ11: Y | AR11: Y | AS11: Y | AT11: Y | AU11: Y | AV11: Y | AW11: Y | AX11: Y | AY11: Y | AZ11: Y | BA11: Y | BB11: NV | BC11: Y | BD11: Y | BE11: Y | BF11: Y | BG11: NV | BH11: Y | BI11: Y | BJ11: Y | BK11: Y | BL11: Y | BM11: Y | BN11: Y | BO11: Y | BP11: Y | BQ11: Y | BR11: Y | BS11: {=5 * (SUMPRODUCT( (M$6:V$6=1)*((M11:V11="Y") + (M11:V11="N")) * 2 ) +SUMPRODUCT( (M$6:V$6=2) * ((M11:V11="Y") + (M11:V11="N")) * 1 ) + SUMPRODUCT( (M$6:V$6=3)*((M11:V11="Y")+(M11:V11="N"))*1 ) +SUMPRODUCT( (M$6:V$6=4 ) * ((M11:V11="Y") + (M11:V11="N")) * 1 )+SUMPRODUCT( (M$6:V$6=5) * ((M11:V11="Y")+(M11:V11="N")) * 2 ))+1*(SUMPRODUCT( (X$6:BQ$6=1) * ((X11:BQ11="Y") + (X11:BQ11="N")) * 2 ) +SUMPRODUCT( (X$6:BQ$6=2 ) * ((X11:BQ11="Y") + (X11:BQ11="N")) * 1 ) +SUMPRODUCT( (X$6:BQ$6=3) * ((X11:BQ11="Y") + (X11:BQ11="N")) * 1 ) +SUMPRODUCT( (X$6:BQ$6=4) * ((X11:BQ11="Y") + (X11:BQ11="N")) * 1 ) + SUMPRODUCT( (X$6:BQ$6=5) * ((X11:BQ11="Y") + (X11:BQ11="N")) * 2 ))} -> 101 | BT11: {=5 * (SUMPRODUCT( (M$6:V$6=1) * (M11:V11="Y") * 2 ) + SUMPRODUCT( (M$6:V$6=2) * (M11:V11="Y") * 1 ) +SUMPRODUCT( (M$6:V$6=3) * (M11:V11="Y") * 1 ) + SUMPRODUCT( (M$6:V$6=4) * (M11:V11="N") * 1 ) +SUMPRODUCT( (M$6:V$6=5) * (M11:V11="N") * 2 )) + (SUMPRODUCT( (X$6:BQ$6=1) * (X11:BQ11="Y") * 2 ) +SUMPRODUCT( (X$6:BQ$6=2) * (X11:BQ11="Y") * 1 ) +SUMPRODUCT( (X$6:BQ$6=3) * (X11:BQ11="Y") * 1 ) +SUMPRODUCT( (X$6:BQ$6=4) * (X11:BQ11="N") * 1 ) +SUMPRODUCT( (X$6:BQ$6=5) * (X11:BQ11="N") * 2 ))} -> 91 | BU11: =SUM(COUNTIF(M11:V11,$H$130)*$H$137)+(COUNTIF(X11:BQ11, $H$130)*$H$135) -> 3 | BV11: =COUNTA(M11) -> 1 | BX11: =5 * (SUMPRODUCT( (M$6:N$6=1)*((M11:N11="Y") + (M11:N11="N")) * 2 ) +SUMPRODUCT( (M$6:N$6=2) * ((M11:N11="Y") + (M11:N11="N")) * 1 ) + SUMPRODUCT( (M$6:N$6=3)*((M11:N11="Y")+(M11:N11="N"))*1 ) +SUMPRODUCT( (M$6:N$6=4 ) * ((M11:N11="Y") + (M11:N11="N")) * 1 )+SUMPRODUCT( (M$6:N$6=5) * ((M11:N11="Y")+(M11:N11="N")) * 2 ))+1*(SUMPRODUCT( (X$6:AC$6=1) * ((X11:AC11="Y") + (X11:AC11="N")) * 2 ) +SUMPRODUCT( (X$6:AC$6=2 ) * ((X11:AC11="Y") + (X11:AC11="N")) * 1 ) +SUMPRODUCT( (X$6:AC$6=3) * ((X11:AC11="Y") + (X11:AC11="N")) * 1 ) +SUMPRODUCT( (X$6:AC$6=4) * ((X11:AC11="Y") + (X11:AC11="N")) * 1 ) + SUMPRODUCT( (X$6:AC$6=5) * ((X11:AC11="Y") + (X11:AC11="N")) * 2 )) -> 17 | BY11: =5 * (SUMPRODUCT( (M$6:N$6=1) * (M11:N11="Y") * 2 ) + SUMPRODUCT( (M$6:N$6=2) * (M11:N11="Y") * 1 ) +SUMPRODUCT( (M$6:N$6=3) * (M11:N11="Y") * 1 ) + SUMPRODUCT( (M$6:N$6=4) * (M11:N11="N") * 1 ) +SUMPRODUCT( (M$6:N$6=5) * (M11:N11="N") * 2 )) + (SUMPRODUCT( (X$6:AC$6=1) * (X11:AC11="Y") * 2 ) +SUMPRODUCT( (X$6:AC$6=2) * (X11:AC11="Y") * 1 ) +SUMPRODUCT( (X$6:AC$6=3) * (X11:AC11="Y") * 1 ) +SUMPRODUCT( (X$6:AC$6=4) * (X11:AC11="N") * 1 ) +SUMPRODUCT( (X$6:AC$6=5) * (X11:AC11="N") * 2 )) -> 17 | BZ11: =COUNTA(M11:N11)+COUNTA(X11:AC11) -> 8 | CA11: =5 * (SUMPRODUCT( (O$6:R$6=1)*((O11:R11="Y") + (O11:R11="N")) * 2 ) +SUMPRODUCT( (O$6:R$6=2) * ((O11:R11="Y") + (O11:R11="N")) * 1 ) + SUMPRODUCT( (O$6:R$6=3)*((O11:R11="Y")+(O11:R11="N"))*1 ) +SUMPRODUCT( (O$6:R$6=4 ) * ((O11:R11="Y") + (O11:R11="N")) * 1 )+SUMPRODUCT( (O$6:R$6=5) * ((O11:R11="Y")+(O11:R11="N")) * 2 )) +1*(SUMPRODUCT( (AD$6:AQ$6=1) * ((AD11:AQ11="Y") + (AD11:AQ11="N")) * 2 ) +SUMPRODUCT( (AD$6:AQ$6=2 ) * ((AD11:AQ11="Y") + (AD11:AQ11="N")) * 1 ) +SUMPRODUCT( (AD$6:AQ$6=3) * ((AD11:AQ11="Y") + (AD11:AQ11="N")) * 1 ) +SUMPRODUCT( (AD$6:AQ$6=4) * ((AD11:AQ11="Y") + (AD11:AQ11="N")) * 1 ) + SUMPRODUCT( (AD$6:AQ$6=5) * ((AD11:AQ11="Y") + (AD11:AQ11="N")) * 2 )) -> 39 | CB11: =5 * (SUMPRODUCT( (O$6:R$6=1) * (O11:R11="Y") * 2 ) + SUMPRODUCT( (O$6:R$6=2) * (O11:R11="Y") * 1 ) +SUMPRODUCT( (O$6:R$6=3) * (O11:R11="Y") * 1 ) + SUMPRODUCT( (O$6:R$6=4) * (O11:R11="N") * 1 ) +SUMPRODUCT( (O$6:R$6=5) * (O11:R11="N") * 2 )) + (SUMPRODUCT( (AD$6:AQ$6=1) * (AD11:AQ11="Y") * 2 ) +SUMPRODUCT( (AD$6:AQ$6=2) * (AD11:AQ11="Y") * 1 ) +SUMPRODUCT( (AD$6:AQ$6=3) * (AD11:AQ11="Y") * 1 ) +SUMPRODUCT( (AD$6:AQ$6=4) * (AD11:AQ11="N") * 1 ) +SUMPRODUCT( (AD$6:AQ$6=5) * (AD11:AQ11="N") * 2 )) -> 29 | CC11: =COUNTA(O11:R11)+COUNTA(AD11:AQ11) -> 18 | CD11: =1*(SUMPRODUCT( (AR$6:AY$6=1) * ((AR11:AY11="Y") + (AR11:AY11="N")) * 2 ) +SUMPRODUCT( (AR$6:AY$6=2 ) * ((AR11:AY11="Y") + (AR11:AY11="N")) * 1 ) +SUMPRODUCT( (AR$6:AY$6=3) * ((AR11:AY11="Y") + (AR11:AY11="N")) * 1 ) +SUMPRODUCT( (AR$6:AY$6=4) * ((AR11:AY11="Y") + (AR11:AY11="N")) * 1 ) + SUMPRODUCT( (AR$6:AY$6=5) * ((AR11:AY11="Y") + (AR11:AY11="N")) * 2 )) -> 8 | CE11: =(SUMPRODUCT( (AR$6:AY$6=1) * (AR11:AY11="Y") * 2 ) +SUMPRODUCT( (AR$6:AY$6=2) * (AR11:AY11="Y") * 1 ) +SUMPRODUCT( (AR$6:AY$6=3) * (AR11:AY11="Y") * 1 ) +SUMPRODUCT( (AR$6:AY$6=4) * (AR11:AY11="N") * 1 ) +SUMPRODUCT( (AR$6:AY$6=5) * (AR11:AY11="N") * 2 )) -> 8 | CF11: =COUNTA(AR11:AY11) -> 8 | CG11: {=5*(SUMPRODUCT((S$6=1)*((S11="Y")+(S11="N"))*2)+SUMPRODUCT((S$6=2)*((S11="Y")+(S11="N"))*1)+SUMPRODUCT((S$6=3)*((S11="Y")+(S11="N"))*1)+SUMPRODUCT((S$6=4)*((S11="Y")+(S11="N"))*1)+SUMPRODUCT((S$6=5)*((S11="Y")+(S11="N"))*2))+1*(SUMPRODUCT((AZ$6:BI$6=1)*((AZ11:BI11="Y")+(AZ11:BI11="N"))*2)+SUMPRODUCT((AZ$6:BI$6=2)*((AZ11:BI11="Y")+(AZ11:BI11="N"))*1)+SUMPRODUCT((AZ$6:BI$6=3)*((AZ11:BI11="Y")+(AZ11:BI11="N"))*1)+SUMPRODUCT((AZ$6:BI$6=4)*((AZ11:BI11="Y")+(AZ11:BI11="N"))*1)+SUMPRODUCT((AZ$6:BI$6=5)*((AZ11:BI11="Y")+(AZ11:BI11="N"))*2))} -> 13 | CH11: {=5*(SUMPRODUCT((S$6=1)*(S11="Y")*2)+SUMPRODUCT((S$6=2)*(S11="Y")*1)+SUMPRODUCT((S$6=3)*(S11="Y")*1)+SUMPRODUCT((S$6=4)*(S11="N")*1)+SUMPRODUCT((S$6=5)*(S11="N")*2))+(SUMPRODUCT((AZ$6:BI$6=1)*(AZ11:BI11="Y")*2)+SUMPRODUCT((AZ$6:BI$6=2)*(AZ11:BI11="Y")*1)+SUMPRODUCT((AZ$6:BI$6=3)*(AZ11:BI11="Y")*1)+SUMPRODUCT((AZ$6:BI$6=4)*(AZ11:BI11="N")*1)+SUMPRODUCT((AZ$6:BI$6=5)*(AZ11:BI11="N")*2))} -> 13 | CI11: =COUNTA(S11)+COUNTA(AZ11:BI11) -> 11 | CJ11: {=5*(SUMPRODUCT((T$6:V$6=1)*((T11:V11="Y")+(T11:V11="N"))*2)+SUMPRODUCT((T$6:V$6=2)*((T11:V11="Y")+(T11:V11="N"))*1)+SUMPRODUCT((T$6:V$6=3)*((T11:V11="Y")+(T11:V11="N"))*1)+SUMPRODUCT((T$6:V$6=4)*((T11:V11="Y")+(T11:V11="N"))*1)+SUMPRODUCT((T$6:V$6=5)*((T11:V11="Y")+(T11:V11="N"))*2))+1*(SUMPRODUCT((BJ$6:BQ$6=1)*((BJ11:BQ11="Y")+(BJ11:BQ11="N"))*2)+SUMPRODUCT((BJ$6:BQ$6=2)*((BJ11:BQ11="Y")+(BJ11:BQ11="N"))*1)+SUMPRODUCT((BJ$6:BQ$6=3)*((BJ11:BQ11="Y")+(BJ11:BQ11="N"))*1)+SUMPRODUCT((BJ$6:BQ$6=4)*((BJ11:BQ11="Y")+(BJ11:BQ11="N"))*1)+SUMPRODUCT((BJ$6:BQ$6=5)*((BJ11:BQ11="Y")+(BJ11:BQ11="N"))*2))} -> 24 | CK11: {=5*(SUMPRODUCT((T$6:V$6=1)*(T11:V11="Y")*2)+SUMPRODUCT((T$6:V$6=2)*(T11:V11="Y")*1)+SUMPRODUCT((T$6:V$6=3)*(T11:V11="Y")*1)+SUMPRODUCT((T$6:V$6=4)*(T11:V11="N")*1)+SUMPRODUCT((T$6:V$6=5)*(T11:V11="N")*2))+(SUMPRODUCT((BJ$6:BQ$6=1)*(BJ11:BQ11="Y")*2)+SUMPRODUCT((BJ$6:BQ$6=2)*(BJ11:BQ11="Y")*1)+SUMPRODUCT((BJ$6:BQ$6=3)*(BJ11:BQ11="Y")*1)+SUMPRODUCT((BJ$6:BQ$6=4)*(BJ11:BQ11="N")*1)+SUMPRODUCT((BJ$6:BQ$6=5)*(BJ11:BQ11="N")*2))} -> 24 | CL11: =COUNTA(T11:V11)+COUNTA(BJ11:BQ11) -> 11 | CM11: =SUM(COUNTIF(M11, $H$128)*$H$137)+(COUNTIF(M11, $H$129)*$H$137)+(COUNTIF(#REF!, $H$128)*$H$135)+(COUNTIF(#REF!, $H$129)*$H$135) -> #REF! | CN11: =SUM(COUNTIF(M11, $H$128)*$H$137)+(COUNTIF(#REF!, $H$128)*$H$135) -> #REF! | CO11: =COUNTA(M11)+COUNTA(#REF!) -> 2 | CP11: =SUM(COUNTIF(M11, $H$128)*$H$137)+(COUNTIF(M11, $H$129)*$H$137)+(COUNTIF(#REF!, $H$128)*$H$135)+(COUNTIF(#REF!, $H$129)*$H$135) -> #REF! | CQ11: =SUM(COUNTIF(M11, $H$128)*$H$137)+(COUNTIF(#REF!, $H$128)*$H$135) -> #REF! | CR11: =COUNTA(M11)+COUNTA(#REF!) -> 2
A12: =SUM((BT12/BS12)*100) -> 90.384615 | B12: =SUM(BY12/BX12)*100 -> 100 | C12: =SUM(CB12/CA12)*100 -> 75 | D12: =SUM(CE12/CD12)*100 -> 100 | E12: =SUM(CH12/CG12)*100 -> 100 | F12: =SUM(CK12/CJ12)*100 -> 100 | H12: Sen. | I12: Boozman | J12: John | K12: AR | L12: R | M12: Y | N12: Y | O12: Y | P12: Y | Q12: Y | R12: Y | S12: Y | T12: Y | U12: Y | V12: Y | W12: Y | X12: Y | Y12: Y | Z12: Y | AA12: Y | AB12: Y | AC12: Y | AD12: Y | AE12: Y | AF12: Y | AG12: Y | AH12: Y | AI12: Y | AJ12: Y | AK12: Y | AL12: Y | AM12: Y | AN12: Y | AO12: Y | AP12: Y | AQ12: Y | AR12: Y | AS12: Y | AT12: Y | AU12: Y | AV12: Y | AW12: Y | AX12: Y | AY12: Y | AZ12: Y | BA12: Y | BB12: Y | BC12: Y | BD12: Y | BE12: Y | BF12: Y | BG12: Y | BH12: Y | BI12: Y | BJ12: Y | BK12: Y | BL12: Y | BM12: Y | BN12: Y | BO12: Y | BP12: Y | BQ12: Y | BR12: Y | BS12: {=5 * (SUMPRODUCT( (M$6:V$6=1)*((M12:V12="Y") + (M12:V12="N")) * 2 ) +SUMPRODUCT( (M$6:V$6=2) * ((M12:V12="Y") + (M12:V12="N")) * 1 ) + SUMPRODUCT( (M$6:V$6=3)*((M12:V12="Y")+(M12:V12="N"))*1 ) +SUMPRODUCT( (M$6:V$6=4 ) * ((M12:V12="Y") + (M12:V12="N")) * 1 )+SUMPRODUCT( (M$6:V$6=5) * ((M12:V12="Y")+(M12:V12="N")) * 2 ))+1*(SUMPRODUCT( (X$6:BQ$6=1) * ((X12:BQ12="Y") + (X12:BQ12="N")) * 2 ) +SUMPRODUCT( (X$6:BQ$6=2 ) * ((X12:BQ12="Y") + (X12:BQ12="N")) * 1 ) +SUMPRODUCT( (X$6:BQ$6=3) * ((X12:BQ12="Y") + (X12:BQ12="N")) * 1 ) +SUMPRODUCT( (X$6:BQ$6=4) * ((X12:BQ12="Y") + (X12:BQ12="N")) * 1 ) + SUMPRODUCT( (X$6:BQ$6=5) * ((X12:BQ12="Y") + (X12:BQ12="N")) * 2 ))} -> 104 | BT12: {=5 * (SUMPRODUCT( (M$6:V$6=1) * (M12:V12="Y") * 2 ) + SUMPRODUCT( (M$6:V$6=2) * (M12:V12="Y") * 1 ) +SUMPRODUCT( (M$6:V$6=3) * (M12:V12="Y") * 1 ) + SUMPRODUCT( (M$6:V$6=4) * (M12:V12="N") * 1 ) +SUMPRODUCT( (M$6:V$6=5) * (M12:V12="N") * 2 )) + (SUMPRODUCT( (X$6:BQ$6=1) * (X12:BQ12="Y") * 2 ) +SUMPRODUCT( (X$6:BQ$6=2) * (X12:BQ12="Y") * 1 ) +SUMPRODUCT( (X$6:BQ$6=3) * (X12:BQ12="Y") * 1 ) +SUMPRODUCT( (X$6:BQ$6=4) * (X12:BQ12="N") * 1 ) +SUMPRODUCT( (X$6:BQ$6=5) * (X12:BQ12="N") * 2 ))} -> 94 | BU12: =SUM(COUNTIF(M12:V12,$H$130)*$H$137)+(COUNTIF(X12:BQ12, $H$130)*$H$135) -> 0 | BV12: =COUNTA(M12) -> 1 | BX12: =5 * (SUMPRODUCT( (M$6:N$6=1)*((M12:N12="Y") + (M12:N12="N")) * 2 ) +SUMPRODUCT( (M$6:N$6=2) * ((M12:N12="Y") + (M12:N12="N")) * 1 ) + SUMPRODUCT( (M$6:N$6=3)*((M12:N12="Y")+(M12:N12="N"))*1 ) +SUMPRODUCT( (M$6:N$6=4 ) * ((M12:N12="Y") + (M12:N12="N")) * 1 )+SUMPRODUCT( (M$6:N$6=5) * ((M12:N12="Y")+(M12:N12="N")) * 2 ))+1*(SUMPRODUCT( (X$6:AC$6=1) * ((X12:AC12="Y") + (X12:AC12="N")) * 2 ) +SUMPRODUCT( (X$6:AC$6=2 ) * ((X12:AC12="Y") + (X12:AC12="N")) * 1 ) +SUMPRODUCT( (X$6:AC$6=3) * ((X12:AC12="Y") + (X12:AC12="N")) * 1 ) +SUMPRODUCT( (X$6:AC$6=4) * ((X12:AC12="Y") + (X12:AC12="N")) * 1 ) + SUMPRODUCT( (X$6:AC$6=5) * ((X12:AC12="Y") + (X12:AC12="N")) * 2 )) -> 17 | BY12: =5 * (SUMPRODUCT( (M$6:N$6=1) * (M12:N12="Y") * 2 ) + SUMPRODUCT( (M$6:N$6=2) * (M12:N12="Y") * 1 ) +SUMPRODUCT( (M$6:N$6=3) * (M12:N12="Y") * 1 ) + SUMPRODUCT( (M$6:N$6=4) * (M12:N12="N") * 1 ) +SUMPRODUCT( (M$6:N$6=5) * (M12:N12="N") * 2 )) + (SUMPRODUCT( (X$6:AC$6=1) * (X12:AC12="Y") * 2 ) +SUMPRODUCT( (X$6:AC$6=2) * (X12:AC12="Y") * 1 ) +SUMPRODUCT( (X$6:AC$6=3) * (X12:AC12="Y") * 1 ) +SUMPRODUCT( (X$6:AC$6=4) * (X12:AC12="N") * 1 ) +SUMPRODUCT( (X$6:AC$6=5) * (X12:AC12="N") * 2 )) -> 17 | BZ12: =COUNTA(M12:N12)+COUNTA(X12:AC12) -> 8 | CA12: =5 * (SUMPRODUCT( (O$6:R$6=1)*((O12:R12="Y") + (O12:R12="N")) * 2 ) +SUMPRODUCT( (O$6:R$6=2) * ((O12:R12="Y") + (O12:R12="N")) * 1 ) + SUMPRODUCT( (O$6:R$6=3)*((O12:R12="Y")+(O12:R12="N"))*1 ) +SUMPRODUCT( (O$6:R$6=4 ) * ((O12:R12="Y") + (O12:R12="N")) * 1 )+SUMPRODUCT( (O$6:R$6=5) * ((O12:R12="Y")+(O12:R12="N")) * 2 )) +1*(SUMPRODUCT( (AD$6:AQ$6=1) * ((AD12:AQ12="Y") + (AD12:AQ12="N")) * 2 ) +SUMPRODUCT( (AD$6:AQ$6=2 ) * ((AD12:AQ12="Y") + (AD12:AQ12="N")) * 1 ) +SUMPRODUCT( (AD$6:AQ$6=3) * ((AD12:AQ12="Y") + (AD12:AQ12="N")) * 1 ) +SUMPRODUCT( (AD$6:AQ$6=4) * ((AD12:AQ12="Y") + (AD12:AQ12="N")) * 1 ) + SUMPRODUCT( (AD$6:AQ$6=5) * ((AD12:AQ12="Y") + (AD12:AQ12="N")) * 2 )) -> 40 | CB12: =5 * (SUMPRODUCT( (O$6:R$6=1) * (O12:R12="Y") * 2 ) + SUMPRODUCT( (O$6:R$6=2) * (O12:R12="Y") * 1 ) +SUMPRODUCT( (O$6:R$6=3) * (O12:R12="Y") * 1 ) + SUMPRODUCT( (O$6:R$6=4) * (O12:R12="N") * 1 ) +SUMPRODUCT( (O$6:R$6=5) * (O12:R12="N") * 2 )) + (SUMPRODUCT( (AD$6:AQ$6=1) * (AD12:AQ12="Y") * 2 ) +SUMPRODUCT( (AD$6:AQ$6=2) * (AD12:AQ12="Y") * 1 ) +SUMPRODUCT( (AD$6:AQ$6=3) * (AD12:AQ12="Y") * 1 ) +SUMPRODUCT( (AD$6:AQ$6=4) * (AD12:AQ12="N") * 1 ) +SUMPRODUCT( (AD$6:AQ$6=5) * (AD12:AQ12="N") * 2 )) -> 30 | CC12: =COUNTA(O12:R12)+COUNTA(AD12:AQ12) -> 18 | CD12: =1*(SUMPRODUCT( (AR$6:AY$6=1) * ((AR12:AY12="Y") + (AR12:AY12="N")) * 2 ) +SUMPRODUCT( (AR$6:AY$6=2 ) * ((AR12:AY12="Y") + (AR12:AY12="N")) * 1 ) +SUMPRODUCT( (AR$6:AY$6=3) * ((AR12:AY12="Y") + (AR12:AY12="N")) * 1 ) +SUMPRODUCT( (AR$6:AY$6=4) * ((AR12:AY12="Y") + (AR12:AY12="N")) * 1 ) + SUMPRODUCT( (AR$6:AY$6=5) * ((AR12:AY12="Y") + (AR12:AY12="N")) * 2 )) -> 8 | CE12: =(SUMPRODUCT( (AR$6:AY$6=1) * (AR12:AY12="Y") * 2 ) +SUMPRODUCT( (AR$6:AY$6=2) * (AR12:AY12="Y") * 1 ) +SUMPRODUCT( (AR$6:AY$6=3) * (AR12:AY12="Y") * 1 ) +SUMPRODUCT( (AR$6:AY$6=4) * (AR12:AY12="N") * 1 ) +SUMPRODUCT( (AR$6:AY$6=5) * (AR12:AY12="N") * 2 )) -> 8 | CF12: =COUNTA(AR12:AY12) -> 8 | CG12: {=5*(SUMPRODUCT((S$6=1)*((S12="Y")+(S12="N"))*2)+SUMPRODUCT((S$6=2)*((S12="Y")+(S12="N"))*1)+SUMPRODUCT((S$6=3)*((S12="Y")+(S12="N"))*1)+SUMPRODUCT((S$6=4)*((S12="Y")+(S12="N"))*1)+SUMPRODUCT((S$6=5)*((S12="Y")+(S12="N"))*2))+1*(SUMPRODUCT((AZ$6:BI$6=1)*((AZ12:BI12="Y")+(AZ12:BI12="N"))*2)+SUMPRODUCT((AZ$6:BI$6=2)*((AZ12:BI12="Y")+(AZ12:BI12="N"))*1)+SUMPRODUCT((AZ$6:BI$6=3)*((AZ12:BI12="Y")+(AZ12:BI12="N"))*1)+SUMPRODUCT((AZ$6:BI$6=4)*((AZ12:BI12="Y")+(AZ12:BI12="N"))*1)+SUMPRODUCT((AZ$6:BI$6=5)*((AZ12:BI12="Y")+(AZ12:BI12="N"))*2))} -> 15 | CH12: {=5*(SUMPRODUCT((S$6=1)*(S12="Y")*2)+SUMPRODUCT((S$6=2)*(S12="Y")*1)+SUMPRODUCT((S$6=3)*(S12="Y")*1)+SUMPRODUCT((S$6=4)*(S12="N")*1)+SUMPRODUCT((S$6=5)*(S12="N")*2))+(SUMPRODUCT((AZ$6:BI$6=1)*(AZ12:BI12="Y")*2)+SUMPRODUCT((AZ$6:BI$6=2)*(AZ12:BI12="Y")*1)+SUMPRODUCT((AZ$6:BI$6=3)*(AZ12:BI12="Y")*1)+SUMPRODUCT((AZ$6:BI$6=4)*(AZ12:BI12="N")*1)+SUMPRODUCT((AZ$6:BI$6=5)*(AZ12:BI12="N")*2))} -> 15 | CI12: =COUNTA(S12)+COUNTA(AZ12:BI12) -> 11 | CJ12: {=5*(SUMPRODUCT((T$6:V$6=1)*((T12:V12="Y")+(T12:V12="N"))*2)+SUMPRODUCT((T$6:V$6=2)*((T12:V12="Y")+(T12:V12="N"))*1)+SUMPRODUCT((T$6:V$6=3)*((T12:V12="Y")+(T12:V12="N"))*1)+SUMPRODUCT((T$6:V$6=4)*((T12:V12="Y")+(T12:V12="N"))*1)+SUMPRODUCT((T$6:V$6=5)*((T12:V12="Y")+(T12:V12="N"))*2))+1*(SUMPRODUCT((BJ$6:BQ$6=1)*((BJ12:BQ12="Y")+(BJ12:BQ12="N"))*2)+SUMPRODUCT((BJ$6:BQ$6=2)*((BJ12:BQ12="Y")+(BJ12:BQ12="N"))*1)+SUMPRODUCT((BJ$6:BQ$6=3)*((BJ12:BQ12="Y")+(BJ12:BQ12="N"))*1)+SUMPRODUCT((BJ$6:BQ$6=4)*((BJ12:BQ12="Y")+(BJ12:BQ12="N"))*1)+SUMPRODUCT((BJ$6:BQ$6=5)*((BJ12:BQ12="Y")+(BJ12:BQ12="N"))*2))} -> 24 | CK12: {=5*(SUMPRODUCT((T$6:V$6=1)*(T12:V12="Y")*2)+SUMPRODUCT((T$6:V$6=2)*(T12:V12="Y")*1)+SUMPRODUCT((T$6:V$6=3)*(T12:V12="Y")*1)+SUMPRODUCT((T$6:V$6=4)*(T12:V12="N")*1)+SUMPRODUCT((T$6:V$6=5)*(T12:V12="N")*2))+(SUMPRODUCT((BJ$6:BQ$6=1)*(BJ12:BQ12="Y")*2)+SUMPRODUCT((BJ$6:BQ$6=2)*(BJ12:BQ12="Y")*1)+SUMPRODUCT((BJ$6:BQ$6=3)*(BJ12:BQ12="Y")*1)+SUMPRODUCT((BJ$6:BQ$6=4)*(BJ12:BQ12="N")*1)+SUMPRODUCT((BJ$6:BQ$6=5)*(BJ12:BQ12="N")*2))} -> 24 | CL12: =COUNTA(T12:V12)+COUNTA(BJ12:BQ12) -> 11 | CM12: =SUM(COUNTIF(M12, $H$128)*$H$137)+(COUNTIF(M12, $H$129)*$H$137)+(COUNTIF(#REF!, $H$128)*$H$135)+(COUNTIF(#REF!, $H$129)*$H$135) -> #REF! | CN12: =SUM(COUNTIF(M12, $H$128)*$H$137)+(COUNTIF(#REF!, $H$128)*$H$135) -> #REF! | CO12: =COUNTA(M12)+COUNTA(#REF!) -> 2 | CP12: =SUM(COUNTIF(M12, $H$128)*$H$137)+(COUNTIF(M12, $H$129)*$H$137)+(COUNTIF(#REF!, $H$128)*$H$135)+(COUNTIF(#REF!, $H$129)*$H$135) -> #REF! | CQ12: =SUM(COUNTIF(M12, $H$128)*$H$137)+(COUNTIF(#REF!, $H$128)*$H$135) -> #REF! | CR12: =COUNTA(M12)+COUNTA(#REF!) -> 2
A13: =SUM((BT13/BS13)*100) -> 89.583333 | B13: =SUM(BY13/BX13)*100 -> 100 | C13: =SUM(CB13/CA13)*100 -> 75 | D13: =SUM(CE13/CD13)*100 -> 100 | E13: =SUM(CH13/CG13)*100 -> 100 | F13: =SUM(CK13/CJ13)*100 -> 100 | H13: Sen. | I13: Britt | J13: Katie Boyd | K13: AL | L13: R | M13: Y | N13: Y | O13: Y | P13: Y | Q13: Y | R13: Y | S13: Y | T13: Y | U13: Y | V13: NV | W13: Y | X13: Y | Y13: Y | Z13: NV | AA13: Y | AB13: Y | AC13: Y | AD13: Y | AE13: Y | AF13: Y | AG13: Y | AH13: Y | AI13: Y | AJ13: Y | AK13: Y | AL13: Y | AM13: Y | AN13: Y | AO13: Y | AP13: Y | AQ13: Y | AR13: Y | AS13: Y | AT13: Y | AU13: Y | AV13: Y | AW13: Y | AX13: Y | AY13: Y | AZ13: Y | BA13: Y | BB13: Y | BC13: Y | BD13: Y | BE13: Y | BF13: Y | BG13: Y | BH13: Y | BI13: Y | BJ13: NV | BK13: Y | BL13: Y | BM13: Y | BN13: NV | BO13: Y | BP13: Y | BQ13: Y | BR13: Y | BS13: {=5 * (SUMPRODUCT( (M$6:V$6=1)*((M13:V13="Y") + (M13:V13="N")) * 2 ) +SUMPRODUCT( (M$6:V$6=2) * ((M13:V13="Y") + (M13:V13="N")) * 1 ) + SUMPRODUCT( (M$6:V$6=3)*((M13:V13="Y")+(M13:V13="N"))*1 ) +SUMPRODUCT( (M$6:V$6=4 ) * ((M13:V13="Y") + (M13:V13="N")) * 1 )+SUMPRODUCT( (M$6:V$6=5) * ((M13:V13="Y")+(M13:V13="N")) * 2 ))+1*(SUMPRODUCT( (X$6:BQ$6=1) * ((X13:BQ13="Y") + (X13:BQ13="N")) * 2 ) +SUMPRODUCT( (X$6:BQ$6=2 ) * ((X13:BQ13="Y") + (X13:BQ13="N")) * 1 ) +SUMPRODUCT( (X$6:BQ$6=3) * ((X13:BQ13="Y") + (X13:BQ13="N")) * 1 ) +SUMPRODUCT( (X$6:BQ$6=4) * ((X13:BQ13="Y") + (X13:BQ13="N")) * 1 ) + SUMPRODUCT( (X$6:BQ$6=5) * ((X13:BQ13="Y") + (X13:BQ13="N")) * 2 ))} -> 96 | BT13: {=5 * (SUMPRODUCT( (M$6:V$6=1) * (M13:V13="Y") * 2 ) + SUMPRODUCT( (M$6:V$6=2) * (M13:V13="Y") * 1 ) +SUMPRODUCT( (M$6:V$6=3) * (M13:V13="Y") * 1 ) + SUMPRODUCT( (M$6:V$6=4) * (M13:V13="N") * 1 ) +SUMPRODUCT( (M$6:V$6=5) * (M13:V13="N") * 2 )) + (SUMPRODUCT( (X$6:BQ$6=1) * (X13:BQ13="Y") * 2 ) +SUMPRODUCT( (X$6:BQ$6=2) * (X13:BQ13="Y") * 1 ) +SUMPRODUCT( (X$6:BQ$6=3) * (X13:BQ13="Y") * 1 ) +SUMPRODUCT( (X$6:BQ$6=4) * (X13:BQ13="N") * 1 ) +SUMPRODUCT( (X$6:BQ$6=5) * (X13:BQ13="N") * 2 ))} -> 86 | BU13: =SUM(COUNTIF(M13:V13,$H$130)*$H$137)+(COUNTIF(X13:BQ13, $H$130)*$H$135) -> 8 | BV13: =COUNTA(M13) -> 1 | BX13: =5 * (SUMPRODUCT( (M$6:N$6=1)*((M13:N13="Y") + (M13:N13="N")) * 2 ) +SUMPRODUCT( (M$6:N$6=2) * ((M13:N13="Y") + (M13:N13="N")) * 1 ) + SUMPRODUCT( (M$6:N$6=3)*((M13:N13="Y")+(M13:N13="N"))*1 ) +SUMPRODUCT( (M$6:N$6=4 ) * ((M13:N13="Y") + (M13:N13="N")) * 1 )+SUMPRODUCT( (M$6:N$6=5) * ((M13:N13="Y")+(M13:N13="N")) * 2 ))+1*(SUMPRODUCT( (X$6:AC$6=1) * ((X13:AC13="Y") + (X13:AC13="N")) * 2 ) +SUMPRODUCT( (X$6:AC$6=2 ) * ((X13:AC13="Y") + (X13:AC13="N")) * 1 ) +SUMPRODUCT( (X$6:AC$6=3) * ((X13:AC13="Y") + (X13:AC13="N")) * 1 ) +SUMPRODUCT( (X$6:AC$6=4) * ((X13:AC13="Y") + (X13:AC13="N")) * 1 ) + SUMPRODUCT( (X$6:AC$6=5) * ((X13:AC13="Y") + (X13:AC13="N")) * 2 )) -> 16 | BY13: =5 * (SUMPRODUCT( (M$6:N$6=1) * (M13:N13="Y") * 2 ) + SUMPRODUCT( (M$6:N$6=2) * (M13:N13="Y") * 1 ) +SUMPRODUCT( (M$6:N$6=3) * (M13:N13="Y") * 1 ) + SUMPRODUCT( (M$6:N$6=4) * (M13:N13="N") * 1 ) +SUMPRODUCT( (M$6:N$6=5) * (M13:N13="N") * 2 )) + (SUMPRODUCT( (X$6:AC$6=1) * (X13:AC13="Y") * 2 ) +SUMPRODUCT( (X$6:AC$6=2) * (X13:AC13="Y") * 1 ) +SUMPRODUCT( (X$6:AC$6=3) * (X13:AC13="Y") * 1 ) +SUMPRODUCT( (X$6:AC$6=4) * (X13:AC13="N") * 1 ) +SUMPRODUCT( (X$6:AC$6=5) * (X13:AC13="N") * 2 )) -> 16 | BZ13: =COUNTA(M13:N13)+COUNTA(X13:AC13) -> 8 | CA13: =5 * (SUMPRODUCT( (O$6:R$6=1)*((O13:R13="Y") + (O13:R13="N")) * 2 ) +SUMPRODUCT( (O$6:R$6=2) * ((O13:R13="Y") + (O13:R13="N")) * 1 ) + SUMPRODUCT( (O$6:R$6=3)*((O13:R13="Y")+(O13:R13="N"))*1 ) +SUMPRODUCT( (O$6:R$6=4 ) * ((O13:R13="Y") + (O13:R13="N")) * 1 )+SUMPRODUCT( (O$6:R$6=5) * ((O13:R13="Y")+(O13:R13="N")) * 2 )) +1*(SUMPRODUCT( (AD$6:AQ$6=1) * ((AD13:AQ13="Y") + (AD13:AQ13="N")) * 2 ) +SUMPRODUCT( (AD$6:AQ$6=2 ) * ((AD13:AQ13="Y") + (AD13:AQ13="N")) * 1 ) +SUMPRODUCT( (AD$6:AQ$6=3) * ((AD13:AQ13="Y") + (AD13:AQ13="N")) * 1 ) +SUMPRODUCT( (AD$6:AQ$6=4) * ((AD13:AQ13="Y") + (AD13:AQ13="N")) * 1 ) + SUMPRODUCT( (AD$6:AQ$6=5) * ((AD13:AQ13="Y") + (AD13:AQ13="N")) * 2 )) -> 40 | CB13: =5 * (SUMPRODUCT( (O$6:R$6=1) * (O13:R13="Y") * 2 ) + SUMPRODUCT( (O$6:R$6=2) * (O13:R13="Y") * 1 ) +SUMPRODUCT( (O$6:R$6=3) * (O13:R13="Y") * 1 ) + SUMPRODUCT( (O$6:R$6=4) * (O13:R13="N") * 1 ) +SUMPRODUCT( (O$6:R$6=5) * (O13:R13="N") * 2 )) + (SUMPRODUCT( (AD$6:AQ$6=1) * (AD13:AQ13="Y") * 2 ) +SUMPRODUCT( (AD$6:AQ$6=2) * (AD13:AQ13="Y") * 1 ) +SUMPRODUCT( (AD$6:AQ$6=3) * (AD13:AQ13="Y") * 1 ) +SUMPRODUCT( (AD$6:AQ$6=4) * (AD13:AQ13="N") * 1 ) +SUMPRODUCT( (AD$6:AQ$6=5) * (AD13:AQ13="N") * 2 )) -> 30 | CC13: =COUNTA(O13:R13)+COUNTA(AD13:AQ13) -> 18 | CD13: =1*(SUMPRODUCT( (AR$6:AY$6=1) * ((AR13:AY13="Y") + (AR13:AY13="N")) * 2 ) +SUMPRODUCT( (AR$6:AY$6=2 ) * ((AR13:AY13="Y") + (AR13:AY13="N")) * 1 ) +SUMPRODUCT( (AR$6:AY$6=3) * ((AR13:AY13="Y") + (AR13:AY13="N")) * 1 ) +SUMPRODUCT( (AR$6:AY$6=4) * ((AR13:AY13="Y") + (AR13:AY13="N")) * 1 ) + SUMPRODUCT( (AR$6:AY$6=5) * ((AR13:AY13="Y") + (AR13:AY13="N")) * 2 )) -> 8 | CE13: =(SUMPRODUCT( (AR$6:AY$6=1) * (AR13:AY13="Y") * 2 ) +SUMPRODUCT( (AR$6:AY$6=2) * (AR13:AY13="Y") * 1 ) +SUMPRODUCT( (AR$6:AY$6=3) * (AR13:AY13="Y") * 1 ) +SUMPRODUCT( (AR$6:AY$6=4) * (AR13:AY13="N") * 1 ) +SUMPRODUCT( (AR$6:AY$6=5) * (AR13:AY13="N") * 2 )) -> 8 | CF13: =COUNTA(AR13:AY13) -> 8 | CG13: {=5*(SUMPRODUCT((S$6=1)*((S13="Y")+(S13="N"))*2)+SUMPRODUCT((S$6=2)*((S13="Y")+(S13="N"))*1)+SUMPRODUCT((S$6=3)*((S13="Y")+(S13="N"))*1)+SUMPRODUCT((S$6=4)*((S13="Y")+(S13="N"))*1)+SUMPRODUCT((S$6=5)*((S13="Y")+(S13="N"))*2))+1*(SUMPRODUCT((AZ$6:BI$6=1)*((AZ13:BI13="Y")+(AZ13:BI13="N"))*2)+SUMPRODUCT((AZ$6:BI$6=2)*((AZ13:BI13="Y")+(AZ13:BI13="N"))*1)+SUMPRODUCT((AZ$6:BI$6=3)*((AZ13:BI13="Y")+(AZ13:BI13="N"))*1)+SUMPRODUCT((AZ$6:BI$6=4)*((AZ13:BI13="Y")+(AZ13:BI13="N"))*1)+SUMPRODUCT((AZ$6:BI$6=5)*((AZ13:BI13="Y")+(AZ13:BI13="N"))*2))} -> 15 | CH13: {=5*(SUMPRODUCT((S$6=1)*(S13="Y")*2)+SUMPRODUCT((S$6=2)*(S13="Y")*1)+SUMPRODUCT((S$6=3)*(S13="Y")*1)+SUMPRODUCT((S$6=4)*(S13="N")*1)+SUMPRODUCT((S$6=5)*(S13="N")*2))+(SUMPRODUCT((AZ$6:BI$6=1)*(AZ13:BI13="Y")*2)+SUMPRODUCT((AZ$6:BI$6=2)*(AZ13:BI13="Y")*1)+SUMPRODUCT((AZ$6:BI$6=3)*(AZ13:BI13="Y")*1)+SUMPRODUCT((AZ$6:BI$6=4)*(AZ13:BI13="N")*1)+SUMPRODUCT((AZ$6:BI$6=5)*(AZ13:BI13="N")*2))} -> 15 | CI13: =COUNTA(S13)+COUNTA(AZ13:BI13) -> 11 | CJ13: {=5*(SUMPRODUCT((T$6:V$6=1)*((T13:V13="Y")+(T13:V13="N"))*2)+SUMPRODUCT((T$6:V$6=2)*((T13:V13="Y")+(T13:V13="N"))*1)+SUMPRODUCT((T$6:V$6=3)*((T13:V13="Y")+(T13:V13="N"))*1)+SUMPRODUCT((T$6:V$6=4)*((T13:V13="Y")+(T13:V13="N"))*1)+SUMPRODUCT((T$6:V$6=5)*((T13:V13="Y")+(T13:V13="N"))*2))+1*(SUMPRODUCT((BJ$6:BQ$6=1)*((BJ13:BQ13="Y")+(BJ13:BQ13="N"))*2)+SUMPRODUCT((BJ$6:BQ$6=2)*((BJ13:BQ13="Y")+(BJ13:BQ13="N"))*1)+SUMPRODUCT((BJ$6:BQ$6=3)*((BJ13:BQ13="Y")+(BJ13:BQ13="N"))*1)+SUMPRODUCT((BJ$6:BQ$6=4)*((BJ13:BQ13="Y")+(BJ13:BQ13="N"))*1)+SUMPRODUCT((BJ$6:BQ$6=5)*((BJ13:BQ13="Y")+(BJ13:BQ13="N"))*2))} -> 17 | CK13: {=5*(SUMPRODUCT((T$6:V$6=1)*(T13:V13="Y")*2)+SUMPRODUCT((T$6:V$6=2)*(T13:V13="Y")*1)+SUMPRODUCT((T$6:V$6=3)*(T13:V13="Y")*1)+SUMPRODUCT((T$6:V$6=4)*(T13:V13="N")*1)+SUMPRODUCT((T$6:V$6=5)*(T13:V13="N")*2))+(SUMPRODUCT((BJ$6:BQ$6=1)*(BJ13:BQ13="Y")*2)+SUMPRODUCT((BJ$6:BQ$6=2)*(BJ13:BQ13="Y")*1)+SUMPRODUCT((BJ$6:BQ$6=3)*(BJ13:BQ13="Y")*1)+SUMPRODUCT((BJ$6:BQ$6=4)*(BJ13:BQ13="N")*1)+SUMPRODUCT((BJ$6:BQ$6=5)*(BJ13:BQ13="N")*2))} -> 17 | CL13: =COUNTA(T13:V13)+COUNTA(BJ13:BQ13) -> 11 | CM13: =SUM(COUNTIF(M13, $H$128)*$H$137)+(COUNTIF(M13, $H$129)*$H$137)+(COUNTIF(#REF!, $H$128)*$H$135)+(COUNTIF(#REF!, $H$129)*$H$135) -> #REF! | CN13: =SUM(COUNTIF(M13, $H$128)*$H$137)+(COUNTIF(#REF!, $H$128)*$H$135) -> #REF! | CO13: =COUNTA(M13)+COUNTA(#REF!) -> 2 | CP13: =SUM(COUNTIF(M13, $H$128)*$H$137)+(COUNTIF(M13, $H$129)*$H$137)+(COUNTIF(#REF!, $H$128)*$H$135)+(COUNTIF(#REF!, $H$129)*$H$135) -> #REF! | CQ13: =SUM(COUNTIF(M13, $H$128)*$H$137)+(COUNTIF(#REF!, $H$128)*$H$135) -> #REF! | CR13: =COUNTA(M13)+COUNTA(#REF!) -> 2
A14: =SUM((BT14/BS14)*100) -> 89.89899 | B14: =SUM(BY14/BX14)*100 -> 100 | C14: =SUM(CB14/CA14)*100 -> 75 | D14: =SUM(CE14/CD14)*100 -> 100 | E14: =SUM(CH14/CG14)*100 -> 100 | F14: =SUM(CK14/CJ14)*100 -> 100 | H14: Sen. | I14: Budd | J14: Ted | K14: NC | L14: R | M14: Y | N14: Y | O14: Y | P14: Y | Q14: Y | R14: Y | S14: Y | T14: Y | U14: NV | V14: Y | W14: Y | X14: Y | Y14: Y | Z14: Y | AA14: Y | AB14: Y | AC14: Y | AD14: Y | AE14: Y | AF14: Y | AG14: Y | AH14: Y | AI14: Y | AJ14: Y | AK14: Y | AL14: Y | AM14: Y | AN14: Y | AO14: Y | AP14: Y | AQ14: Y | AR14: Y | AS14: Y | AT14: Y | AU14: Y | AV14: Y | AW14: Y | AX14: Y | AY14: Y | AZ14: Y | BA14: Y | BB14: Y | BC14: Y | BD14: Y | BE14: Y | BF14: Y | BG14: Y | BH14: Y | BI14: Y | BJ14: Y | BK14: Y | BL14: Y | BM14: Y | BN14: Y | BO14: Y | BP14: Y | BQ14: Y | BR14: Y | BS14: {=5 * (SUMPRODUCT( (M$6:V$6=1)*((M14:V14="Y") + (M14:V14="N")) * 2 ) +SUMPRODUCT( (M$6:V$6=2) * ((M14:V14="Y") + (M14:V14="N")) * 1 ) + SUMPRODUCT( (M$6:V$6=3)*((M14:V14="Y")+(M14:V14="N"))*1 ) +SUMPRODUCT( (M$6:V$6=4 ) * ((M14:V14="Y") + (M14:V14="N")) * 1 )+SUMPRODUCT( (M$6:V$6=5) * ((M14:V14="Y")+(M14:V14="N")) * 2 ))+1*(SUMPRODUCT( (X$6:BQ$6=1) * ((X14:BQ14="Y") + (X14:BQ14="N")) * 2 ) +SUMPRODUCT( (X$6:BQ$6=2 ) * ((X14:BQ14="Y") + (X14:BQ14="N")) * 1 ) +SUMPRODUCT( (X$6:BQ$6=3) * ((X14:BQ14="Y") + (X14:BQ14="N")) * 1 ) +SUMPRODUCT( (X$6:BQ$6=4) * ((X14:BQ14="Y") + (X14:BQ14="N")) * 1 ) + SUMPRODUCT( (X$6:BQ$6=5) * ((X14:BQ14="Y") + (X14:BQ14="N")) * 2 ))} -> 99 | BT14: {=5 * (SUMPRODUCT( (M$6:V$6=1) * (M14:V14="Y") * 2 ) + SUMPRODUCT( (M$6:V$6=2) * (M14:V14="Y") * 1 ) +SUMPRODUCT( (M$6:V$6=3) * (M14:V14="Y") * 1 ) + SUMPRODUCT( (M$6:V$6=4) * (M14:V14="N") * 1 ) +SUMPRODUCT( (M$6:V$6=5) * (M14:V14="N") * 2 )) + (SUMPRODUCT( (X$6:BQ$6=1) * (X14:BQ14="Y") * 2 ) +SUMPRODUCT( (X$6:BQ$6=2) * (X14:BQ14="Y") * 1 ) +SUMPRODUCT( (X$6:BQ$6=3) * (X14:BQ14="Y") * 1 ) +SUMPRODUCT( (X$6:BQ$6=4) * (X14:BQ14="N") * 1 ) +SUMPRODUCT( (X$6:BQ$6=5) * (X14:BQ14="N") * 2 ))} -> 89 | BU14: =SUM(COUNTIF(M14:V14,$H$130)*$H$137)+(COUNTIF(X14:BQ14, $H$130)*$H$135) -> 5 | BV14: =COUNTA(M14) -> 1 | BX14: =5 * (SUMPRODUCT( (M$6:N$6=1)*((M14:N14="Y") + (M14:N14="N")) * 2 ) +SUMPRODUCT( (M$6:N$6=2) * ((M14:N14="Y") + (M14:N14="N")) * 1 ) + SUMPRODUCT( (M$6:N$6=3)*((M14:N14="Y")+(M14:N14="N"))*1 ) +SUMPRODUCT( (M$6:N$6=4 ) * ((M14:N14="Y") + (M14:N14="N")) * 1 )+SUMPRODUCT( (M$6:N$6=5) * ((M14:N14="Y")+(M14:N14="N")) * 2 ))+1*(SUMPRODUCT( (X$6:AC$6=1) * ((X14:AC14="Y") + (X14:AC14="N")) * 2 ) +SUMPRODUCT( (X$6:AC$6=2 ) * ((X14:AC14="Y") + (X14:AC14="N")) * 1 ) +SUMPRODUCT( (X$6:AC$6=3) * ((X14:AC14="Y") + (X14:AC14="N")) * 1 ) +SUMPRODUCT( (X$6:AC$6=4) * ((X14:AC14="Y") + (X14:AC14="N")) * 1 ) + SUMPRODUCT( (X$6:AC$6=5) * ((X14:AC14="Y") + (X14:AC14="N")) * 2 )) -> 17 | BY14: =5 * (SUMPRODUCT( (M$6:N$6=1) * (M14:N14="Y") * 2 ) + SUMPRODUCT( (M$6:N$6=2) * (M14:N14="Y") * 1 ) +SUMPRODUCT( (M$6:N$6=3) * (M14:N14="Y") * 1 ) + SUMPRODUCT( (M$6:N$6=4) * (M14:N14="N") * 1 ) +SUMPRODUCT( (M$6:N$6=5) * (M14:N14="N") * 2 )) + (SUMPRODUCT( (X$6:AC$6=1) * (X14:AC14="Y") * 2 ) +SUMPRODUCT( (X$6:AC$6=2) * (X14:AC14="Y") * 1 ) +SUMPRODUCT( (X$6:AC$6=3) * (X14:AC14="Y") * 1 ) +SUMPRODUCT( (X$6:AC$6=4) * (X14:AC14="N") * 1 ) +SUMPRODUCT( (X$6:AC$6=5) * (X14:AC14="N") * 2 )) -> 17 | BZ14: =COUNTA(M14:N14)+COUNTA(X14:AC14) -> 8 | CA14: =5 * (SUMPRODUCT( (O$6:R$6=1)*((O14:R14="Y") + (O14:R14="N")) * 2 ) +SUMPRODUCT( (O$6:R$6=2) * ((O14:R14="Y") + (O14:R14="N")) * 1 ) + SUMPRODUCT( (O$6:R$6=3)*((O14:R14="Y")+(O14:R14="N"))*1 ) +SUMPRODUCT( (O$6:R$6=4 ) * ((O14:R14="Y") + (O14:R14="N")) * 1 )+SUMPRODUCT( (O$6:R$6=5) * ((O14:R14="Y")+(O14:R14="N")) * 2 )) +1*(SUMPRODUCT( (AD$6:AQ$6=1) * ((AD14:AQ14="Y") + (AD14:AQ14="N")) * 2 ) +SUMPRODUCT( (AD$6:AQ$6=2 ) * ((AD14:AQ14="Y") + (AD14:AQ14="N")) * 1 ) +SUMPRODUCT( (AD$6:AQ$6=3) * ((AD14:AQ14="Y") + (AD14:AQ14="N")) * 1 ) +SUMPRODUCT( (AD$6:AQ$6=4) * ((AD14:AQ14="Y") + (AD14:AQ14="N")) * 1 ) + SUMPRODUCT( (AD$6:AQ$6=5) * ((AD14:AQ14="Y") + (AD14:AQ14="N")) * 2 )) -> 40 | CB14: =5 * (SUMPRODUCT( (O$6:R$6=1) * (O14:R14="Y") * 2 ) + SUMPRODUCT( (O$6:R$6=2) * (O14:R14="Y") * 1 ) +SUMPRODUCT( (O$6:R$6=3) * (O14:R14="Y") * 1 ) + SUMPRODUCT( (O$6:R$6=4) * (O14:R14="N") * 1 ) +SUMPRODUCT( (O$6:R$6=5) * (O14:R14="N") * 2 )) + (SUMPRODUCT( (AD$6:AQ$6=1) * (AD14:AQ14="Y") * 2 ) +SUMPRODUCT( (AD$6:AQ$6=2) * (AD14:AQ14="Y") * 1 ) +SUMPRODUCT( (AD$6:AQ$6=3) * (AD14:AQ14="Y") * 1 ) +SUMPRODUCT( (AD$6:AQ$6=4) * (AD14:AQ14="N") * 1 ) +SUMPRODUCT( (AD$6:AQ$6=5) * (AD14:AQ14="N") * 2 )) -> 30 | CC14: =COUNTA(O14:R14)+COUNTA(AD14:AQ14) -> 18 | CD14: =1*(SUMPRODUCT( (AR$6:AY$6=1) * ((AR14:AY14="Y") + (AR14:AY14="N")) * 2 ) +SUMPRODUCT( (AR$6:AY$6=2 ) * ((AR14:AY14="Y") + (AR14:AY14="N")) * 1 ) +SUMPRODUCT( (AR$6:AY$6=3) * ((AR14:AY14="Y") + (AR14:AY14="N")) * 1 ) +SUMPRODUCT( (AR$6:AY$6=4) * ((AR14:AY14="Y") + (AR14:AY14="N")) * 1 ) + SUMPRODUCT( (AR$6:AY$6=5) * ((AR14:AY14="Y") + (AR14:AY14="N")) * 2 )) -> 8 | CE14: =(SUMPRODUCT( (AR$6:AY$6=1) * (AR14:AY14="Y") * 2 ) +SUMPRODUCT( (AR$6:AY$6=2) * (AR14:AY14="Y") * 1 ) +SUMPRODUCT( (AR$6:AY$6=3) * (AR14:AY14="Y") * 1 ) +SUMPRODUCT( (AR$6:AY$6=4) * (AR14:AY14="N") * 1 ) +SUMPRODUCT( (AR$6:AY$6=5) * (AR14:AY14="N") * 2 )) -> 8 | CF14: =COUNTA(AR14:AY14) -> 8 | CG14: {=5*(SUMPRODUCT((S$6=1)*((S14="Y")+(S14="N"))*2)+SUMPRODUCT((S$6=2)*((S14="Y")+(S14="N"))*1)+SUMPRODUCT((S$6=3)*((S14="Y")+(S14="N"))*1)+SUMPRODUCT((S$6=4)*((S14="Y")+(S14="N"))*1)+SUMPRODUCT((S$6=5)*((S14="Y")+(S14="N"))*2))+1*(SUMPRODUCT((AZ$6:BI$6=1)*((AZ14:BI14="Y")+(AZ14:BI14="N"))*2)+SUMPRODUCT((AZ$6:BI$6=2)*((AZ14:BI14="Y")+(AZ14:BI14="N"))*1)+SUMPRODUCT((AZ$6:BI$6=3)*((AZ14:BI14="Y")+(AZ14:BI14="N"))*1)+SUMPRODUCT((AZ$6:BI$6=4)*((AZ14:BI14="Y")+(AZ14:BI14="N"))*1)+SUMPRODUCT((AZ$6:BI$6=5)*((AZ14:BI14="Y")+(AZ14:BI14="N"))*2))} -> 15 | CH14: {=5*(SUMPRODUCT((S$6=1)*(S14="Y")*2)+SUMPRODUCT((S$6=2)*(S14="Y")*1)+SUMPRODUCT((S$6=3)*(S14="Y")*1)+SUMPRODUCT((S$6=4)*(S14="N")*1)+SUMPRODUCT((S$6=5)*(S14="N")*2))+(SUMPRODUCT((AZ$6:BI$6=1)*(AZ14:BI14="Y")*2)+SUMPRODUCT((AZ$6:BI$6=2)*(AZ14:BI14="Y")*1)+SUMPRODUCT((AZ$6:BI$6=3)*(AZ14:BI14="Y")*1)+SUMPRODUCT((AZ$6:BI$6=4)*(AZ14:BI14="N")*1)+SUMPRODUCT((AZ$6:BI$6=5)*(AZ14:BI14="N")*2))} -> 15 | CI14: =COUNTA(S14)+COUNTA(AZ14:BI14) -> 11 | CJ14: {=5*(SUMPRODUCT((T$6:V$6=1)*((T14:V14="Y")+(T14:V14="N"))*2)+SUMPRODUCT((T$6:V$6=2)*((T14:V14="Y")+(T14:V14="N"))*1)+SUMPRODUCT((T$6:V$6=3)*((T14:V14="Y")+(T14:V14="N"))*1)+SUMPRODUCT((T$6:V$6=4)*((T14:V14="Y")+(T14:V14="N"))*1)+SUMPRODUCT((T$6:V$6=5)*((T14:V14="Y")+(T14:V14="N"))*2))+1*(SUMPRODUCT((BJ$6:BQ$6=1)*((BJ14:BQ14="Y")+(BJ14:BQ14="N"))*2)+SUMPRODUCT((BJ$6:BQ$6=2)*((BJ14:BQ14="Y")+(BJ14:BQ14="N"))*1)+SUMPRODUCT((BJ$6:BQ$6=3)*((BJ14:BQ14="Y")+(BJ14:BQ14="N"))*1)+SUMPRODUCT((BJ$6:BQ$6=4)*((BJ14:BQ14="Y")+(BJ14:BQ14="N"))*1)+SUMPRODUCT((BJ$6:BQ$6=5)*((BJ14:BQ14="Y")+(BJ14:BQ14="N"))*2))} -> 19 | CK14: {=5*(SUMPRODUCT((T$6:V$6=1)*(T14:V14="Y")*2)+SUMPRODUCT((T$6:V$6=2)*(T14:V14="Y")*1)+SUMPRODUCT((T$6:V$6=3)*(T14:V14="Y")*1)+SUMPRODUCT((T$6:V$6=4)*(T14:V14="N")*1)+SUMPRODUCT((T$6:V$6=5)*(T14:V14="N")*2))+(SUMPRODUCT((BJ$6:BQ$6=1)*(BJ14:BQ14="Y")*2)+SUMPRODUCT((BJ$6:BQ$6=2)*(BJ14:BQ14="Y")*1)+SUMPRODUCT((BJ$6:BQ$6=3)*(BJ14:BQ14="Y")*1)+SUMPRODUCT((BJ$6:BQ$6=4)*(BJ14:BQ14="N")*1)+SUMPRODUCT((BJ$6:BQ$6=5)*(BJ14:BQ14="N")*2))} -> 19 | CL14: =COUNTA(T14:V14)+COUNTA(BJ14:BQ14) -> 11 | CM14: =SUM(COUNTIF(M14, $H$128)*$H$137)+(COUNTIF(M14, $H$129)*$H$137)+(COUNTIF(#REF!, $H$128)*$H$135)+(COUNTIF(#REF!, $H$129)*$H$135) -> #REF! | CN14: =SUM(COUNTIF(M14, $H$128)*$H$137)+(COUNTIF(#REF!, $H$128)*$H$135) -> #REF! | CO14: =COUNTA(M14)+COUNTA(#REF!) -> 2 | CP14: =SUM(COUNTIF(M14, $H$128)*$H$137)+(COUNTIF(M14, $H$129)*$H$137)+(COUNTIF(#REF!, $H$128)*$H$135)+(COUNTIF(#REF!, $H$129)*$H$135) -> #REF! | CQ14: =SUM(COUNTIF(M14, $H$128)*$H$137)+(COUNTIF(#REF!, $H$128)*$H$135) -> #REF! | CR14: =COUNTA(M14)+COUNTA(#REF!) -> 2
A15: =SUM((BT15/BS15)*100) -> 90.196078 | B15: =SUM(BY15/BX15)*100 -> 100 | C15: =SUM(CB15/CA15)*100 -> 73.684211 | D15: =SUM(CE15/CD15)*100 -> 100 | E15: =SUM(CH15/CG15)*100 -> 100 | F15: =SUM(CK15/CJ15)*100 -> 100 | H15: Sen. | I15: Capito | J15: Shelley Moore | K15: WV | L15: R | M15: Y | N15: Y | O15: Y | P15: Y | Q15: Y | R15: Y | S15: Y | T15: Y | U15: Y | V15: Y | W15: Y | X15: Y | Y15: Y | Z15: Y | AA15: Y | AB15: Y | AC15: Y | AD15: Y | AE15: Y | AF15: Y | AG15: Y | AH15: Y | AI15: Y | AJ15: Y | AK15: Y | AL15: Y | AM15: Y | AN15: Y | AO15: NV | AP15: Y | AQ15: NV | AR15: Y | AS15: Y | AT15: Y | AU15: Y | AV15: Y | AW15: Y | AX15: Y | AY15: Y | AZ15: Y | BA15: Y | BB15: Y | BC15: Y | BD15: Y | BE15: Y | BF15: Y | BG15: Y | BH15: Y | BI15: Y | BJ15: Y | BK15: Y | BL15: Y | BM15: Y | BN15: Y | BO15: Y | BP15: Y | BQ15: Y | BR15: Y | BS15: {=5 * (SUMPRODUCT( (M$6:V$6=1)*((M15:V15="Y") + (M15:V15="N")) * 2 ) +SUMPRODUCT( (M$6:V$6=2) * ((M15:V15="Y") + (M15:V15="N")) * 1 ) + SUMPRODUCT( (M$6:V$6=3)*((M15:V15="Y")+(M15:V15="N"))*1 ) +SUMPRODUCT( (M$6:V$6=4 ) * ((M15:V15="Y") + (M15:V15="N")) * 1 )+SUMPRODUCT( (M$6:V$6=5) * ((M15:V15="Y")+(M15:V15="N")) * 2 ))+1*(SUMPRODUCT( (X$6:BQ$6=1) * ((X15:BQ15="Y") + (X15:BQ15="N")) * 2 ) +SUMPRODUCT( (X$6:BQ$6=2 ) * ((X15:BQ15="Y") + (X15:BQ15="N")) * 1 ) +SUMPRODUCT( (X$6:BQ$6=3) * ((X15:BQ15="Y") + (X15:BQ15="N")) * 1 ) +SUMPRODUCT( (X$6:BQ$6=4) * ((X15:BQ15="Y") + (X15:BQ15="N")) * 1 ) + SUMPRODUCT( (X$6:BQ$6=5) * ((X15:BQ15="Y") + (X15:BQ15="N")) * 2 ))} -> 102 | BT15: {=5 * (SUMPRODUCT( (M$6:V$6=1) * (M15:V15="Y") * 2 ) + SUMPRODUCT( (M$6:V$6=2) * (M15:V15="Y") * 1 ) +SUMPRODUCT( (M$6:V$6=3) * (M15:V15="Y") * 1 ) + SUMPRODUCT( (M$6:V$6=4) * (M15:V15="N") * 1 ) +SUMPRODUCT( (M$6:V$6=5) * (M15:V15="N") * 2 )) + (SUMPRODUCT( (X$6:BQ$6=1) * (X15:BQ15="Y") * 2 ) +SUMPRODUCT( (X$6:BQ$6=2) * (X15:BQ15="Y") * 1 ) +SUMPRODUCT( (X$6:BQ$6=3) * (X15:BQ15="Y") * 1 ) +SUMPRODUCT( (X$6:BQ$6=4) * (X15:BQ15="N") * 1 ) +SUMPRODUCT( (X$6:BQ$6=5) * (X15:BQ15="N") * 2 ))} -> 92 | BU15: =SUM(COUNTIF(M15:V15,$H$130)*$H$137)+(COUNTIF(X15:BQ15, $H$130)*$H$135) -> 2 | BV15: =COUNTA(M15) -> 1 | BX15: =5 * (SUMPRODUCT( (M$6:N$6=1)*((M15:N15="Y") + (M15:N15="N")) * 2 ) +SUMPRODUCT( (M$6:N$6=2) * ((M15:N15="Y") + (M15:N15="N")) * 1 ) + SUMPRODUCT( (M$6:N$6=3)*((M15:N15="Y")+(M15:N15="N"))*1 ) +SUMPRODUCT( (M$6:N$6=4 ) * ((M15:N15="Y") + (M15:N15="N")) * 1 )+SUMPRODUCT( (M$6:N$6=5) * ((M15:N15="Y")+(M15:N15="N")) * 2 ))+1*(SUMPRODUCT( (X$6:AC$6=1) * ((X15:AC15="Y") + (X15:AC15="N")) * 2 ) +SUMPRODUCT( (X$6:AC$6=2 ) * ((X15:AC15="Y") + (X15:AC15="N")) * 1 ) +SUMPRODUCT( (X$6:AC$6=3) * ((X15:AC15="Y") + (X15:AC15="N")) * 1 ) +SUMPRODUCT( (X$6:AC$6=4) * ((X15:AC15="Y") + (X15:AC15="N")) * 1 ) + SUMPRODUCT( (X$6:AC$6=5) * ((X15:AC15="Y") + (X15:AC15="N")) * 2 )) -> 17 | BY15: =5 * (SUMPRODUCT( (M$6:N$6=1) * (M15:N15="Y") * 2 ) + SUMPRODUCT( (M$6:N$6=2) * (M15:N15="Y") * 1 ) +SUMPRODUCT( (M$6:N$6=3) * (M15:N15="Y") * 1 ) + SUMPRODUCT( (M$6:N$6=4) * (M15:N15="N") * 1 ) +SUMPRODUCT( (M$6:N$6=5) * (M15:N15="N") * 2 )) + (SUMPRODUCT( (X$6:AC$6=1) * (X15:AC15="Y") * 2 ) +SUMPRODUCT( (X$6:AC$6=2) * (X15:AC15="Y") * 1 ) +SUMPRODUCT( (X$6:AC$6=3) * (X15:AC15="Y") * 1 ) +SUMPRODUCT( (X$6:AC$6=4) * (X15:AC15="N") * 1 ) +SUMPRODUCT( (X$6:AC$6=5) * (X15:AC15="N") * 2 )) -> 17 | BZ15: =COUNTA(M15:N15)+COUNTA(X15:AC15) -> 8 | CA15: =5 * (SUMPRODUCT( (O$6:R$6=1)*((O15:R15="Y") + (O15:R15="N")) * 2 ) +SUMPRODUCT( (O$6:R$6=2) * ((O15:R15="Y") + (O15:R15="N")) * 1 ) + SUMPRODUCT( (O$6:R$6=3)*((O15:R15="Y")+(O15:R15="N"))*1 ) +SUMPRODUCT( (O$6:R$6=4 ) * ((O15:R15="Y") + (O15:R15="N")) * 1 )+SUMPRODUCT( (O$6:R$6=5) * ((O15:R15="Y")+(O15:R15="N")) * 2 )) +1*(SUMPRODUCT( (AD$6:AQ$6=1) * ((AD15:AQ15="Y") + (AD15:AQ15="N")) * 2 ) +SUMPRODUCT( (AD$6:AQ$6=2 ) * ((AD15:AQ15="Y") + (AD15:AQ15="N")) * 1 ) +SUMPRODUCT( (AD$6:AQ$6=3) * ((AD15:AQ15="Y") + (AD15:AQ15="N")) * 1 ) +SUMPRODUCT( (AD$6:AQ$6=4) * ((AD15:AQ15="Y") + (AD15:AQ15="N")) * 1 ) + SUMPRODUCT( (AD$6:AQ$6=5) * ((AD15:AQ15="Y") + (AD15:AQ15="N")) * 2 )) -> 38 | CB15: =5 * (SUMPRODUCT( (O$6:R$6=1) * (O15:R15="Y") * 2 ) + SUMPRODUCT( (O$6:R$6=2) * (O15:R15="Y") * 1 ) +SUMPRODUCT( (O$6:R$6=3) * (O15:R15="Y") * 1 ) + SUMPRODUCT( (O$6:R$6=4) * (O15:R15="N") * 1 ) +SUMPRODUCT( (O$6:R$6=5) * (O15:R15="N") * 2 )) + (SUMPRODUCT( (AD$6:AQ$6=1) * (AD15:AQ15="Y") * 2 ) +SUMPRODUCT( (AD$6:AQ$6=2) * (AD15:AQ15="Y") * 1 ) +SUMPRODUCT( (AD$6:AQ$6=3) * (AD15:AQ15="Y") * 1 ) +SUMPRODUCT( (AD$6:AQ$6=4) * (AD15:AQ15="N") * 1 ) +SUMPRODUCT( (AD$6:AQ$6=5) * (AD15:AQ15="N") * 2 )) -> 28 | CC15: =COUNTA(O15:R15)+COUNTA(AD15:AQ15) -> 18 | CD15: =1*(SUMPRODUCT( (AR$6:AY$6=1) * ((AR15:AY15="Y") + (AR15:AY15="N")) * 2 ) +SUMPRODUCT( (AR$6:AY$6=2 ) * ((AR15:AY15="Y") + (AR15:AY15="N")) * 1 ) +SUMPRODUCT( (AR$6:AY$6=3) * ((AR15:AY15="Y") + (AR15:AY15="N")) * 1 ) +SUMPRODUCT( (AR$6:AY$6=4) * ((AR15:AY15="Y") + (AR15:AY15="N")) * 1 ) + SUMPRODUCT( (AR$6:AY$6=5) * ((AR15:AY15="Y") + (AR15:AY15="N")) * 2 )) -> 8 | CE15: =(SUMPRODUCT( (AR$6:AY$6=1) * (AR15:AY15="Y") * 2 ) +SUMPRODUCT( (AR$6:AY$6=2) * (AR15:AY15="Y") * 1 ) +SUMPRODUCT( (AR$6:AY$6=3) * (AR15:AY15="Y") * 1 ) +SUMPRODUCT( (AR$6:AY$6=4) * (AR15:AY15="N") * 1 ) +SUMPRODUCT( (AR$6:AY$6=5) * (AR15:AY15="N") * 2 )) -> 8 | CF15: =COUNTA(AR15:AY15) -> 8 | CG15: {=5*(SUMPRODUCT((S$6=1)*((S15="Y")+(S15="N"))*2)+SUMPRODUCT((S$6=2)*((S15="Y")+(S15="N"))*1)+SUMPRODUCT((S$6=3)*((S15="Y")+(S15="N"))*1)+SUMPRODUCT((S$6=4)*((S15="Y")+(S15="N"))*1)+SUMPRODUCT((S$6=5)*((S15="Y")+(S15="N"))*2))+1*(SUMPRODUCT((AZ$6:BI$6=1)*((AZ15:BI15="Y")+(AZ15:BI15="N"))*2)+SUMPRODUCT((AZ$6:BI$6=2)*((AZ15:BI15="Y")+(AZ15:BI15="N"))*1)+SUMPRODUCT((AZ$6:BI$6=3)*((AZ15:BI15="Y")+(AZ15:BI15="N"))*1)+SUMPRODUCT((AZ$6:BI$6=4)*((AZ15:BI15="Y")+(AZ15:BI15="N"))*1)+SUMPRODUCT((AZ$6:BI$6=5)*((AZ15:BI15="Y")+(AZ15:BI15="N"))*2))} -> 15 | CH15: {=5*(SUMPRODUCT((S$6=1)*(S15="Y")*2)+SUMPRODUCT((S$6=2)*(S15="Y")*1)+SUMPRODUCT((S$6=3)*(S15="Y")*1)+SUMPRODUCT((S$6=4)*(S15="N")*1)+SUMPRODUCT((S$6=5)*(S15="N")*2))+(SUMPRODUCT((AZ$6:BI$6=1)*(AZ15:BI15="Y")*2)+SUMPRODUCT((AZ$6:BI$6=2)*(AZ15:BI15="Y")*1)+SUMPRODUCT((AZ$6:BI$6=3)*(AZ15:BI15="Y")*1)+SUMPRODUCT((AZ$6:BI$6=4)*(AZ15:BI15="N")*1)+SUMPRODUCT((AZ$6:BI$6=5)*(AZ15:BI15="N")*2))} -> 15 | CI15: =COUNTA(S15)+COUNTA(AZ15:BI15) -> 11 | CJ15: {=5*(SUMPRODUCT((T$6:V$6=1)*((T15:V15="Y")+(T15:V15="N"))*2)+SUMPRODUCT((T$6:V$6=2)*((T15:V15="Y")+(T15:V15="N"))*1)+SUMPRODUCT((T$6:V$6=3)*((T15:V15="Y")+(T15:V15="N"))*1)+SUMPRODUCT((T$6:V$6=4)*((T15:V15="Y")+(T15:V15="N"))*1)+SUMPRODUCT((T$6:V$6=5)*((T15:V15="Y")+(T15:V15="N"))*2))+1*(SUMPRODUCT((BJ$6:BQ$6=1)*((BJ15:BQ15="Y")+(BJ15:BQ15="N"))*2)+SUMPRODUCT((BJ$6:BQ$6=2)*((BJ15:BQ15="Y")+(BJ15:BQ15="N"))*1)+SUMPRODUCT((BJ$6:BQ$6=3)*((BJ15:BQ15="Y")+(BJ15:BQ15="N"))*1)+SUMPRODUCT((BJ$6:BQ$6=4)*((BJ15:BQ15="Y")+(BJ15:BQ15="N"))*1)+SUMPRODUCT((BJ$6:BQ$6=5)*((BJ15:BQ15="Y")+(BJ15:BQ15="N"))*2))} -> 24 | CK15: {=5*(SUMPRODUCT((T$6:V$6=1)*(T15:V15="Y")*2)+SUMPRODUCT((T$6:V$6=2)*(T15:V15="Y")*1)+SUMPRODUCT((T$6:V$6=3)*(T15:V15="Y")*1)+SUMPRODUCT((T$6:V$6=4)*(T15:V15="N")*1)+SUMPRODUCT((T$6:V$6=5)*(T15:V15="N")*2))+(SUMPRODUCT((BJ$6:BQ$6=1)*(BJ15:BQ15="Y")*2)+SUMPRODUCT((BJ$6:BQ$6=2)*(BJ15:BQ15="Y")*1)+SUMPRODUCT((BJ$6:BQ$6=3)*(BJ15:BQ15="Y")*1)+SUMPRODUCT((BJ$6:BQ$6=4)*(BJ15:BQ15="N")*1)+SUMPRODUCT((BJ$6:BQ$6=5)*(BJ15:BQ15="N")*2))} -> 24 | CL15: =COUNTA(T15:V15)+COUNTA(BJ15:BQ15) -> 11 | CM15: =SUM(COUNTIF(M15, $H$128)*$H$137)+(COUNTIF(M15, $H$129)*$H$137)+(COUNTIF(#REF!, $H$128)*$H$135)+(COUNTIF(#REF!, $H$129)*$H$135) -> #REF! | CN15: =SUM(COUNTIF(M15, $H$128)*$H$137)+(COUNTIF(#REF!, $H$128)*$H$135) -> #REF! | CO15: =COUNTA(M15)+COUNTA(#REF!) -> 2 | CP15: =SUM(COUNTIF(M15, $H$128)*$H$137)+(COUNTIF(M15, $H$129)*$H$137)+(COUNTIF(#REF!, $H$128)*$H$135)+(COUNTIF(#REF!, $H$129)*$H$135) -> #REF! | CQ15: =SUM(COUNTIF(M15, $H$128)*$H$137)+(COUNTIF(#REF!, $H$128)*$H$135) -> #REF! | CR15: =COUNTA(M15)+COUNTA(#REF!) -> 2
A16: =SUM((BT16/BS16)*100) -> 90.196078 | B16: =SUM(BY16/BX16)*100 -> 100 | C16: =SUM(CB16/CA16)*100 -> 74.358974 | D16: =SUM(CE16/CD16)*100 -> 100 | E16: =SUM(CH16/CG16)*100 -> 100 | F16: =SUM(CK16/CJ16)*100 -> 100 | H16: Sen. | I16: Cassidy | J16: Bill | K16: LA | L16: R | M16: Y | N16: Y | O16: Y | P16: Y | Q16: Y | R16: Y | S16: Y | T16: Y | U16: Y | V16: Y | W16: Y | X16: Y | Y16: Y | Z16: Y | AA16: Y | AB16: Y | AC16: Y | AD16: Y | AE16: Y | AF16: Y | AG16: Y | AH16: NV | AI16: Y | AJ16: Y | AK16: Y | AL16: Y | AM16: Y | AN16: Y | AO16: Y | AP16: Y | AQ16: Y | AR16: Y | AS16: Y | AT16: Y | AU16: Y | AV16: Y | AW16: Y | AX16: Y | AY16: Y | AZ16: Y | BA16: Y | BB16: Y | BC16: Y | BD16: Y | BE16: Y | BF16: Y | BG16: Y | BH16: NV | BI16: Y | BJ16: Y | BK16: Y | BL16: Y | BM16: Y | BN16: Y | BO16: Y | BP16: Y | BQ16: Y | BR16: Y | BS16: {=5 * (SUMPRODUCT( (M$6:V$6=1)*((M16:V16="Y") + (M16:V16="N")) * 2 ) +SUMPRODUCT( (M$6:V$6=2) * ((M16:V16="Y") + (M16:V16="N")) * 1 ) + SUMPRODUCT( (M$6:V$6=3)*((M16:V16="Y")+(M16:V16="N"))*1 ) +SUMPRODUCT( (M$6:V$6=4 ) * ((M16:V16="Y") + (M16:V16="N")) * 1 )+SUMPRODUCT( (M$6:V$6=5) * ((M16:V16="Y")+(M16:V16="N")) * 2 ))+1*(SUMPRODUCT( (X$6:BQ$6=1) * ((X16:BQ16="Y") + (X16:BQ16="N")) * 2 ) +SUMPRODUCT( (X$6:BQ$6=2 ) * ((X16:BQ16="Y") + (X16:BQ16="N")) * 1 ) +SUMPRODUCT( (X$6:BQ$6=3) * ((X16:BQ16="Y") + (X16:BQ16="N")) * 1 ) +SUMPRODUCT( (X$6:BQ$6=4) * ((X16:BQ16="Y") + (X16:BQ16="N")) * 1 ) + SUMPRODUCT( (X$6:BQ$6=5) * ((X16:BQ16="Y") + (X16:BQ16="N")) * 2 ))} -> 102 | BT16: {=5 * (SUMPRODUCT( (M$6:V$6=1) * (M16:V16="Y") * 2 ) + SUMPRODUCT( (M$6:V$6=2) * (M16:V16="Y") * 1 ) +SUMPRODUCT( (M$6:V$6=3) * (M16:V16="Y") * 1 ) + SUMPRODUCT( (M$6:V$6=4) * (M16:V16="N") * 1 ) +SUMPRODUCT( (M$6:V$6=5) * (M16:V16="N") * 2 )) + (SUMPRODUCT( (X$6:BQ$6=1) * (X16:BQ16="Y") * 2 ) +SUMPRODUCT( (X$6:BQ$6=2) * (X16:BQ16="Y") * 1 ) +SUMPRODUCT( (X$6:BQ$6=3) * (X16:BQ16="Y") * 1 ) +SUMPRODUCT( (X$6:BQ$6=4) * (X16:BQ16="N") * 1 ) +SUMPRODUCT( (X$6:BQ$6=5) * (X16:BQ16="N") * 2 ))} -> 92 | BU16: =SUM(COUNTIF(M16:V16,$H$130)*$H$137)+(COUNTIF(X16:BQ16, $H$130)*$H$135) -> 2 | BV16: =COUNTA(M16) -> 1 | BX16: =5 * (SUMPRODUCT( (M$6:N$6=1)*((M16:N16="Y") + (M16:N16="N")) * 2 ) +SUMPRODUCT( (M$6:N$6=2) * ((M16:N16="Y") + (M16:N16="N")) * 1 ) + SUMPRODUCT( (M$6:N$6=3)*((M16:N16="Y")+(M16:N16="N"))*1 ) +SUMPRODUCT( (M$6:N$6=4 ) * ((M16:N16="Y") + (M16:N16="N")) * 1 )+SUMPRODUCT( (M$6:N$6=5) * ((M16:N16="Y")+(M16:N16="N")) * 2 ))+1*(SUMPRODUCT( (X$6:AC$6=1) * ((X16:AC16="Y") + (X16:AC16="N")) * 2 ) +SUMPRODUCT( (X$6:AC$6=2 ) * ((X16:AC16="Y") + (X16:AC16="N")) * 1 ) +SUMPRODUCT( (X$6:AC$6=3) * ((X16:AC16="Y") + (X16:AC16="N")) * 1 ) +SUMPRODUCT( (X$6:AC$6=4) * ((X16:AC16="Y") + (X16:AC16="N")) * 1 ) + SUMPRODUCT( (X$6:AC$6=5) * ((X16:AC16="Y") + (X16:AC16="N")) * 2 )) -> 17 | BY16: =5 * (SUMPRODUCT( (M$6:N$6=1) * (M16:N16="Y") * 2 ) + SUMPRODUCT( (M$6:N$6=2) * (M16:N16="Y") * 1 ) +SUMPRODUCT( (M$6:N$6=3) * (M16:N16="Y") * 1 ) + SUMPRODUCT( (M$6:N$6=4) * (M16:N16="N") * 1 ) +SUMPRODUCT( (M$6:N$6=5) * (M16:N16="N") * 2 )) + (SUMPRODUCT( (X$6:AC$6=1) * (X16:AC16="Y") * 2 ) +SUMPRODUCT( (X$6:AC$6=2) * (X16:AC16="Y") * 1 ) +SUMPRODUCT( (X$6:AC$6=3) * (X16:AC16="Y") * 1 ) +SUMPRODUCT( (X$6:AC$6=4) * (X16:AC16="N") * 1 ) +SUMPRODUCT( (X$6:AC$6=5) * (X16:AC16="N") * 2 )) -> 17 | BZ16: =COUNTA(M16:N16)+COUNTA(X16:AC16) -> 8 | CA16: =5 * (SUMPRODUCT( (O$6:R$6=1)*((O16:R16="Y") + (O16:R16="N")) * 2 ) +SUMPRODUCT( (O$6:R$6=2) * ((O16:R16="Y") + (O16:R16="N")) * 1 ) + SUMPRODUCT( (O$6:R$6=3)*((O16:R16="Y")+(O16:R16="N"))*1 ) +SUMPRODUCT( (O$6:R$6=4 ) * ((O16:R16="Y") + (O16:R16="N")) * 1 )+SUMPRODUCT( (O$6:R$6=5) * ((O16:R16="Y")+(O16:R16="N")) * 2 )) +1*(SUMPRODUCT( (AD$6:AQ$6=1) * ((AD16:AQ16="Y") + (AD16:AQ16="N")) * 2 ) +SUMPRODUCT( (AD$6:AQ$6=2 ) * ((AD16:AQ16="Y") + (AD16:AQ16="N")) * 1 ) +SUMPRODUCT( (AD$6:AQ$6=3) * ((AD16:AQ16="Y") + (AD16:AQ16="N")) * 1 ) +SUMPRODUCT( (AD$6:AQ$6=4) * ((AD16:AQ16="Y") + (AD16:AQ16="N")) * 1 ) + SUMPRODUCT( (AD$6:AQ$6=5) * ((AD16:AQ16="Y") + (AD16:AQ16="N")) * 2 )) -> 39 | CB16: =5 * (SUMPRODUCT( (O$6:R$6=1) * (O16:R16="Y") * 2 ) + SUMPRODUCT( (O$6:R$6=2) * (O16:R16="Y") * 1 ) +SUMPRODUCT( (O$6:R$6=3) * (O16:R16="Y") * 1 ) + SUMPRODUCT( (O$6:R$6=4) * (O16:R16="N") * 1 ) +SUMPRODUCT( (O$6:R$6=5) * (O16:R16="N") * 2 )) + (SUMPRODUCT( (AD$6:AQ$6=1) * (AD16:AQ16="Y") * 2 ) +SUMPRODUCT( (AD$6:AQ$6=2) * (AD16:AQ16="Y") * 1 ) +SUMPRODUCT( (AD$6:AQ$6=3) * (AD16:AQ16="Y") * 1 ) +SUMPRODUCT( (AD$6:AQ$6=4) * (AD16:AQ16="N") * 1 ) +SUMPRODUCT( (AD$6:AQ$6=5) * (AD16:AQ16="N") * 2 )) -> 29 | CC16: =COUNTA(O16:R16)+COUNTA(AD16:AQ16) -> 18 | CD16: =1*(SUMPRODUCT( (AR$6:AY$6=1) * ((AR16:AY16="Y") + (AR16:AY16="N")) * 2 ) +SUMPRODUCT( (AR$6:AY$6=2 ) * ((AR16:AY16="Y") + (AR16:AY16="N")) * 1 ) +SUMPRODUCT( (AR$6:AY$6=3) * ((AR16:AY16="Y") + (AR16:AY16="N")) * 1 ) +SUMPRODUCT( (AR$6:AY$6=4) * ((AR16:AY16="Y") + (AR16:AY16="N")) * 1 ) + SUMPRODUCT( (AR$6:AY$6=5) * ((AR16:AY16="Y") + (AR16:AY16="N")) * 2 )) -> 8 | CE16: =(SUMPRODUCT( (AR$6:AY$6=1) * (AR16:AY16="Y") * 2 ) +SUMPRODUCT( (AR$6:AY$6=2) * (AR16:AY16="Y") * 1 ) +SUMPRODUCT( (AR$6:AY$6=3) * (AR16:AY16="Y") * 1 ) +SUMPRODUCT( (AR$6:AY$6=4) * (AR16:AY16="N") * 1 ) +SUMPRODUCT( (AR$6:AY$6=5) * (AR16:AY16="N") * 2 )) -> 8 | CF16: =COUNTA(AR16:AY16) -> 8 | CG16: {=5*(SUMPRODUCT((S$6=1)*((S16="Y")+(S16="N"))*2)+SUMPRODUCT((S$6=2)*((S16="Y")+(S16="N"))*1)+SUMPRODUCT((S$6=3)*((S16="Y")+(S16="N"))*1)+SUMPRODUCT((S$6=4)*((S16="Y")+(S16="N"))*1)+SUMPRODUCT((S$6=5)*((S16="Y")+(S16="N"))*2))+1*(SUMPRODUCT((AZ$6:BI$6=1)*((AZ16:BI16="Y")+(AZ16:BI16="N"))*2)+SUMPRODUCT((AZ$6:BI$6=2)*((AZ16:BI16="Y")+(AZ16:BI16="N"))*1)+SUMPRODUCT((AZ$6:BI$6=3)*((AZ16:BI16="Y")+(AZ16:BI16="N"))*1)+SUMPRODUCT((AZ$6:BI$6=4)*((AZ16:BI16="Y")+(AZ16:BI16="N"))*1)+SUMPRODUCT((AZ$6:BI$6=5)*((AZ16:BI16="Y")+(AZ16:BI16="N"))*2))} -> 14 | CH16: {=5*(SUMPRODUCT((S$6=1)*(S16="Y")*2)+SUMPRODUCT((S$6=2)*(S16="Y")*1)+SUMPRODUCT((S$6=3)*(S16="Y")*1)+SUMPRODUCT((S$6=4)*(S16="N")*1)+SUMPRODUCT((S$6=5)*(S16="N")*2))+(SUMPRODUCT((AZ$6:BI$6=1)*(AZ16:BI16="Y")*2)+SUMPRODUCT((AZ$6:BI$6=2)*(AZ16:BI16="Y")*1)+SUMPRODUCT((AZ$6:BI$6=3)*(AZ16:BI16="Y")*1)+SUMPRODUCT((AZ$6:BI$6=4)*(AZ16:BI16="N")*1)+SUMPRODUCT((AZ$6:BI$6=5)*(AZ16:BI16="N")*2))} -> 14 | CI16: =COUNTA(S16)+COUNTA(AZ16:BI16) -> 11 | CJ16: {=5*(SUMPRODUCT((T$6:V$6=1)*((T16:V16="Y")+(T16:V16="N"))*2)+SUMPRODUCT((T$6:V$6=2)*((T16:V16="Y")+(T16:V16="N"))*1)+SUMPRODUCT((T$6:V$6=3)*((T16:V16="Y")+(T16:V16="N"))*1)+SUMPRODUCT((T$6:V$6=4)*((T16:V16="Y")+(T16:V16="N"))*1)+SUMPRODUCT((T$6:V$6=5)*((T16:V16="Y")+(T16:V16="N"))*2))+1*(SUMPRODUCT((BJ$6:BQ$6=1)*((BJ16:BQ16="Y")+(BJ16:BQ16="N"))*2)+SUMPRODUCT((BJ$6:BQ$6=2)*((BJ16:BQ16="Y")+(BJ16:BQ16="N"))*1)+SUMPRODUCT((BJ$6:BQ$6=3)*((BJ16:BQ16="Y")+(BJ16:BQ16="N"))*1)+SUMPRODUCT((BJ$6:BQ$6=4)*((BJ16:BQ16="Y")+(BJ16:BQ16="N"))*1)+SUMPRODUCT((BJ$6:BQ$6=5)*((BJ16:BQ16="Y")+(BJ16:BQ16="N"))*2))} -> 24 | CK16: {=5*(SUMPRODUCT((T$6:V$6=1)*(T16:V16="Y")*2)+SUMPRODUCT((T$6:V$6=2)*(T16:V16="Y")*1)+SUMPRODUCT((T$6:V$6=3)*(T16:V16="Y")*1)+SUMPRODUCT((T$6:V$6=4)*(T16:V16="N")*1)+SUMPRODUCT((T$6:V$6=5)*(T16:V16="N")*2))+(SUMPRODUCT((BJ$6:BQ$6=1)*(BJ16:BQ16="Y")*2)+SUMPRODUCT((BJ$6:BQ$6=2)*(BJ16:BQ16="Y")*1)+SUMPRODUCT((BJ$6:BQ$6=3)*(BJ16:BQ16="Y")*1)+SUMPRODUCT((BJ$6:BQ$6=4)*(BJ16:BQ16="N")*1)+SUMPRODUCT((BJ$6:BQ$6=5)*(BJ16:BQ16="N")*2))} -> 24 | CL16: =COUNTA(T16:V16)+COUNTA(BJ16:BQ16) -> 11 | CM16: =SUM(COUNTIF(M16, $H$128)*$H$137)+(COUNTIF(M16, $H$129)*$H$137)+(COUNTIF(#REF!, $H$128)*$H$135)+(COUNTIF(#REF!, $H$129)*$H$135) -> #REF! | CN16: =SUM(COUNTIF(M16, $H$128)*$H$137)+(COUNTIF(#REF!, $H$128)*$H$135) -> #REF! | CO16: =COUNTA(M16)+COUNTA(#REF!) -> 2 | CP16: =SUM(COUNTIF(M16, $H$128)*$H$137)+(COUNTIF(M16, $H$129)*$H$137)+(COUNTIF(#REF!, $H$128)*$H$135)+(COUNTIF(#REF!, $H$129)*$H$135) -> #REF! | CQ16: =SUM(COUNTIF(M16, $H$128)*$H$137)+(COUNTIF(#REF!, $H$128)*$H$135) -> #REF! | CR16: =COUNTA(M16)+COUNTA(#REF!) -> 2
A17: =SUM((BT17/BS17)*100) -> 83.653846 | B17: =SUM(BY17/BX17)*100 -> 70.588235 | C17: =SUM(CB17/CA17)*100 -> 75 | D17: =SUM(CE17/CD17)*100 -> 100 | E17: =SUM(CH17/CG17)*100 -> 93.333333 | F17: =SUM(CK17/CJ17)*100 -> 95.833333 | H17: Sen. | I17: Collins | J17: Susan M. | K17: ME | L17: R | M17: Y | N17: N | O17: Y | P17: Y | Q17: Y | R17: Y | S17: Y | T17: Y | U17: Y | V17: Y | W17: Y | X17: Y | Y17: Y | Z17: Y | AA17: Y | AB17: Y | AC17: Y | AD17: Y | AE17: Y | AF17: Y | AG17: Y | AH17: Y | AI17: Y | AJ17: Y | AK17: Y | AL17: Y | AM17: Y | AN17: Y | AO17: Y | AP17: Y | AQ17: Y | AR17: Y | AS17: Y | AT17: Y | AU17: Y | AV17: Y | AW17: Y | AX17: Y | AY17: Y | AZ17: Y | BA17: N | BB17: Y | BC17: Y | BD17: Y | BE17: Y | BF17: Y | BG17: Y | BH17: Y | BI17: Y | BJ17: Y | BK17: Y | BL17: N | BM17: Y | BN17: Y | BO17: Y | BP17: Y | BQ17: Y | BR17: Y | BS17: {=5 * (SUMPRODUCT( (M$6:V$6=1)*((M17:V17="Y") + (M17:V17="N")) * 2 ) +SUMPRODUCT( (M$6:V$6=2) * ((M17:V17="Y") + (M17:V17="N")) * 1 ) + SUMPRODUCT( (M$6:V$6=3)*((M17:V17="Y")+(M17:V17="N"))*1 ) +SUMPRODUCT( (M$6:V$6=4 ) * ((M17:V17="Y") + (M17:V17="N")) * 1 )+SUMPRODUCT( (M$6:V$6=5) * ((M17:V17="Y")+(M17:V17="N")) * 2 ))+1*(SUMPRODUCT( (X$6:BQ$6=1) * ((X17:BQ17="Y") + (X17:BQ17="N")) * 2 ) +SUMPRODUCT( (X$6:BQ$6=2 ) * ((X17:BQ17="Y") + (X17:BQ17="N")) * 1 ) +SUMPRODUCT( (X$6:BQ$6=3) * ((X17:BQ17="Y") + (X17:BQ17="N")) * 1 ) +SUMPRODUCT( (X$6:BQ$6=4) * ((X17:BQ17="Y") + (X17:BQ17="N")) * 1 ) + SUMPRODUCT( (X$6:BQ$6=5) * ((X17:BQ17="Y") + (X17:BQ17="N")) * 2 ))} -> 104 | BT17: {=5 * (SUMPRODUCT( (M$6:V$6=1) * (M17:V17="Y") * 2 ) + SUMPRODUCT( (M$6:V$6=2) * (M17:V17="Y") * 1 ) +SUMPRODUCT( (M$6:V$6=3) * (M17:V17="Y") * 1 ) + SUMPRODUCT( (M$6:V$6=4) * (M17:V17="N") * 1 ) +SUMPRODUCT( (M$6:V$6=5) * (M17:V17="N") * 2 )) + (SUMPRODUCT( (X$6:BQ$6=1) * (X17:BQ17="Y") * 2 ) +SUMPRODUCT( (X$6:BQ$6=2) * (X17:BQ17="Y") * 1 ) +SUMPRODUCT( (X$6:BQ$6=3) * (X17:BQ17="Y") * 1 ) +SUMPRODUCT( (X$6:BQ$6=4) * (X17:BQ17="N") * 1 ) +SUMPRODUCT( (X$6:BQ$6=5) * (X17:BQ17="N") * 2 ))} -> 87 | BU17: =SUM(COUNTIF(M17:V17,$H$130)*$H$137)+(COUNTIF(X17:BQ17, $H$130)*$H$135) -> 0 | BV17: =COUNTA(M17) -> 1 | BX17: =5 * (SUMPRODUCT( (M$6:N$6=1)*((M17:N17="Y") + (M17:N17="N")) * 2 ) +SUMPRODUCT( (M$6:N$6=2) * ((M17:N17="Y") + (M17:N17="N")) * 1 ) + SUMPRODUCT( (M$6:N$6=3)*((M17:N17="Y")+(M17:N17="N"))*1 ) +SUMPRODUCT( (M$6:N$6=4 ) * ((M17:N17="Y") + (M17:N17="N")) * 1 )+SUMPRODUCT( (M$6:N$6=5) * ((M17:N17="Y")+(M17:N17="N")) * 2 ))+1*(SUMPRODUCT( (X$6:AC$6=1) * ((X17:AC17="Y") + (X17:AC17="N")) * 2 ) +SUMPRODUCT( (X$6:AC$6=2 ) * ((X17:AC17="Y") + (X17:AC17="N")) * 1 ) +SUMPRODUCT( (X$6:AC$6=3) * ((X17:AC17="Y") + (X17:AC17="N")) * 1 ) +SUMPRODUCT( (X$6:AC$6=4) * ((X17:AC17="Y") + (X17:AC17="N")) * 1 ) + SUMPRODUCT( (X$6:AC$6=5) * ((X17:AC17="Y") + (X17:AC17="N")) * 2 )) -> 17 | BY17: =5 * (SUMPRODUCT( (M$6:N$6=1) * (M17:N17="Y") * 2 ) + SUMPRODUCT( (M$6:N$6=2) * (M17:N17="Y") * 1 ) +SUMPRODUCT( (M$6:N$6=3) * (M17:N17="Y") * 1 ) + SUMPRODUCT( (M$6:N$6=4) * (M17:N17="N") * 1 ) +SUMPRODUCT( (M$6:N$6=5) * (M17:N17="N") * 2 )) + (SUMPRODUCT( (X$6:AC$6=1) * (X17:AC17="Y") * 2 ) +SUMPRODUCT( (X$6:AC$6=2) * (X17:AC17="Y") * 1 ) +SUMPRODUCT( (X$6:AC$6=3) * (X17:AC17="Y") * 1 ) +SUMPRODUCT( (X$6:AC$6=4) * (X17:AC17="N") * 1 ) +SUMPRODUCT( (X$6:AC$6=5) * (X17:AC17="N") * 2 )) -> 12 | BZ17: =COUNTA(M17:N17)+COUNTA(X17:AC17) -> 8 | CA17: =5 * (SUMPRODUCT( (O$6:R$6=1)*((O17:R17="Y") + (O17:R17="N")) * 2 ) +SUMPRODUCT( (O$6:R$6=2) * ((O17:R17="Y") + (O17:R17="N")) * 1 ) + SUMPRODUCT( (O$6:R$6=3)*((O17:R17="Y")+(O17:R17="N"))*1 ) +SUMPRODUCT( (O$6:R$6=4 ) * ((O17:R17="Y") + (O17:R17="N")) * 1 )+SUMPRODUCT( (O$6:R$6=5) * ((O17:R17="Y")+(O17:R17="N")) * 2 )) +1*(SUMPRODUCT( (AD$6:AQ$6=1) * ((AD17:AQ17="Y") + (AD17:AQ17="N")) * 2 ) +SUMPRODUCT( (AD$6:AQ$6=2 ) * ((AD17:AQ17="Y") + (AD17:AQ17="N")) * 1 ) +SUMPRODUCT( (AD$6:AQ$6=3) * ((AD17:AQ17="Y") + (AD17:AQ17="N")) * 1 ) +SUMPRODUCT( (AD$6:AQ$6=4) * ((AD17:AQ17="Y") + (AD17:AQ17="N")) * 1 ) + SUMPRODUCT( (AD$6:AQ$6=5) * ((AD17:AQ17="Y") + (AD17:AQ17="N")) * 2 )) -> 40 | CB17: =5 * (SUMPRODUCT( (O$6:R$6=1) * (O17:R17="Y") * 2 ) + SUMPRODUCT( (O$6:R$6=2) * (O17:R17="Y") * 1 ) +SUMPRODUCT( (O$6:R$6=3) * (O17:R17="Y") * 1 ) + SUMPRODUCT( (O$6:R$6=4) * (O17:R17="N") * 1 ) +SUMPRODUCT( (O$6:R$6=5) * (O17:R17="N") * 2 )) + (SUMPRODUCT( (AD$6:AQ$6=1) * (AD17:AQ17="Y") * 2 ) +SUMPRODUCT( (AD$6:AQ$6=2) * (AD17:AQ17="Y") * 1 ) +SUMPRODUCT( (AD$6:AQ$6=3) * (AD17:AQ17="Y") * 1 ) +SUMPRODUCT( (AD$6:AQ$6=4) * (AD17:AQ17="N") * 1 ) +SUMPRODUCT( (AD$6:AQ$6=5) * (AD17:AQ17="N") * 2 )) -> 30 | CC17: =COUNTA(O17:R17)+COUNTA(AD17:AQ17) -> 18 | CD17: =1*(SUMPRODUCT( (AR$6:AY$6=1) * ((AR17:AY17="Y") + (AR17:AY17="N")) * 2 ) +SUMPRODUCT( (AR$6:AY$6=2 ) * ((AR17:AY17="Y") + (AR17:AY17="N")) * 1 ) +SUMPRODUCT( (AR$6:AY$6=3) * ((AR17:AY17="Y") + (AR17:AY17="N")) * 1 ) +SUMPRODUCT( (AR$6:AY$6=4) * ((AR17:AY17="Y") + (AR17:AY17="N")) * 1 ) + SUMPRODUCT( (AR$6:AY$6=5) * ((AR17:AY17="Y") + (AR17:AY17="N")) * 2 )) -> 8 | CE17: =(SUMPRODUCT( (AR$6:AY$6=1) * (AR17:AY17="Y") * 2 ) +SUMPRODUCT( (AR$6:AY$6=2) * (AR17:AY17="Y") * 1 ) +SUMPRODUCT( (AR$6:AY$6=3) * (AR17:AY17="Y") * 1 ) +SUMPRODUCT( (AR$6:AY$6=4) * (AR17:AY17="N") * 1 ) +SUMPRODUCT( (AR$6:AY$6=5) * (AR17:AY17="N") * 2 )) -> 8 | CF17: =COUNTA(AR17:AY17) -> 8 | CG17: {=5*(SUMPRODUCT((S$6=1)*((S17="Y")+(S17="N"))*2)+SUMPRODUCT((S$6=2)*((S17="Y")+(S17="N"))*1)+SUMPRODUCT((S$6=3)*((S17="Y")+(S17="N"))*1)+SUMPRODUCT((S$6=4)*((S17="Y")+(S17="N"))*1)+SUMPRODUCT((S$6=5)*((S17="Y")+(S17="N"))*2))+1*(SUMPRODUCT((AZ$6:BI$6=1)*((AZ17:BI17="Y")+(AZ17:BI17="N"))*2)+SUMPRODUCT((AZ$6:BI$6=2)*((AZ17:BI17="Y")+(AZ17:BI17="N"))*1)+SUMPRODUCT((AZ$6:BI$6=3)*((AZ17:BI17="Y")+(AZ17:BI17="N"))*1)+SUMPRODUCT((AZ$6:BI$6=4)*((AZ17:BI17="Y")+(AZ17:BI17="N"))*1)+SUMPRODUCT((AZ$6:BI$6=5)*((AZ17:BI17="Y")+(AZ17:BI17="N"))*2))} -> 15 | CH17: {=5*(SUMPRODUCT((S$6=1)*(S17="Y")*2)+SUMPRODUCT((S$6=2)*(S17="Y")*1)+SUMPRODUCT((S$6=3)*(S17="Y")*1)+SUMPRODUCT((S$6=4)*(S17="N")*1)+SUMPRODUCT((S$6=5)*(S17="N")*2))+(SUMPRODUCT((AZ$6:BI$6=1)*(AZ17:BI17="Y")*2)+SUMPRODUCT((AZ$6:BI$6=2)*(AZ17:BI17="Y")*1)+SUMPRODUCT((AZ$6:BI$6=3)*(AZ17:BI17="Y")*1)+SUMPRODUCT((AZ$6:BI$6=4)*(AZ17:BI17="N")*1)+SUMPRODUCT((AZ$6:BI$6=5)*(AZ17:BI17="N")*2))} -> 14 | CI17: =COUNTA(S17)+COUNTA(AZ17:BI17) -> 11 | CJ17: {=5*(SUMPRODUCT((T$6:V$6=1)*((T17:V17="Y")+(T17:V17="N"))*2)+SUMPRODUCT((T$6:V$6=2)*((T17:V17="Y")+(T17:V17="N"))*1)+SUMPRODUCT((T$6:V$6=3)*((T17:V17="Y")+(T17:V17="N"))*1)+SUMPRODUCT((T$6:V$6=4)*((T17:V17="Y")+(T17:V17="N"))*1)+SUMPRODUCT((T$6:V$6=5)*((T17:V17="Y")+(T17:V17="N"))*2))+1*(SUMPRODUCT((BJ$6:BQ$6=1)*((BJ17:BQ17="Y")+(BJ17:BQ17="N"))*2)+SUMPRODUCT((BJ$6:BQ$6=2)*((BJ17:BQ17="Y")+(BJ17:BQ17="N"))*1)+SUMPRODUCT((BJ$6:BQ$6=3)*((BJ17:BQ17="Y")+(BJ17:BQ17="N"))*1)+SUMPRODUCT((BJ$6:BQ$6=4)*((BJ17:BQ17="Y")+(BJ17:BQ17="N"))*1)+SUMPRODUCT((BJ$6:BQ$6=5)*((BJ17:BQ17="Y")+(BJ17:BQ17="N"))*2))} -> 24 | CK17: {=5*(SUMPRODUCT((T$6:V$6=1)*(T17:V17="Y")*2)+SUMPRODUCT((T$6:V$6=2)*(T17:V17="Y")*1)+SUMPRODUCT((T$6:V$6=3)*(T17:V17="Y")*1)+SUMPRODUCT((T$6:V$6=4)*(T17:V17="N")*1)+SUMPRODUCT((T$6:V$6=5)*(T17:V17="N")*2))+(SUMPRODUCT((BJ$6:BQ$6=1)*(BJ17:BQ17="Y")*2)+SUMPRODUCT((BJ$6:BQ$6=2)*(BJ17:BQ17="Y")*1)+SUMPRODUCT((BJ$6:BQ$6=3)*(BJ17:BQ17="Y")*1)+SUMPRODUCT((BJ$6:BQ$6=4)*(BJ17:BQ17="N")*1)+SUMPRODUCT((BJ$6:BQ$6=5)*(BJ17:BQ17="N")*2))} -> 23 | CL17: =COUNTA(T17:V17)+COUNTA(BJ17:BQ17) -> 11 | CM17: =SUM(COUNTIF(M17, $H$128)*$H$137)+(COUNTIF(M17, $H$129)*$H$137)+(COUNTIF(#REF!, $H$128)*$H$135)+(COUNTIF(#REF!, $H$129)*$H$135) -> #REF! | CN17: =SUM(COUNTIF(M17, $H$128)*$H$137)+(COUNTIF(#REF!, $H$128)*$H$135) -> #REF! | CO17: =COUNTA(M17)+COUNTA(#REF!) -> 2 | CP17: =SUM(COUNTIF(M17, $H$128)*$H$137)+(COUNTIF(M17, $H$129)*$H$137)+(COUNTIF(#REF!, $H$128)*$H$135)+(COUNTIF(#REF!, $H$129)*$H$135) -> #REF! | CQ17: =SUM(COUNTIF(M17, $H$128)*$H$137)+(COUNTIF(#REF!, $H$128)*$H$135) -> #REF! | CR17: =COUNTA(M17)+COUNTA(#REF!) -> 2
A18: =SUM((BT18/BS18)*100) -> 90.291262 | B18: =SUM(BY18/BX18)*100 -> 100 | C18: =SUM(CB18/CA18)*100 -> 75 | D18: =SUM(CE18/CD18)*100 -> 100 | E18: =SUM(CH18/CG18)*100 -> 100 | F18: =SUM(CK18/CJ18)*100 -> 100 | H18: Sen. | I18: Cornyn | J18: John | K18: TX | L18: R | M18: Y | N18: Y | O18: Y | P18: Y | Q18: Y | R18: Y | S18: Y | T18: Y | U18: Y | V18: Y | W18: Y | X18: Y | Y18: Y | Z18: Y | AA18: Y | AB18: Y | AC18: Y | AD18: Y | AE18: Y | AF18: Y | AG18: Y | AH18: Y | AI18: Y | AJ18: Y | AK18: Y | AL18: Y | AM18: Y | AN18: Y | AO18: Y | AP18: Y | AQ18: Y | AR18: Y | AS18: Y | AT18: Y | AU18: Y | AV18: Y | AW18: Y | AX18: Y | AY18: Y | AZ18: Y | BA18: Y | BB18: NV | BC18: Y | BD18: Y | BE18: Y | BF18: Y | BG18: Y | BH18: Y | BI18: Y | BJ18: Y | BK18: Y | BL18: Y | BM18: Y | BN18: Y | BO18: Y | BP18: Y | BQ18: Y | BR18: Y | BS18: {=5 * (SUMPRODUCT( (M$6:V$6=1)*((M18:V18="Y") + (M18:V18="N")) * 2 ) +SUMPRODUCT( (M$6:V$6=2) * ((M18:V18="Y") + (M18:V18="N")) * 1 ) + SUMPRODUCT( (M$6:V$6=3)*((M18:V18="Y")+(M18:V18="N"))*1 ) +SUMPRODUCT( (M$6:V$6=4 ) * ((M18:V18="Y") + (M18:V18="N")) * 1 )+SUMPRODUCT( (M$6:V$6=5) * ((M18:V18="Y")+(M18:V18="N")) * 2 ))+1*(SUMPRODUCT( (X$6:BQ$6=1) * ((X18:BQ18="Y") + (X18:BQ18="N")) * 2 ) +SUMPRODUCT( (X$6:BQ$6=2 ) * ((X18:BQ18="Y") + (X18:BQ18="N")) * 1 ) +SUMPRODUCT( (X$6:BQ$6=3) * ((X18:BQ18="Y") + (X18:BQ18="N")) * 1 ) +SUMPRODUCT( (X$6:BQ$6=4) * ((X18:BQ18="Y") + (X18:BQ18="N")) * 1 ) + SUMPRODUCT( (X$6:BQ$6=5) * ((X18:BQ18="Y") + (X18:BQ18="N")) * 2 ))} -> 103 | BT18: {=5 * (SUMPRODUCT( (M$6:V$6=1) * (M18:V18="Y") * 2 ) + SUMPRODUCT( (M$6:V$6=2) * (M18:V18="Y") * 1 ) +SUMPRODUCT( (M$6:V$6=3) * (M18:V18="Y") * 1 ) + SUMPRODUCT( (M$6:V$6=4) * (M18:V18="N") * 1 ) +SUMPRODUCT( (M$6:V$6=5) * (M18:V18="N") * 2 )) + (SUMPRODUCT( (X$6:BQ$6=1) * (X18:BQ18="Y") * 2 ) +SUMPRODUCT( (X$6:BQ$6=2) * (X18:BQ18="Y") * 1 ) +SUMPRODUCT( (X$6:BQ$6=3) * (X18:BQ18="Y") * 1 ) +SUMPRODUCT( (X$6:BQ$6=4) * (X18:BQ18="N") * 1 ) +SUMPRODUCT( (X$6:BQ$6=5) * (X18:BQ18="N") * 2 ))} -> 93 | BU18: =SUM(COUNTIF(M18:V18,$H$130)*$H$137)+(COUNTIF(X18:BQ18, $H$130)*$H$135) -> 1 | BV18: =COUNTA(M18) -> 1 | BX18: =5 * (SUMPRODUCT( (M$6:N$6=1)*((M18:N18="Y") + (M18:N18="N")) * 2 ) +SUMPRODUCT( (M$6:N$6=2) * ((M18:N18="Y") + (M18:N18="N")) * 1 ) + SUMPRODUCT( (M$6:N$6=3)*((M18:N18="Y")+(M18:N18="N"))*1 ) +SUMPRODUCT( (M$6:N$6=4 ) * ((M18:N18="Y") + (M18:N18="N")) * 1 )+SUMPRODUCT( (M$6:N$6=5) * ((M18:N18="Y")+(M18:N18="N")) * 2 ))+1*(SUMPRODUCT( (X$6:AC$6=1) * ((X18:AC18="Y") + (X18:AC18="N")) * 2 ) +SUMPRODUCT( (X$6:AC$6=2 ) * ((X18:AC18="Y") + (X18:AC18="N")) * 1 ) +SUMPRODUCT( (X$6:AC$6=3) * ((X18:AC18="Y") + (X18:AC18="N")) * 1 ) +SUMPRODUCT( (X$6:AC$6=4) * ((X18:AC18="Y") + (X18:AC18="N")) * 1 ) + SUMPRODUCT( (X$6:AC$6=5) * ((X18:AC18="Y") + (X18:AC18="N")) * 2 )) -> 17 | BY18: =5 * (SUMPRODUCT( (M$6:N$6=1) * (M18:N18="Y") * 2 ) + SUMPRODUCT( (M$6:N$6=2) * (M18:N18="Y") * 1 ) +SUMPRODUCT( (M$6:N$6=3) * (M18:N18="Y") * 1 ) + SUMPRODUCT( (M$6:N$6=4) * (M18:N18="N") * 1 ) +SUMPRODUCT( (M$6:N$6=5) * (M18:N18="N") * 2 )) + (SUMPRODUCT( (X$6:AC$6=1) * (X18:AC18="Y") * 2 ) +SUMPRODUCT( (X$6:AC$6=2) * (X18:AC18="Y") * 1 ) +SUMPRODUCT( (X$6:AC$6=3) * (X18:AC18="Y") * 1 ) +SUMPRODUCT( (X$6:AC$6=4) * (X18:AC18="N") * 1 ) +SUMPRODUCT( (X$6:AC$6=5) * (X18:AC18="N") * 2 )) -> 17 | BZ18: =COUNTA(M18:N18)+COUNTA(X18:AC18) -> 8 | CA18: =5 * (SUMPRODUCT( (O$6:R$6=1)*((O18:R18="Y") + (O18:R18="N")) * 2 ) +SUMPRODUCT( (O$6:R$6=2) * ((O18:R18="Y") + (O18:R18="N")) * 1 ) + SUMPRODUCT( (O$6:R$6=3)*((O18:R18="Y")+(O18:R18="N"))*1 ) +SUMPRODUCT( (O$6:R$6=4 ) * ((O18:R18="Y") + (O18:R18="N")) * 1 )+SUMPRODUCT( (O$6:R$6=5) * ((O18:R18="Y")+(O18:R18="N")) * 2 )) +1*(SUMPRODUCT( (AD$6:AQ$6=1) * ((AD18:AQ18="Y") + (AD18:AQ18="N")) * 2 ) +SUMPRODUCT( (AD$6:AQ$6=2 ) * ((AD18:AQ18="Y") + (AD18:AQ18="N")) * 1 ) +SUMPRODUCT( (AD$6:AQ$6=3) * ((AD18:AQ18="Y") + (AD18:AQ18="N")) * 1 ) +SUMPRODUCT( (AD$6:AQ$6=4) * ((AD18:AQ18="Y") + (AD18:AQ18="N")) * 1 ) + SUMPRODUCT( (AD$6:AQ$6=5) * ((AD18:AQ18="Y") + (AD18:AQ18="N")) * 2 )) -> 40 | CB18: =5 * (SUMPRODUCT( (O$6:R$6=1) * (O18:R18="Y") * 2 ) + SUMPRODUCT( (O$6:R$6=2) * (O18:R18="Y") * 1 ) +SUMPRODUCT( (O$6:R$6=3) * (O18:R18="Y") * 1 ) + SUMPRODUCT( (O$6:R$6=4) * (O18:R18="N") * 1 ) +SUMPRODUCT( (O$6:R$6=5) * (O18:R18="N") * 2 )) + (SUMPRODUCT( (AD$6:AQ$6=1) * (AD18:AQ18="Y") * 2 ) +SUMPRODUCT( (AD$6:AQ$6=2) * (AD18:AQ18="Y") * 1 ) +SUMPRODUCT( (AD$6:AQ$6=3) * (AD18:AQ18="Y") * 1 ) +SUMPRODUCT( (AD$6:AQ$6=4) * (AD18:AQ18="N") * 1 ) +SUMPRODUCT( (AD$6:AQ$6=5) * (AD18:AQ18="N") * 2 )) -> 30 | CC18: =COUNTA(O18:R18)+COUNTA(AD18:AQ18) -> 18 | CD18: =1*(SUMPRODUCT( (AR$6:AY$6=1) * ((AR18:AY18="Y") + (AR18:AY18="N")) * 2 ) +SUMPRODUCT( (AR$6:AY$6=2 ) * ((AR18:AY18="Y") + (AR18:AY18="N")) * 1 ) +SUMPRODUCT( (AR$6:AY$6=3) * ((AR18:AY18="Y") + (AR18:AY18="N")) * 1 ) +SUMPRODUCT( (AR$6:AY$6=4) * ((AR18:AY18="Y") + (AR18:AY18="N")) * 1 ) + SUMPRODUCT( (AR$6:AY$6=5) * ((AR18:AY18="Y") + (AR18:AY18="N")) * 2 )) -> 8 | CE18: =(SUMPRODUCT( (AR$6:AY$6=1) * (AR18:AY18="Y") * 2 ) +SUMPRODUCT( (AR$6:AY$6=2) * (AR18:AY18="Y") * 1 ) +SUMPRODUCT( (AR$6:AY$6=3) * (AR18:AY18="Y") * 1 ) +SUMPRODUCT( (AR$6:AY$6=4) * (AR18:AY18="N") * 1 ) +SUMPRODUCT( (AR$6:AY$6=5) * (AR18:AY18="N") * 2 )) -> 8 | CF18: =COUNTA(AR18:AY18) -> 8 | CG18: {=5*(SUMPRODUCT((S$6=1)*((S18="Y")+(S18="N"))*2)+SUMPRODUCT((S$6=2)*((S18="Y")+(S18="N"))*1)+SUMPRODUCT((S$6=3)*((S18="Y")+(S18="N"))*1)+SUMPRODUCT((S$6=4)*((S18="Y")+(S18="N"))*1)+SUMPRODUCT((S$6=5)*((S18="Y")+(S18="N"))*2))+1*(SUMPRODUCT((AZ$6:BI$6=1)*((AZ18:BI18="Y")+(AZ18:BI18="N"))*2)+SUMPRODUCT((AZ$6:BI$6=2)*((AZ18:BI18="Y")+(AZ18:BI18="N"))*1)+SUMPRODUCT((AZ$6:BI$6=3)*((AZ18:BI18="Y")+(AZ18:BI18="N"))*1)+SUMPRODUCT((AZ$6:BI$6=4)*((AZ18:BI18="Y")+(AZ18:BI18="N"))*1)+SUMPRODUCT((AZ$6:BI$6=5)*((AZ18:BI18="Y")+(AZ18:BI18="N"))*2))} -> 14 | CH18: {=5*(SUMPRODUCT((S$6=1)*(S18="Y")*2)+SUMPRODUCT((S$6=2)*(S18="Y")*1)+SUMPRODUCT((S$6=3)*(S18="Y")*1)+SUMPRODUCT((S$6=4)*(S18="N")*1)+SUMPRODUCT((S$6=5)*(S18="N")*2))+(SUMPRODUCT((AZ$6:BI$6=1)*(AZ18:BI18="Y")*2)+SUMPRODUCT((AZ$6:BI$6=2)*(AZ18:BI18="Y")*1)+SUMPRODUCT((AZ$6:BI$6=3)*(AZ18:BI18="Y")*1)+SUMPRODUCT((AZ$6:BI$6=4)*(AZ18:BI18="N")*1)+SUMPRODUCT((AZ$6:BI$6=5)*(AZ18:BI18="N")*2))} -> 14 | CI18: =COUNTA(S18)+COUNTA(AZ18:BI18) -> 11 | CJ18: {=5*(SUMPRODUCT((T$6:V$6=1)*((T18:V18="Y")+(T18:V18="N"))*2)+SUMPRODUCT((T$6:V$6=2)*((T18:V18="Y")+(T18:V18="N"))*1)+SUMPRODUCT((T$6:V$6=3)*((T18:V18="Y")+(T18:V18="N"))*1)+SUMPRODUCT((T$6:V$6=4)*((T18:V18="Y")+(T18:V18="N"))*1)+SUMPRODUCT((T$6:V$6=5)*((T18:V18="Y")+(T18:V18="N"))*2))+1*(SUMPRODUCT((BJ$6:BQ$6=1)*((BJ18:BQ18="Y")+(BJ18:BQ18="N"))*2)+SUMPRODUCT((BJ$6:BQ$6=2)*((BJ18:BQ18="Y")+(BJ18:BQ18="N"))*1)+SUMPRODUCT((BJ$6:BQ$6=3)*((BJ18:BQ18="Y")+(BJ18:BQ18="N"))*1)+SUMPRODUCT((BJ$6:BQ$6=4)*((BJ18:BQ18="Y")+(BJ18:BQ18="N"))*1)+SUMPRODUCT((BJ$6:BQ$6=5)*((BJ18:BQ18="Y")+(BJ18:BQ18="N"))*2))} -> 24 | CK18: {=5*(SUMPRODUCT((T$6:V$6=1)*(T18:V18="Y")*2)+SUMPRODUCT((T$6:V$6=2)*(T18:V18="Y")*1)+SUMPRODUCT((T$6:V$6=3)*(T18:V18="Y")*1)+SUMPRODUCT((T$6:V$6=4)*(T18:V18="N")*1)+SUMPRODUCT((T$6:V$6=5)*(T18:V18="N")*2))+(SUMPRODUCT((BJ$6:BQ$6=1)*(BJ18:BQ18="Y")*2)+SUMPRODUCT((BJ$6:BQ$6=2)*(BJ18:BQ18="Y")*1)+SUMPRODUCT((BJ$6:BQ$6=3)*(BJ18:BQ18="Y")*1)+SUMPRODUCT((BJ$6:BQ$6=4)*(BJ18:BQ18="N")*1)+SUMPRODUCT((BJ$6:BQ$6=5)*(BJ18:BQ18="N")*2))} -> 24 | CL18: =COUNTA(T18:V18)+COUNTA(BJ18:BQ18) -> 11 | CM18: =SUM(COUNTIF(M18, $H$128)*$H$137)+(COUNTIF(M18, $H$129)*$H$137)+(COUNTIF(#REF!, $H$128)*$H$135)+(COUNTIF(#REF!, $H$129)*$H$135) -> #REF! | CN18: =SUM(COUNTIF(M18, $H$128)*$H$137)+(COUNTIF(#REF!, $H$128)*$H$135) -> #REF! | CO18: =COUNTA(M18)+COUNTA(#REF!) -> 2 | CP18: =SUM(COUNTIF(M18, $H$128)*$H$137)+(COUNTIF(M18, $H$129)*$H$137)+(COUNTIF(#REF!, $H$128)*$H$135)+(COUNTIF(#REF!, $H$129)*$H$135) -> #REF! | CQ18: =SUM(COUNTIF(M18, $H$128)*$H$137)+(COUNTIF(#REF!, $H$128)*$H$135) -> #REF! | CR18: =COUNTA(M18)+COUNTA(#REF!) -> 2
A19: =SUM((BT19/BS19)*100) -> 89.89899 | B19: =SUM(BY19/BX19)*100 -> 100 | C19: =SUM(CB19/CA19)*100 -> 71.428571 | D19: =SUM(CE19/CD19)*100 -> 100 | E19: =SUM(CH19/CG19)*100 -> 100 | F19: =SUM(CK19/CJ19)*100 -> 100 | H19: Sen. | I19: Cotton | J19: Tom | K19: AR | L19: R | M19: Y | N19: Y | O19: NV | P19: Y | Q19: Y | R19: Y | S19: Y | T19: Y | U19: Y | V19: Y | W19: Y | X19: Y | Y19: Y | Z19: Y | AA19: Y | AB19: Y | AC19: Y | AD19: Y | AE19: Y | AF19: Y | AG19: Y | AH19: Y | AI19: Y | AJ19: Y | AK19: Y | AL19: Y | AM19: Y | AN19: Y | AO19: Y | AP19: Y | AQ19: Y | AR19: Y | AS19: Y | AT19: Y | AU19: Y | AV19: Y | AW19: Y | AX19: Y | AY19: Y | AZ19: Y | BA19: Y | BB19: Y | BC19: Y | BD19: Y | BE19: Y | BF19: Y | BG19: Y | BH19: Y | BI19: Y | BJ19: Y | BK19: Y | BL19: Y | BM19: Y | BN19: Y | BO19: Y | BP19: Y | BQ19: Y | BR19: Y | BS19: {=5 * (SUMPRODUCT( (M$6:V$6=1)*((M19:V19="Y") + (M19:V19="N")) * 2 ) +SUMPRODUCT( (M$6:V$6=2) * ((M19:V19="Y") + (M19:V19="N")) * 1 ) + SUMPRODUCT( (M$6:V$6=3)*((M19:V19="Y")+(M19:V19="N"))*1 ) +SUMPRODUCT( (M$6:V$6=4 ) * ((M19:V19="Y") + (M19:V19="N")) * 1 )+SUMPRODUCT( (M$6:V$6=5) * ((M19:V19="Y")+(M19:V19="N")) * 2 ))+1*(SUMPRODUCT( (X$6:BQ$6=1) * ((X19:BQ19="Y") + (X19:BQ19="N")) * 2 ) +SUMPRODUCT( (X$6:BQ$6=2 ) * ((X19:BQ19="Y") + (X19:BQ19="N")) * 1 ) +SUMPRODUCT( (X$6:BQ$6=3) * ((X19:BQ19="Y") + (X19:BQ19="N")) * 1 ) +SUMPRODUCT( (X$6:BQ$6=4) * ((X19:BQ19="Y") + (X19:BQ19="N")) * 1 ) + SUMPRODUCT( (X$6:BQ$6=5) * ((X19:BQ19="Y") + (X19:BQ19="N")) * 2 ))} -> 99 | BT19: {=5 * (SUMPRODUCT( (M$6:V$6=1) * (M19:V19="Y") * 2 ) + SUMPRODUCT( (M$6:V$6=2) * (M19:V19="Y") * 1 ) +SUMPRODUCT( (M$6:V$6=3) * (M19:V19="Y") * 1 ) + SUMPRODUCT( (M$6:V$6=4) * (M19:V19="N") * 1 ) +SUMPRODUCT( (M$6:V$6=5) * (M19:V19="N") * 2 )) + (SUMPRODUCT( (X$6:BQ$6=1) * (X19:BQ19="Y") * 2 ) +SUMPRODUCT( (X$6:BQ$6=2) * (X19:BQ19="Y") * 1 ) +SUMPRODUCT( (X$6:BQ$6=3) * (X19:BQ19="Y") * 1 ) +SUMPRODUCT( (X$6:BQ$6=4) * (X19:BQ19="N") * 1 ) +SUMPRODUCT( (X$6:BQ$6=5) * (X19:BQ19="N") * 2 ))} -> 89 | BU19: =SUM(COUNTIF(M19:V19,$H$130)*$H$137)+(COUNTIF(X19:BQ19, $H$130)*$H$135) -> 5 | BV19: =COUNTA(M19) -> 1 | BX19: =5 * (SUMPRODUCT( (M$6:N$6=1)*((M19:N19="Y") + (M19:N19="N")) * 2 ) +SUMPRODUCT( (M$6:N$6=2) * ((M19:N19="Y") + (M19:N19="N")) * 1 ) + SUMPRODUCT( (M$6:N$6=3)*((M19:N19="Y")+(M19:N19="N"))*1 ) +SUMPRODUCT( (M$6:N$6=4 ) * ((M19:N19="Y") + (M19:N19="N")) * 1 )+SUMPRODUCT( (M$6:N$6=5) * ((M19:N19="Y")+(M19:N19="N")) * 2 ))+1*(SUMPRODUCT( (X$6:AC$6=1) * ((X19:AC19="Y") + (X19:AC19="N")) * 2 ) +SUMPRODUCT( (X$6:AC$6=2 ) * ((X19:AC19="Y") + (X19:AC19="N")) * 1 ) +SUMPRODUCT( (X$6:AC$6=3) * ((X19:AC19="Y") + (X19:AC19="N")) * 1 ) +SUMPRODUCT( (X$6:AC$6=4) * ((X19:AC19="Y") + (X19:AC19="N")) * 1 ) + SUMPRODUCT( (X$6:AC$6=5) * ((X19:AC19="Y") + (X19:AC19="N")) * 2 )) -> 17 | BY19: =5 * (SUMPRODUCT( (M$6:N$6=1) * (M19:N19="Y") * 2 ) + SUMPRODUCT( (M$6:N$6=2) * (M19:N19="Y") * 1 ) +SUMPRODUCT( (M$6:N$6=3) * (M19:N19="Y") * 1 ) + SUMPRODUCT( (M$6:N$6=4) * (M19:N19="N") * 1 ) +SUMPRODUCT( (M$6:N$6=5) * (M19:N19="N") * 2 )) + (SUMPRODUCT( (X$6:AC$6=1) * (X19:AC19="Y") * 2 ) +SUMPRODUCT( (X$6:AC$6=2) * (X19:AC19="Y") * 1 ) +SUMPRODUCT( (X$6:AC$6=3) * (X19:AC19="Y") * 1 ) +SUMPRODUCT( (X$6:AC$6=4) * (X19:AC19="N") * 1 ) +SUMPRODUCT( (X$6:AC$6=5) * (X19:AC19="N") * 2 )) -> 17 | BZ19: =COUNTA(M19:N19)+COUNTA(X19:AC19) -> 8 | CA19: =5 * (SUMPRODUCT( (O$6:R$6=1)*((O19:R19="Y") + (O19:R19="N")) * 2 ) +SUMPRODUCT( (O$6:R$6=2) * ((O19:R19="Y") + (O19:R19="N")) * 1 ) + SUMPRODUCT( (O$6:R$6=3)*((O19:R19="Y")+(O19:R19="N"))*1 ) +SUMPRODUCT( (O$6:R$6=4 ) * ((O19:R19="Y") + (O19:R19="N")) * 1 )+SUMPRODUCT( (O$6:R$6=5) * ((O19:R19="Y")+(O19:R19="N")) * 2 )) +1*(SUMPRODUCT( (AD$6:AQ$6=1) * ((AD19:AQ19="Y") + (AD19:AQ19="N")) * 2 ) +SUMPRODUCT( (AD$6:AQ$6=2 ) * ((AD19:AQ19="Y") + (AD19:AQ19="N")) * 1 ) +SUMPRODUCT( (AD$6:AQ$6=3) * ((AD19:AQ19="Y") + (AD19:AQ19="N")) * 1 ) +SUMPRODUCT( (AD$6:AQ$6=4) * ((AD19:AQ19="Y") + (AD19:AQ19="N")) * 1 ) + SUMPRODUCT( (AD$6:AQ$6=5) * ((AD19:AQ19="Y") + (AD19:AQ19="N")) * 2 )) -> 35 | CB19: =5 * (SUMPRODUCT( (O$6:R$6=1) * (O19:R19="Y") * 2 ) + SUMPRODUCT( (O$6:R$6=2) * (O19:R19="Y") * 1 ) +SUMPRODUCT( (O$6:R$6=3) * (O19:R19="Y") * 1 ) + SUMPRODUCT( (O$6:R$6=4) * (O19:R19="N") * 1 ) +SUMPRODUCT( (O$6:R$6=5) * (O19:R19="N") * 2 )) + (SUMPRODUCT( (AD$6:AQ$6=1) * (AD19:AQ19="Y") * 2 ) +SUMPRODUCT( (AD$6:AQ$6=2) * (AD19:AQ19="Y") * 1 ) +SUMPRODUCT( (AD$6:AQ$6=3) * (AD19:AQ19="Y") * 1 ) +SUMPRODUCT( (AD$6:AQ$6=4) * (AD19:AQ19="N") * 1 ) +SUMPRODUCT( (AD$6:AQ$6=5) * (AD19:AQ19="N") * 2 )) -> 25 | CC19: =COUNTA(O19:R19)+COUNTA(AD19:AQ19) -> 18 | CD19: =1*(SUMPRODUCT( (AR$6:AY$6=1) * ((AR19:AY19="Y") + (AR19:AY19="N")) * 2 ) +SUMPRODUCT( (AR$6:AY$6=2 ) * ((AR19:AY19="Y") + (AR19:AY19="N")) * 1 ) +SUMPRODUCT( (AR$6:AY$6=3) * ((AR19:AY19="Y") + (AR19:AY19="N")) * 1 ) +SUMPRODUCT( (AR$6:AY$6=4) * ((AR19:AY19="Y") + (AR19:AY19="N")) * 1 ) + SUMPRODUCT( (AR$6:AY$6=5) * ((AR19:AY19="Y") + (AR19:AY19="N")) * 2 )) -> 8 | CE19: =(SUMPRODUCT( (AR$6:AY$6=1) * (AR19:AY19="Y") * 2 ) +SUMPRODUCT( (AR$6:AY$6=2) * (AR19:AY19="Y") * 1 ) +SUMPRODUCT( (AR$6:AY$6=3) * (AR19:AY19="Y") * 1 ) +SUMPRODUCT( (AR$6:AY$6=4) * (AR19:AY19="N") * 1 ) +SUMPRODUCT( (AR$6:AY$6=5) * (AR19:AY19="N") * 2 )) -> 8 | CF19: =COUNTA(AR19:AY19) -> 8 | CG19: {=5*(SUMPRODUCT((S$6=1)*((S19="Y")+(S19="N"))*2)+SUMPRODUCT((S$6=2)*((S19="Y")+(S19="N"))*1)+SUMPRODUCT((S$6=3)*((S19="Y")+(S19="N"))*1)+SUMPRODUCT((S$6=4)*((S19="Y")+(S19="N"))*1)+SUMPRODUCT((S$6=5)*((S19="Y")+(S19="N"))*2))+1*(SUMPRODUCT((AZ$6:BI$6=1)*((AZ19:BI19="Y")+(AZ19:BI19="N"))*2)+SUMPRODUCT((AZ$6:BI$6=2)*((AZ19:BI19="Y")+(AZ19:BI19="N"))*1)+SUMPRODUCT((AZ$6:BI$6=3)*((AZ19:BI19="Y")+(AZ19:BI19="N"))*1)+SUMPRODUCT((AZ$6:BI$6=4)*((AZ19:BI19="Y")+(AZ19:BI19="N"))*1)+SUMPRODUCT((AZ$6:BI$6=5)*((AZ19:BI19="Y")+(AZ19:BI19="N"))*2))} -> 15 | CH19: {=5*(SUMPRODUCT((S$6=1)*(S19="Y")*2)+SUMPRODUCT((S$6=2)*(S19="Y")*1)+SUMPRODUCT((S$6=3)*(S19="Y")*1)+SUMPRODUCT((S$6=4)*(S19="N")*1)+SUMPRODUCT((S$6=5)*(S19="N")*2))+(SUMPRODUCT((AZ$6:BI$6=1)*(AZ19:BI19="Y")*2)+SUMPRODUCT((AZ$6:BI$6=2)*(AZ19:BI19="Y")*1)+SUMPRODUCT((AZ$6:BI$6=3)*(AZ19:BI19="Y")*1)+SUMPRODUCT((AZ$6:BI$6=4)*(AZ19:BI19="N")*1)+SUMPRODUCT((AZ$6:BI$6=5)*(AZ19:BI19="N")*2))} -> 15 | CI19: =COUNTA(S19)+COUNTA(AZ19:BI19) -> 11 | CJ19: {=5*(SUMPRODUCT((T$6:V$6=1)*((T19:V19="Y")+(T19:V19="N"))*2)+SUMPRODUCT((T$6:V$6=2)*((T19:V19="Y")+(T19:V19="N"))*1)+SUMPRODUCT((T$6:V$6=3)*((T19:V19="Y")+(T19:V19="N"))*1)+SUMPRODUCT((T$6:V$6=4)*((T19:V19="Y")+(T19:V19="N"))*1)+SUMPRODUCT((T$6:V$6=5)*((T19:V19="Y")+(T19:V19="N"))*2))+1*(SUMPRODUCT((BJ$6:BQ$6=1)*((BJ19:BQ19="Y")+(BJ19:BQ19="N"))*2)+SUMPRODUCT((BJ$6:BQ$6=2)*((BJ19:BQ19="Y")+(BJ19:BQ19="N"))*1)+SUMPRODUCT((BJ$6:BQ$6=3)*((BJ19:BQ19="Y")+(BJ19:BQ19="N"))*1)+SUMPRODUCT((BJ$6:BQ$6=4)*((BJ19:BQ19="Y")+(BJ19:BQ19="N"))*1)+SUMPRODUCT((BJ$6:BQ$6=5)*((BJ19:BQ19="Y")+(BJ19:BQ19="N"))*2))} -> 24 | CK19: {=5*(SUMPRODUCT((T$6:V$6=1)*(T19:V19="Y")*2)+SUMPRODUCT((T$6:V$6=2)*(T19:V19="Y")*1)+SUMPRODUCT((T$6:V$6=3)*(T19:V19="Y")*1)+SUMPRODUCT((T$6:V$6=4)*(T19:V19="N")*1)+SUMPRODUCT((T$6:V$6=5)*(T19:V19="N")*2))+(SUMPRODUCT((BJ$6:BQ$6=1)*(BJ19:BQ19="Y")*2)+SUMPRODUCT((BJ$6:BQ$6=2)*(BJ19:BQ19="Y")*1)+SUMPRODUCT((BJ$6:BQ$6=3)*(BJ19:BQ19="Y")*1)+SUMPRODUCT((BJ$6:BQ$6=4)*(BJ19:BQ19="N")*1)+SUMPRODUCT((BJ$6:BQ$6=5)*(BJ19:BQ19="N")*2))} -> 24 | CL19: =COUNTA(T19:V19)+COUNTA(BJ19:BQ19) -> 11 | CM19: =SUM(COUNTIF(M19, $H$128)*$H$137)+(COUNTIF(M19, $H$129)*$H$137)+(COUNTIF(#REF!, $H$128)*$H$135)+(COUNTIF(#REF!, $H$129)*$H$135) -> #REF! | CN19: =SUM(COUNTIF(M19, $H$128)*$H$137)+(COUNTIF(#REF!, $H$128)*$H$135) -> #REF! | CO19: =COUNTA(M19)+COUNTA(#REF!) -> 2 | CP19: =SUM(COUNTIF(M19, $H$128)*$H$137)+(COUNTIF(M19, $H$129)*$H$137)+(COUNTIF(#REF!, $H$128)*$H$135)+(COUNTIF(#REF!, $H$129)*$H$135) -> #REF! | CQ19: =SUM(COUNTIF(M19, $H$128)*$H$137)+(COUNTIF(#REF!, $H$128)*$H$135) -> #REF! | CR19: =COUNTA(M19)+COUNTA(#REF!) -> 2
A20: =SUM((BT20/BS20)*100) -> 89.473684 | B20: =SUM(BY20/BX20)*100 -> 100 | C20: =SUM(CB20/CA20)*100 -> 74.358974 | D20: =SUM(CE20/CD20)*100 -> 100 | E20: =SUM(CH20/CG20)*100 -> 100 | F20: =SUM(CK20/CJ20)*100 -> 100 | H20: Sen. | I20: Cramer | J20: Kevin | K20: ND | L20: R | M20: Y | N20: Y | O20: Y | P20: Y | Q20: Y | R20: Y | S20: NV | T20: Y | U20: Y | V20: Y | W20: Y | X20: Y | Y20: Y | Z20: Y | AA20: Y | AB20: Y | AC20: Y | AD20: Y | AE20: Y | AF20: Y | AG20: Y | AH20: Y | AI20: Y | AJ20: Y | AK20: Y | AL20: Y | AM20: NV | AN20: Y | AO20: Y | AP20: Y | AQ20: Y | AR20: NV | AS20: Y | AT20: Y | AU20: Y | AV20: Y | AW20: Y | AX20: Y | AY20: Y | AZ20: Y | BA20: Y | BB20: NV | BC20: Y | BD20: Y | BE20: Y | BF20: Y | BG20: Y | BH20: Y | BI20: Y | BJ20: Y | BK20: Y | BL20: NV | BM20: Y | BN20: Y | BO20: Y | BP20: Y | BQ20: Y | BR20: Y | BS20: {=5 * (SUMPRODUCT( (M$6:V$6=1)*((M20:V20="Y") + (M20:V20="N")) * 2 ) +SUMPRODUCT( (M$6:V$6=2) * ((M20:V20="Y") + (M20:V20="N")) * 1 ) + SUMPRODUCT( (M$6:V$6=3)*((M20:V20="Y")+(M20:V20="N"))*1 ) +SUMPRODUCT( (M$6:V$6=4 ) * ((M20:V20="Y") + (M20:V20="N")) * 1 )+SUMPRODUCT( (M$6:V$6=5) * ((M20:V20="Y")+(M20:V20="N")) * 2 ))+1*(SUMPRODUCT( (X$6:BQ$6=1) * ((X20:BQ20="Y") + (X20:BQ20="N")) * 2 ) +SUMPRODUCT( (X$6:BQ$6=2 ) * ((X20:BQ20="Y") + (X20:BQ20="N")) * 1 ) +SUMPRODUCT( (X$6:BQ$6=3) * ((X20:BQ20="Y") + (X20:BQ20="N")) * 1 ) +SUMPRODUCT( (X$6:BQ$6=4) * ((X20:BQ20="Y") + (X20:BQ20="N")) * 1 ) + SUMPRODUCT( (X$6:BQ$6=5) * ((X20:BQ20="Y") + (X20:BQ20="N")) * 2 ))} -> 95 | BT20: {=5 * (SUMPRODUCT( (M$6:V$6=1) * (M20:V20="Y") * 2 ) + SUMPRODUCT( (M$6:V$6=2) * (M20:V20="Y") * 1 ) +SUMPRODUCT( (M$6:V$6=3) * (M20:V20="Y") * 1 ) + SUMPRODUCT( (M$6:V$6=4) * (M20:V20="N") * 1 ) +SUMPRODUCT( (M$6:V$6=5) * (M20:V20="N") * 2 )) + (SUMPRODUCT( (X$6:BQ$6=1) * (X20:BQ20="Y") * 2 ) +SUMPRODUCT( (X$6:BQ$6=2) * (X20:BQ20="Y") * 1 ) +SUMPRODUCT( (X$6:BQ$6=3) * (X20:BQ20="Y") * 1 ) +SUMPRODUCT( (X$6:BQ$6=4) * (X20:BQ20="N") * 1 ) +SUMPRODUCT( (X$6:BQ$6=5) * (X20:BQ20="N") * 2 ))} -> 85 | BU20: =SUM(COUNTIF(M20:V20,$H$130)*$H$137)+(COUNTIF(X20:BQ20, $H$130)*$H$135) -> 9 | BV20: =COUNTA(M20) -> 1 | BX20: =5 * (SUMPRODUCT( (M$6:N$6=1)*((M20:N20="Y") + (M20:N20="N")) * 2 ) +SUMPRODUCT( (M$6:N$6=2) * ((M20:N20="Y") + (M20:N20="N")) * 1 ) + SUMPRODUCT( (M$6:N$6=3)*((M20:N20="Y")+(M20:N20="N"))*1 ) +SUMPRODUCT( (M$6:N$6=4 ) * ((M20:N20="Y") + (M20:N20="N")) * 1 )+SUMPRODUCT( (M$6:N$6=5) * ((M20:N20="Y")+(M20:N20="N")) * 2 ))+1*(SUMPRODUCT( (X$6:AC$6=1) * ((X20:AC20="Y") + (X20:AC20="N")) * 2 ) +SUMPRODUCT( (X$6:AC$6=2 ) * ((X20:AC20="Y") + (X20:AC20="N")) * 1 ) +SUMPRODUCT( (X$6:AC$6=3) * ((X20:AC20="Y") + (X20:AC20="N")) * 1 ) +SUMPRODUCT( (X$6:AC$6=4) * ((X20:AC20="Y") + (X20:AC20="N")) * 1 ) + SUMPRODUCT( (X$6:AC$6=5) * ((X20:AC20="Y") + (X20:AC20="N")) * 2 )) -> 17 | BY20: =5 * (SUMPRODUCT( (M$6:N$6=1) * (M20:N20="Y") * 2 ) + SUMPRODUCT( (M$6:N$6=2) * (M20:N20="Y") * 1 ) +SUMPRODUCT( (M$6:N$6=3) * (M20:N20="Y") * 1 ) + SUMPRODUCT( (M$6:N$6=4) * (M20:N20="N") * 1 ) +SUMPRODUCT( (M$6:N$6=5) * (M20:N20="N") * 2 )) + (SUMPRODUCT( (X$6:AC$6=1) * (X20:AC20="Y") * 2 ) +SUMPRODUCT( (X$6:AC$6=2) * (X20:AC20="Y") * 1 ) +SUMPRODUCT( (X$6:AC$6=3) * (X20:AC20="Y") * 1 ) +SUMPRODUCT( (X$6:AC$6=4) * (X20:AC20="N") * 1 ) +SUMPRODUCT( (X$6:AC$6=5) * (X20:AC20="N") * 2 )) -> 17 | BZ20: =COUNTA(M20:N20)+COUNTA(X20:AC20) -> 8 | CA20: =5 * (SUMPRODUCT( (O$6:R$6=1)*((O20:R20="Y") + (O20:R20="N")) * 2 ) +SUMPRODUCT( (O$6:R$6=2) * ((O20:R20="Y") + (O20:R20="N")) * 1 ) + SUMPRODUCT( (O$6:R$6=3)*((O20:R20="Y")+(O20:R20="N"))*1 ) +SUMPRODUCT( (O$6:R$6=4 ) * ((O20:R20="Y") + (O20:R20="N")) * 1 )+SUMPRODUCT( (O$6:R$6=5) * ((O20:R20="Y")+(O20:R20="N")) * 2 )) +1*(SUMPRODUCT( (AD$6:AQ$6=1) * ((AD20:AQ20="Y") + (AD20:AQ20="N")) * 2 ) +SUMPRODUCT( (AD$6:AQ$6=2 ) * ((AD20:AQ20="Y") + (AD20:AQ20="N")) * 1 ) +SUMPRODUCT( (AD$6:AQ$6=3) * ((AD20:AQ20="Y") + (AD20:AQ20="N")) * 1 ) +SUMPRODUCT( (AD$6:AQ$6=4) * ((AD20:AQ20="Y") + (AD20:AQ20="N")) * 1 ) + SUMPRODUCT( (AD$6:AQ$6=5) * ((AD20:AQ20="Y") + (AD20:AQ20="N")) * 2 )) -> 39 | CB20: =5 * (SUMPRODUCT( (O$6:R$6=1) * (O20:R20="Y") * 2 ) + SUMPRODUCT( (O$6:R$6=2) * (O20:R20="Y") * 1 ) +SUMPRODUCT( (O$6:R$6=3) * (O20:R20="Y") * 1 ) + SUMPRODUCT( (O$6:R$6=4) * (O20:R20="N") * 1 ) +SUMPRODUCT( (O$6:R$6=5) * (O20:R20="N") * 2 )) + (SUMPRODUCT( (AD$6:AQ$6=1) * (AD20:AQ20="Y") * 2 ) +SUMPRODUCT( (AD$6:AQ$6=2) * (AD20:AQ20="Y") * 1 ) +SUMPRODUCT( (AD$6:AQ$6=3) * (AD20:AQ20="Y") * 1 ) +SUMPRODUCT( (AD$6:AQ$6=4) * (AD20:AQ20="N") * 1 ) +SUMPRODUCT( (AD$6:AQ$6=5) * (AD20:AQ20="N") * 2 )) -> 29 | CC20: =COUNTA(O20:R20)+COUNTA(AD20:AQ20) -> 18 | CD20: =1*(SUMPRODUCT( (AR$6:AY$6=1) * ((AR20:AY20="Y") + (AR20:AY20="N")) * 2 ) +SUMPRODUCT( (AR$6:AY$6=2 ) * ((AR20:AY20="Y") + (AR20:AY20="N")) * 1 ) +SUMPRODUCT( (AR$6:AY$6=3) * ((AR20:AY20="Y") + (AR20:AY20="N")) * 1 ) +SUMPRODUCT( (AR$6:AY$6=4) * ((AR20:AY20="Y") + (AR20:AY20="N")) * 1 ) + SUMPRODUCT( (AR$6:AY$6=5) * ((AR20:AY20="Y") + (AR20:AY20="N")) * 2 )) -> 7 | CE20: =(SUMPRODUCT( (AR$6:AY$6=1) * (AR20:AY20="Y") * 2 ) +SUMPRODUCT( (AR$6:AY$6=2) * (AR20:AY20="Y") * 1 ) +SUMPRODUCT( (AR$6:AY$6=3) * (AR20:AY20="Y") * 1 ) +SUMPRODUCT( (AR$6:AY$6=4) * (AR20:AY20="N") * 1 ) +SUMPRODUCT( (AR$6:AY$6=5) * (AR20:AY20="N") * 2 )) -> 7 | CF20: =COUNTA(AR20:AY20) -> 8 | CG20: {=5*(SUMPRODUCT((S$6=1)*((S20="Y")+(S20="N"))*2)+SUMPRODUCT((S$6=2)*((S20="Y")+(S20="N"))*1)+SUMPRODUCT((S$6=3)*((S20="Y")+(S20="N"))*1)+SUMPRODUCT((S$6=4)*((S20="Y")+(S20="N"))*1)+SUMPRODUCT((S$6=5)*((S20="Y")+(S20="N"))*2))+1*(SUMPRODUCT((AZ$6:BI$6=1)*((AZ20:BI20="Y")+(AZ20:BI20="N"))*2)+SUMPRODUCT((AZ$6:BI$6=2)*((AZ20:BI20="Y")+(AZ20:BI20="N"))*1)+SUMPRODUCT((AZ$6:BI$6=3)*((AZ20:BI20="Y")+(AZ20:BI20="N"))*1)+SUMPRODUCT((AZ$6:BI$6=4)*((AZ20:BI20="Y")+(AZ20:BI20="N"))*1)+SUMPRODUCT((AZ$6:BI$6=5)*((AZ20:BI20="Y")+(AZ20:BI20="N"))*2))} -> 9 | CH20: {=5*(SUMPRODUCT((S$6=1)*(S20="Y")*2)+SUMPRODUCT((S$6=2)*(S20="Y")*1)+SUMPRODUCT((S$6=3)*(S20="Y")*1)+SUMPRODUCT((S$6=4)*(S20="N")*1)+SUMPRODUCT((S$6=5)*(S20="N")*2))+(SUMPRODUCT((AZ$6:BI$6=1)*(AZ20:BI20="Y")*2)+SUMPRODUCT((AZ$6:BI$6=2)*(AZ20:BI20="Y")*1)+SUMPRODUCT((AZ$6:BI$6=3)*(AZ20:BI20="Y")*1)+SUMPRODUCT((AZ$6:BI$6=4)*(AZ20:BI20="N")*1)+SUMPRODUCT((AZ$6:BI$6=5)*(AZ20:BI20="N")*2))} -> 9 | CI20: =COUNTA(S20)+COUNTA(AZ20:BI20) -> 11 | CJ20: {=5*(SUMPRODUCT((T$6:V$6=1)*((T20:V20="Y")+(T20:V20="N"))*2)+SUMPRODUCT((T$6:V$6=2)*((T20:V20="Y")+(T20:V20="N"))*1)+SUMPRODUCT((T$6:V$6=3)*((T20:V20="Y")+(T20:V20="N"))*1)+SUMPRODUCT((T$6:V$6=4)*((T20:V20="Y")+(T20:V20="N"))*1)+SUMPRODUCT((T$6:V$6=5)*((T20:V20="Y")+(T20:V20="N"))*2))+1*(SUMPRODUCT((BJ$6:BQ$6=1)*((BJ20:BQ20="Y")+(BJ20:BQ20="N"))*2)+SUMPRODUCT((BJ$6:BQ$6=2)*((BJ20:BQ20="Y")+(BJ20:BQ20="N"))*1)+SUMPRODUCT((BJ$6:BQ$6=3)*((BJ20:BQ20="Y")+(BJ20:BQ20="N"))*1)+SUMPRODUCT((BJ$6:BQ$6=4)*((BJ20:BQ20="Y")+(BJ20:BQ20="N"))*1)+SUMPRODUCT((BJ$6:BQ$6=5)*((BJ20:BQ20="Y")+(BJ20:BQ20="N"))*2))} -> 23 | CK20: {=5*(SUMPRODUCT((T$6:V$6=1)*(T20:V20="Y")*2)+SUMPRODUCT((T$6:V$6=2)*(T20:V20="Y")*1)+SUMPRODUCT((T$6:V$6=3)*(T20:V20="Y")*1)+SUMPRODUCT((T$6:V$6=4)*(T20:V20="N")*1)+SUMPRODUCT((T$6:V$6=5)*(T20:V20="N")*2))+(SUMPRODUCT((BJ$6:BQ$6=1)*(BJ20:BQ20="Y")*2)+SUMPRODUCT((BJ$6:BQ$6=2)*(BJ20:BQ20="Y")*1)+SUMPRODUCT((BJ$6:BQ$6=3)*(BJ20:BQ20="Y")*1)+SUMPRODUCT((BJ$6:BQ$6=4)*(BJ20:BQ20="N")*1)+SUMPRODUCT((BJ$6:BQ$6=5)*(BJ20:BQ20="N")*2))} -> 23 | CL20: =COUNTA(T20:V20)+COUNTA(BJ20:BQ20) -> 11 | CM20: =SUM(COUNTIF(M20, $H$128)*$H$137)+(COUNTIF(M20, $H$129)*$H$137)+(COUNTIF(#REF!, $H$128)*$H$135)+(COUNTIF(#REF!, $H$129)*$H$135) -> #REF! | CN20: =SUM(COUNTIF(M20, $H$128)*$H$137)+(COUNTIF(#REF!, $H$128)*$H$135) -> #REF! | CO20: =COUNTA(M20)+COUNTA(#REF!) -> 2 | CP20: =SUM(COUNTIF(M20, $H$128)*$H$137)+(COUNTIF(M20, $H$129)*$H$137)+(COUNTIF(#REF!, $H$128)*$H$135)+(COUNTIF(#REF!, $H$129)*$H$135) -> #REF! | CQ20: =SUM(COUNTIF(M20, $H$128)*$H$137)+(COUNTIF(#REF!, $H$128)*$H$135) -> #REF! | CR20: =COUNTA(M20)+COUNTA(#REF!) -> 2
A21: =SUM((BT21/BS21)*100) -> 90.09901 | B21: =SUM(BY21/BX21)*100 -> 100 | C21: =SUM(CB21/CA21)*100 -> 75 | D21: =SUM(CE21/CD21)*100 -> 100 | E21: =SUM(CH21/CG21)*100 -> 100 | F21: =SUM(CK21/CJ21)*100 -> 100 | H21: Sen. | I21: Crapo | J21: Mike | K21: ID | L21: R | M21: Y | N21: Y | O21: Y | P21: Y | Q21: Y | R21: Y | S21: Y | T21: Y | U21: Y | V21: Y | W21: Y | X21: Y | Y21: Y | Z21: Y | AA21: Y | AB21: Y | AC21: Y | AD21: Y | AE21: Y | AF21: Y | AG21: Y | AH21: Y | AI21: Y | AJ21: Y | AK21: Y | AL21: Y | AM21: Y | AN21: Y | AO21: Y | AP21: Y | AQ21: Y | AR21: Y | AS21: Y | AT21: Y | AU21: NV | AV21: NV | AW21: NV | AX21: Y | AY21: Y | AZ21: Y | BA21: Y | BB21: Y | BC21: Y | BD21: Y | BE21: Y | BF21: Y | BG21: Y | BH21: Y | BI21: Y | BJ21: Y | BK21: Y | BL21: Y | BM21: Y | BN21: Y | BO21: Y | BP21: Y | BQ21: Y | BR21: Y | BS21: {=5 * (SUMPRODUCT( (M$6:V$6=1)*((M21:V21="Y") + (M21:V21="N")) * 2 ) +SUMPRODUCT( (M$6:V$6=2) * ((M21:V21="Y") + (M21:V21="N")) * 1 ) + SUMPRODUCT( (M$6:V$6=3)*((M21:V21="Y")+(M21:V21="N"))*1 ) +SUMPRODUCT( (M$6:V$6=4 ) * ((M21:V21="Y") + (M21:V21="N")) * 1 )+SUMPRODUCT( (M$6:V$6=5) * ((M21:V21="Y")+(M21:V21="N")) * 2 ))+1*(SUMPRODUCT( (X$6:BQ$6=1) * ((X21:BQ21="Y") + (X21:BQ21="N")) * 2 ) +SUMPRODUCT( (X$6:BQ$6=2 ) * ((X21:BQ21="Y") + (X21:BQ21="N")) * 1 ) +SUMPRODUCT( (X$6:BQ$6=3) * ((X21:BQ21="Y") + (X21:BQ21="N")) * 1 ) +SUMPRODUCT( (X$6:BQ$6=4) * ((X21:BQ21="Y") + (X21:BQ21="N")) * 1 ) + SUMPRODUCT( (X$6:BQ$6=5) * ((X21:BQ21="Y") + (X21:BQ21="N")) * 2 ))} -> 101 | BT21: {=5 * (SUMPRODUCT( (M$6:V$6=1) * (M21:V21="Y") * 2 ) + SUMPRODUCT( (M$6:V$6=2) * (M21:V21="Y") * 1 ) +SUMPRODUCT( (M$6:V$6=3) * (M21:V21="Y") * 1 ) + SUMPRODUCT( (M$6:V$6=4) * (M21:V21="N") * 1 ) +SUMPRODUCT( (M$6:V$6=5) * (M21:V21="N") * 2 )) + (SUMPRODUCT( (X$6:BQ$6=1) * (X21:BQ21="Y") * 2 ) +SUMPRODUCT( (X$6:BQ$6=2) * (X21:BQ21="Y") * 1 ) +SUMPRODUCT( (X$6:BQ$6=3) * (X21:BQ21="Y") * 1 ) +SUMPRODUCT( (X$6:BQ$6=4) * (X21:BQ21="N") * 1 ) +SUMPRODUCT( (X$6:BQ$6=5) * (X21:BQ21="N") * 2 ))} -> 91 | BU21: =SUM(COUNTIF(M21:V21,$H$130)*$H$137)+(COUNTIF(X21:BQ21, $H$130)*$H$135) -> 3 | BV21: =COUNTA(M21) -> 1 | BX21: =5 * (SUMPRODUCT( (M$6:N$6=1)*((M21:N21="Y") + (M21:N21="N")) * 2 ) +SUMPRODUCT( (M$6:N$6=2) * ((M21:N21="Y") + (M21:N21="N")) * 1 ) + SUMPRODUCT( (M$6:N$6=3)*((M21:N21="Y")+(M21:N21="N"))*1 ) +SUMPRODUCT( (M$6:N$6=4 ) * ((M21:N21="Y") + (M21:N21="N")) * 1 )+SUMPRODUCT( (M$6:N$6=5) * ((M21:N21="Y")+(M21:N21="N")) * 2 ))+1*(SUMPRODUCT( (X$6:AC$6=1) * ((X21:AC21="Y") + (X21:AC21="N")) * 2 ) +SUMPRODUCT( (X$6:AC$6=2 ) * ((X21:AC21="Y") + (X21:AC21="N")) * 1 ) +SUMPRODUCT( (X$6:AC$6=3) * ((X21:AC21="Y") + (X21:AC21="N")) * 1 ) +SUMPRODUCT( (X$6:AC$6=4) * ((X21:AC21="Y") + (X21:AC21="N")) * 1 ) + SUMPRODUCT( (X$6:AC$6=5) * ((X21:AC21="Y") + (X21:AC21="N")) * 2 )) -> 17 | BY21: =5 * (SUMPRODUCT( (M$6:N$6=1) * (M21:N21="Y") * 2 ) + SUMPRODUCT( (M$6:N$6=2) * (M21:N21="Y") * 1 ) +SUMPRODUCT( (M$6:N$6=3) * (M21:N21="Y") * 1 ) + SUMPRODUCT( (M$6:N$6=4) * (M21:N21="N") * 1 ) +SUMPRODUCT( (M$6:N$6=5) * (M21:N21="N") * 2 )) + (SUMPRODUCT( (X$6:AC$6=1) * (X21:AC21="Y") * 2 ) +SUMPRODUCT( (X$6:AC$6=2) * (X21:AC21="Y") * 1 ) +SUMPRODUCT( (X$6:AC$6=3) * (X21:AC21="Y") * 1 ) +SUMPRODUCT( (X$6:AC$6=4) * (X21:AC21="N") * 1 ) +SUMPRODUCT( (X$6:AC$6=5) * (X21:AC21="N") * 2 )) -> 17 | BZ21: =COUNTA(M21:N21)+COUNTA(X21:AC21) -> 8 | CA21: =5 * (SUMPRODUCT( (O$6:R$6=1)*((O21:R21="Y") + (O21:R21="N")) * 2 ) +SUMPRODUCT( (O$6:R$6=2) * ((O21:R21="Y") + (O21:R21="N")) * 1 ) + SUMPRODUCT( (O$6:R$6=3)*((O21:R21="Y")+(O21:R21="N"))*1 ) +SUMPRODUCT( (O$6:R$6=4 ) * ((O21:R21="Y") + (O21:R21="N")) * 1 )+SUMPRODUCT( (O$6:R$6=5) * ((O21:R21="Y")+(O21:R21="N")) * 2 )) +1*(SUMPRODUCT( (AD$6:AQ$6=1) * ((AD21:AQ21="Y") + (AD21:AQ21="N")) * 2 ) +SUMPRODUCT( (AD$6:AQ$6=2 ) * ((AD21:AQ21="Y") + (AD21:AQ21="N")) * 1 ) +SUMPRODUCT( (AD$6:AQ$6=3) * ((AD21:AQ21="Y") + (AD21:AQ21="N")) * 1 ) +SUMPRODUCT( (AD$6:AQ$6=4) * ((AD21:AQ21="Y") + (AD21:AQ21="N")) * 1 ) + SUMPRODUCT( (AD$6:AQ$6=5) * ((AD21:AQ21="Y") + (AD21:AQ21="N")) * 2 )) -> 40 | CB21: =5 * (SUMPRODUCT( (O$6:R$6=1) * (O21:R21="Y") * 2 ) + SUMPRODUCT( (O$6:R$6=2) * (O21:R21="Y") * 1 ) +SUMPRODUCT( (O$6:R$6=3) * (O21:R21="Y") * 1 ) + SUMPRODUCT( (O$6:R$6=4) * (O21:R21="N") * 1 ) +SUMPRODUCT( (O$6:R$6=5) * (O21:R21="N") * 2 )) + (SUMPRODUCT( (AD$6:AQ$6=1) * (AD21:AQ21="Y") * 2 ) +SUMPRODUCT( (AD$6:AQ$6=2) * (AD21:AQ21="Y") * 1 ) +SUMPRODUCT( (AD$6:AQ$6=3) * (AD21:AQ21="Y") * 1 ) +SUMPRODUCT( (AD$6:AQ$6=4) * (AD21:AQ21="N") * 1 ) +SUMPRODUCT( (AD$6:AQ$6=5) * (AD21:AQ21="N") * 2 )) -> 30 | CC21: =COUNTA(O21:R21)+COUNTA(AD21:AQ21) -> 18 | CD21: =1*(SUMPRODUCT( (AR$6:AY$6=1) * ((AR21:AY21="Y") + (AR21:AY21="N")) * 2 ) +SUMPRODUCT( (AR$6:AY$6=2 ) * ((AR21:AY21="Y") + (AR21:AY21="N")) * 1 ) +SUMPRODUCT( (AR$6:AY$6=3) * ((AR21:AY21="Y") + (AR21:AY21="N")) * 1 ) +SUMPRODUCT( (AR$6:AY$6=4) * ((AR21:AY21="Y") + (AR21:AY21="N")) * 1 ) + SUMPRODUCT( (AR$6:AY$6=5) * ((AR21:AY21="Y") + (AR21:AY21="N")) * 2 )) -> 5 | CE21: =(SUMPRODUCT( (AR$6:AY$6=1) * (AR21:AY21="Y") * 2 ) +SUMPRODUCT( (AR$6:AY$6=2) * (AR21:AY21="Y") * 1 ) +SUMPRODUCT( (AR$6:AY$6=3) * (AR21:AY21="Y") * 1 ) +SUMPRODUCT( (AR$6:AY$6=4) * (AR21:AY21="N") * 1 ) +SUMPRODUCT( (AR$6:AY$6=5) * (AR21:AY21="N") * 2 )) -> 5 | CF21: =COUNTA(AR21:AY21) -> 8 | CG21: {=5*(SUMPRODUCT((S$6=1)*((S21="Y")+(S21="N"))*2)+SUMPRODUCT((S$6=2)*((S21="Y")+(S21="N"))*1)+SUMPRODUCT((S$6=3)*((S21="Y")+(S21="N"))*1)+SUMPRODUCT((S$6=4)*((S21="Y")+(S21="N"))*1)+SUMPRODUCT((S$6=5)*((S21="Y")+(S21="N"))*2))+1*(SUMPRODUCT((AZ$6:BI$6=1)*((AZ21:BI21="Y")+(AZ21:BI21="N"))*2)+SUMPRODUCT((AZ$6:BI$6=2)*((AZ21:BI21="Y")+(AZ21:BI21="N"))*1)+SUMPRODUCT((AZ$6:BI$6=3)*((AZ21:BI21="Y")+(AZ21:BI21="N"))*1)+SUMPRODUCT((AZ$6:BI$6=4)*((AZ21:BI21="Y")+(AZ21:BI21="N"))*1)+SUMPRODUCT((AZ$6:BI$6=5)*((AZ21:BI21="Y")+(AZ21:BI21="N"))*2))} -> 15 | CH21: {=5*(SUMPRODUCT((S$6=1)*(S21="Y")*2)+SUMPRODUCT((S$6=2)*(S21="Y")*1)+SUMPRODUCT((S$6=3)*(S21="Y")*1)+SUMPRODUCT((S$6=4)*(S21="N")*1)+SUMPRODUCT((S$6=5)*(S21="N")*2))+(SUMPRODUCT((AZ$6:BI$6=1)*(AZ21:BI21="Y")*2)+SUMPRODUCT((AZ$6:BI$6=2)*(AZ21:BI21="Y")*1)+SUMPRODUCT((AZ$6:BI$6=3)*(AZ21:BI21="Y")*1)+SUMPRODUCT((AZ$6:BI$6=4)*(AZ21:BI21="N")*1)+SUMPRODUCT((AZ$6:BI$6=5)*(AZ21:BI21="N")*2))} -> 15 | CI21: =COUNTA(S21)+COUNTA(AZ21:BI21) -> 11 | CJ21: {=5*(SUMPRODUCT((T$6:V$6=1)*((T21:V21="Y")+(T21:V21="N"))*2)+SUMPRODUCT((T$6:V$6=2)*((T21:V21="Y")+(T21:V21="N"))*1)+SUMPRODUCT((T$6:V$6=3)*((T21:V21="Y")+(T21:V21="N"))*1)+SUMPRODUCT((T$6:V$6=4)*((T21:V21="Y")+(T21:V21="N"))*1)+SUMPRODUCT((T$6:V$6=5)*((T21:V21="Y")+(T21:V21="N"))*2))+1*(SUMPRODUCT((BJ$6:BQ$6=1)*((BJ21:BQ21="Y")+(BJ21:BQ21="N"))*2)+SUMPRODUCT((BJ$6:BQ$6=2)*((BJ21:BQ21="Y")+(BJ21:BQ21="N"))*1)+SUMPRODUCT((BJ$6:BQ$6=3)*((BJ21:BQ21="Y")+(BJ21:BQ21="N"))*1)+SUMPRODUCT((BJ$6:BQ$6=4)*((BJ21:BQ21="Y")+(BJ21:BQ21="N"))*1)+SUMPRODUCT((BJ$6:BQ$6=5)*((BJ21:BQ21="Y")+(BJ21:BQ21="N"))*2))} -> 24 | CK21: {=5*(SUMPRODUCT((T$6:V$6=1)*(T21:V21="Y")*2)+SUMPRODUCT((T$6:V$6=2)*(T21:V21="Y")*1)+SUMPRODUCT((T$6:V$6=3)*(T21:V21="Y")*1)+SUMPRODUCT((T$6:V$6=4)*(T21:V21="N")*1)+SUMPRODUCT((T$6:V$6=5)*(T21:V21="N")*2))+(SUMPRODUCT((BJ$6:BQ$6=1)*(BJ21:BQ21="Y")*2)+SUMPRODUCT((BJ$6:BQ$6=2)*(BJ21:BQ21="Y")*1)+SUMPRODUCT((BJ$6:BQ$6=3)*(BJ21:BQ21="Y")*1)+SUMPRODUCT((BJ$6:BQ$6=4)*(BJ21:BQ21="N")*1)+SUMPRODUCT((BJ$6:BQ$6=5)*(BJ21:BQ21="N")*2))} -> 24 | CL21: =COUNTA(T21:V21)+COUNTA(BJ21:BQ21) -> 11 | CM21: =SUM(COUNTIF(M21, $H$128)*$H$137)+(COUNTIF(M21, $H$129)*$H$137)+(COUNTIF(#REF!, $H$128)*$H$135)+(COUNTIF(#REF!, $H$129)*$H$135) -> #REF! | CN21: =SUM(COUNTIF(M21, $H$128)*$H$137)+(COUNTIF(#REF!, $H$128)*$H$135) -> #REF! | CO21: =COUNTA(M21)+COUNTA(#REF!) -> 2 | CP21: =SUM(COUNTIF(M21, $H$128)*$H$137)+(COUNTIF(M21, $H$129)*$H$137)+(COUNTIF(#REF!, $H$128)*$H$135)+(COUNTIF(#REF!, $H$129)*$H$135) -> #REF! | CQ21: =SUM(COUNTIF(M21, $H$128)*$H$137)+(COUNTIF(#REF!, $H$128)*$H$135) -> #REF! | CR21: =COUNTA(M21)+COUNTA(#REF!) -> 2
A22: =SUM((BT22/BS22)*100) -> 89.690722 | B22: =SUM(BY22/BX22)*100 -> 100 | C22: =SUM(CB22/CA22)*100 -> 70.588235 | D22: =SUM(CE22/CD22)*100 -> 100 | E22: =SUM(CH22/CG22)*100 -> 100 | F22: =SUM(CK22/CJ22)*100 -> 100 | H22: Sen. | I22: Cruz | J22: Ted | K22: TX | L22: R | M22: Y | N22: Y | O22: NV | P22: Y | Q22: Y | R22: Y | S22: Y | T22: Y | U22: Y | V22: Y | W22: Y | X22: Y | Y22: Y | Z22: NV | AA22: Y | AB22: Y | AC22: Y | AD22: Y | AE22: Y | AF22: Y | AG22: Y | AH22: Y | AI22: Y | AJ22: Y | AK22: Y | AL22: NV | AM22: Y | AN22: Y | AO22: Y | AP22: Y | AQ22: Y | AR22: Y | AS22: Y | AT22: Y | AU22: Y | AV22: Y | AW22: Y | AX22: Y | AY22: Y | AZ22: Y | BA22: Y | BB22: Y | BC22: Y | BD22: Y | BE22: Y | BF22: Y | BG22: Y | BH22: Y | BI22: Y | BJ22: Y | BK22: Y | BL22: Y | BM22: Y | BN22: Y | BO22: Y | BP22: Y | BQ22: Y | BR22: Y | BS22: {=5 * (SUMPRODUCT( (M$6:V$6=1)*((M22:V22="Y") + (M22:V22="N")) * 2 ) +SUMPRODUCT( (M$6:V$6=2) * ((M22:V22="Y") + (M22:V22="N")) * 1 ) + SUMPRODUCT( (M$6:V$6=3)*((M22:V22="Y")+(M22:V22="N"))*1 ) +SUMPRODUCT( (M$6:V$6=4 ) * ((M22:V22="Y") + (M22:V22="N")) * 1 )+SUMPRODUCT( (M$6:V$6=5) * ((M22:V22="Y")+(M22:V22="N")) * 2 ))+1*(SUMPRODUCT( (X$6:BQ$6=1) * ((X22:BQ22="Y") + (X22:BQ22="N")) * 2 ) +SUMPRODUCT( (X$6:BQ$6=2 ) * ((X22:BQ22="Y") + (X22:BQ22="N")) * 1 ) +SUMPRODUCT( (X$6:BQ$6=3) * ((X22:BQ22="Y") + (X22:BQ22="N")) * 1 ) +SUMPRODUCT( (X$6:BQ$6=4) * ((X22:BQ22="Y") + (X22:BQ22="N")) * 1 ) + SUMPRODUCT( (X$6:BQ$6=5) * ((X22:BQ22="Y") + (X22:BQ22="N")) * 2 ))} -> 97 | BT22: {=5 * (SUMPRODUCT( (M$6:V$6=1) * (M22:V22="Y") * 2 ) + SUMPRODUCT( (M$6:V$6=2) * (M22:V22="Y") * 1 ) +SUMPRODUCT( (M$6:V$6=3) * (M22:V22="Y") * 1 ) + SUMPRODUCT( (M$6:V$6=4) * (M22:V22="N") * 1 ) +SUMPRODUCT( (M$6:V$6=5) * (M22:V22="N") * 2 )) + (SUMPRODUCT( (X$6:BQ$6=1) * (X22:BQ22="Y") * 2 ) +SUMPRODUCT( (X$6:BQ$6=2) * (X22:BQ22="Y") * 1 ) +SUMPRODUCT( (X$6:BQ$6=3) * (X22:BQ22="Y") * 1 ) +SUMPRODUCT( (X$6:BQ$6=4) * (X22:BQ22="N") * 1 ) +SUMPRODUCT( (X$6:BQ$6=5) * (X22:BQ22="N") * 2 ))} -> 87 | BU22: =SUM(COUNTIF(M22:V22,$H$130)*$H$137)+(COUNTIF(X22:BQ22, $H$130)*$H$135) -> 7 | BV22: =COUNTA(M22) -> 1 | BX22: =5 * (SUMPRODUCT( (M$6:N$6=1)*((M22:N22="Y") + (M22:N22="N")) * 2 ) +SUMPRODUCT( (M$6:N$6=2) * ((M22:N22="Y") + (M22:N22="N")) * 1 ) + SUMPRODUCT( (M$6:N$6=3)*((M22:N22="Y")+(M22:N22="N"))*1 ) +SUMPRODUCT( (M$6:N$6=4 ) * ((M22:N22="Y") + (M22:N22="N")) * 1 )+SUMPRODUCT( (M$6:N$6=5) * ((M22:N22="Y")+(M22:N22="N")) * 2 ))+1*(SUMPRODUCT( (X$6:AC$6=1) * ((X22:AC22="Y") + (X22:AC22="N")) * 2 ) +SUMPRODUCT( (X$6:AC$6=2 ) * ((X22:AC22="Y") + (X22:AC22="N")) * 1 ) +SUMPRODUCT( (X$6:AC$6=3) * ((X22:AC22="Y") + (X22:AC22="N")) * 1 ) +SUMPRODUCT( (X$6:AC$6=4) * ((X22:AC22="Y") + (X22:AC22="N")) * 1 ) + SUMPRODUCT( (X$6:AC$6=5) * ((X22:AC22="Y") + (X22:AC22="N")) * 2 )) -> 16 | BY22: =5 * (SUMPRODUCT( (M$6:N$6=1) * (M22:N22="Y") * 2 ) + SUMPRODUCT( (M$6:N$6=2) * (M22:N22="Y") * 1 ) +SUMPRODUCT( (M$6:N$6=3) * (M22:N22="Y") * 1 ) + SUMPRODUCT( (M$6:N$6=4) * (M22:N22="N") * 1 ) +SUMPRODUCT( (M$6:N$6=5) * (M22:N22="N") * 2 )) + (SUMPRODUCT( (X$6:AC$6=1) * (X22:AC22="Y") * 2 ) +SUMPRODUCT( (X$6:AC$6=2) * (X22:AC22="Y") * 1 ) +SUMPRODUCT( (X$6:AC$6=3) * (X22:AC22="Y") * 1 ) +SUMPRODUCT( (X$6:AC$6=4) * (X22:AC22="N") * 1 ) +SUMPRODUCT( (X$6:AC$6=5) * (X22:AC22="N") * 2 )) -> 16 | BZ22: =COUNTA(M22:N22)+COUNTA(X22:AC22) -> 8 | CA22: =5 * (SUMPRODUCT( (O$6:R$6=1)*((O22:R22="Y") + (O22:R22="N")) * 2 ) +SUMPRODUCT( (O$6:R$6=2) * ((O22:R22="Y") + (O22:R22="N")) * 1 ) + SUMPRODUCT( (O$6:R$6=3)*((O22:R22="Y")+(O22:R22="N"))*1 ) +SUMPRODUCT( (O$6:R$6=4 ) * ((O22:R22="Y") + (O22:R22="N")) * 1 )+SUMPRODUCT( (O$6:R$6=5) * ((O22:R22="Y")+(O22:R22="N")) * 2 )) +1*(SUMPRODUCT( (AD$6:AQ$6=1) * ((AD22:AQ22="Y") + (AD22:AQ22="N")) * 2 ) +SUMPRODUCT( (AD$6:AQ$6=2 ) * ((AD22:AQ22="Y") + (AD22:AQ22="N")) * 1 ) +SUMPRODUCT( (AD$6:AQ$6=3) * ((AD22:AQ22="Y") + (AD22:AQ22="N")) * 1 ) +SUMPRODUCT( (AD$6:AQ$6=4) * ((AD22:AQ22="Y") + (AD22:AQ22="N")) * 1 ) + SUMPRODUCT( (AD$6:AQ$6=5) * ((AD22:AQ22="Y") + (AD22:AQ22="N")) * 2 )) -> 34 | CB22: =5 * (SUMPRODUCT( (O$6:R$6=1) * (O22:R22="Y") * 2 ) + SUMPRODUCT( (O$6:R$6=2) * (O22:R22="Y") * 1 ) +SUMPRODUCT( (O$6:R$6=3) * (O22:R22="Y") * 1 ) + SUMPRODUCT( (O$6:R$6=4) * (O22:R22="N") * 1 ) +SUMPRODUCT( (O$6:R$6=5) * (O22:R22="N") * 2 )) + (SUMPRODUCT( (AD$6:AQ$6=1) * (AD22:AQ22="Y") * 2 ) +SUMPRODUCT( (AD$6:AQ$6=2) * (AD22:AQ22="Y") * 1 ) +SUMPRODUCT( (AD$6:AQ$6=3) * (AD22:AQ22="Y") * 1 ) +SUMPRODUCT( (AD$6:AQ$6=4) * (AD22:AQ22="N") * 1 ) +SUMPRODUCT( (AD$6:AQ$6=5) * (AD22:AQ22="N") * 2 )) -> 24 | CC22: =COUNTA(O22:R22)+COUNTA(AD22:AQ22) -> 18 | CD22: =1*(SUMPRODUCT( (AR$6:AY$6=1) * ((AR22:AY22="Y") + (AR22:AY22="N")) * 2 ) +SUMPRODUCT( (AR$6:AY$6=2 ) * ((AR22:AY22="Y") + (AR22:AY22="N")) * 1 ) +SUMPRODUCT( (AR$6:AY$6=3) * ((AR22:AY22="Y") + (AR22:AY22="N")) * 1 ) +SUMPRODUCT( (AR$6:AY$6=4) * ((AR22:AY22="Y") + (AR22:AY22="N")) * 1 ) + SUMPRODUCT( (AR$6:AY$6=5) * ((AR22:AY22="Y") + (AR22:AY22="N")) * 2 )) -> 8 | CE22: =(SUMPRODUCT( (AR$6:AY$6=1) * (AR22:AY22="Y") * 2 ) +SUMPRODUCT( (AR$6:AY$6=2) * (AR22:AY22="Y") * 1 ) +SUMPRODUCT( (AR$6:AY$6=3) * (AR22:AY22="Y") * 1 ) +SUMPRODUCT( (AR$6:AY$6=4) * (AR22:AY22="N") * 1 ) +SUMPRODUCT( (AR$6:AY$6=5) * (AR22:AY22="N") * 2 )) -> 8 | CF22: =COUNTA(AR22:AY22) -> 8 | CG22: {=5*(SUMPRODUCT((S$6=1)*((S22="Y")+(S22="N"))*2)+SUMPRODUCT((S$6=2)*((S22="Y")+(S22="N"))*1)+SUMPRODUCT((S$6=3)*((S22="Y")+(S22="N"))*1)+SUMPRODUCT((S$6=4)*((S22="Y")+(S22="N"))*1)+SUMPRODUCT((S$6=5)*((S22="Y")+(S22="N"))*2))+1*(SUMPRODUCT((AZ$6:BI$6=1)*((AZ22:BI22="Y")+(AZ22:BI22="N"))*2)+SUMPRODUCT((AZ$6:BI$6=2)*((AZ22:BI22="Y")+(AZ22:BI22="N"))*1)+SUMPRODUCT((AZ$6:BI$6=3)*((AZ22:BI22="Y")+(AZ22:BI22="N"))*1)+SUMPRODUCT((AZ$6:BI$6=4)*((AZ22:BI22="Y")+(AZ22:BI22="N"))*1)+SUMPRODUCT((AZ$6:BI$6=5)*((AZ22:BI22="Y")+(AZ22:BI22="N"))*2))} -> 15 | CH22: {=5*(SUMPRODUCT((S$6=1)*(S22="Y")*2)+SUMPRODUCT((S$6=2)*(S22="Y")*1)+SUMPRODUCT((S$6=3)*(S22="Y")*1)+SUMPRODUCT((S$6=4)*(S22="N")*1)+SUMPRODUCT((S$6=5)*(S22="N")*2))+(SUMPRODUCT((AZ$6:BI$6=1)*(AZ22:BI22="Y")*2)+SUMPRODUCT((AZ$6:BI$6=2)*(AZ22:BI22="Y")*1)+SUMPRODUCT((AZ$6:BI$6=3)*(AZ22:BI22="Y")*1)+SUMPRODUCT((AZ$6:BI$6=4)*(AZ22:BI22="N")*1)+SUMPRODUCT((AZ$6:BI$6=5)*(AZ22:BI22="N")*2))} -> 15 | CI22: =COUNTA(S22)+COUNTA(AZ22:BI22) -> 11 | CJ22: {=5*(SUMPRODUCT((T$6:V$6=1)*((T22:V22="Y")+(T22:V22="N"))*2)+SUMPRODUCT((T$6:V$6=2)*((T22:V22="Y")+(T22:V22="N"))*1)+SUMPRODUCT((T$6:V$6=3)*((T22:V22="Y")+(T22:V22="N"))*1)+SUMPRODUCT((T$6:V$6=4)*((T22:V22="Y")+(T22:V22="N"))*1)+SUMPRODUCT((T$6:V$6=5)*((T22:V22="Y")+(T22:V22="N"))*2))+1*(SUMPRODUCT((BJ$6:BQ$6=1)*((BJ22:BQ22="Y")+(BJ22:BQ22="N"))*2)+SUMPRODUCT((BJ$6:BQ$6=2)*((BJ22:BQ22="Y")+(BJ22:BQ22="N"))*1)+SUMPRODUCT((BJ$6:BQ$6=3)*((BJ22:BQ22="Y")+(BJ22:BQ22="N"))*1)+SUMPRODUCT((BJ$6:BQ$6=4)*((BJ22:BQ22="Y")+(BJ22:BQ22="N"))*1)+SUMPRODUCT((BJ$6:BQ$6=5)*((BJ22:BQ22="Y")+(BJ22:BQ22="N"))*2))} -> 24 | CK22: {=5*(SUMPRODUCT((T$6:V$6=1)*(T22:V22="Y")*2)+SUMPRODUCT((T$6:V$6=2)*(T22:V22="Y")*1)+SUMPRODUCT((T$6:V$6=3)*(T22:V22="Y")*1)+SUMPRODUCT((T$6:V$6=4)*(T22:V22="N")*1)+SUMPRODUCT((T$6:V$6=5)*(T22:V22="N")*2))+(SUMPRODUCT((BJ$6:BQ$6=1)*(BJ22:BQ22="Y")*2)+SUMPRODUCT((BJ$6:BQ$6=2)*(BJ22:BQ22="Y")*1)+SUMPRODUCT((BJ$6:BQ$6=3)*(BJ22:BQ22="Y")*1)+SUMPRODUCT((BJ$6:BQ$6=4)*(BJ22:BQ22="N")*1)+SUMPRODUCT((BJ$6:BQ$6=5)*(BJ22:BQ22="N")*2))} -> 24 | CL22: =COUNTA(T22:V22)+COUNTA(BJ22:BQ22) -> 11 | CM22: =SUM(COUNTIF(M22, $H$128)*$H$137)+(COUNTIF(M22, $H$129)*$H$137)+(COUNTIF(#REF!, $H$128)*$H$135)+(COUNTIF(#REF!, $H$129)*$H$135) -> #REF! | CN22: =SUM(COUNTIF(M22, $H$128)*$H$137)+(COUNTIF(#REF!, $H$128)*$H$135) -> #REF! | CO22: =COUNTA(M22)+COUNTA(#REF!) -> 2 | CP22: =SUM(COUNTIF(M22, $H$128)*$H$137)+(COUNTIF(M22, $H$129)*$H$137)+(COUNTIF(#REF!, $H$128)*$H$135)+(COUNTIF(#REF!, $H$129)*$H$135) -> #REF! | CQ22: =SUM(COUNTIF(M22, $H$128)*$H$137)+(COUNTIF(#REF!, $H$128)*$H$135) -> #REF! | CR22: =COUNTA(M22)+COUNTA(#REF!) -> 2
... A26: =SUM((BT26/BS26)*100) -> 90.384615 | B26: =SUM(BY26/BX26)*100 -> 100 | C26: =SUM(CB26/CA26)*100 -> 75 | D26: =SUM(CE26/CD26)*100 -> 100 | E26: =SUM(CH26/CG26)*100 -> 100 | F26: =SUM(CK26/CJ26)*100 -> 100 | H26: Sen. | I26: Fischer | J26: Deb | K26: NE | L26: R | M26: Y | N26: Y | O26: Y | P26: Y | Q26: Y | R26: Y | S26: Y | T26: Y | U26: Y | V26: Y | W26: Y | X26: Y | Y26: Y | Z26: Y | AA26: Y | AB26: Y | AC26: Y | AD26: Y | AE26: Y | AF26: Y | AG26: Y | AH26: Y | AI26: Y | AJ26: Y | AK26: Y | AL26: Y | AM26: Y | AN26: Y | AO26: Y | AP26: Y | AQ26: Y | AR26: Y | AS26: Y | AT26: Y | AU26: Y | AV26: Y | AW26: Y | AX26: Y | AY26: Y | AZ26: Y | BA26: Y | BB26: Y | BC26: Y | BD26: Y | BE26: Y | BF26: Y | BG26: Y | BH26: Y | BI26: Y | BJ26: Y | BK26: Y | BL26: Y | BM26: Y | BN26: Y | BO26: Y | BP26: Y | BQ26: Y | BR26: Y | BS26: {=5 * (SUMPRODUCT( (M$6:V$6=1)*((M26:V26="Y") + (M26:V26="N")) * 2 ) +SUMPRODUCT( (M$6:V$6=2) * ((M26:V26="Y") + (M26:V26="N")) * 1 ) + SUMPRODUCT( (M$6:V$6=3)*((M26:V26="Y")+(M26:V26="N"))*1 ) +SUMPRODUCT( (M$6:V$6=4 ) * ((M26:V26="Y") + (M26:V26="N")) * 1 )+SUMPRODUCT( (M$6:V$6=5) * ((M26:V26="Y")+(M26:V26="N")) * 2 ))+1*(SUMPRODUCT( (X$6:BQ$6=1) * ((X26:BQ26="Y") + (X26:BQ26="N")) * 2 ) +SUMPRODUCT( (X$6:BQ$6=2 ) * ((X26:BQ26="Y") + (X26:BQ26="N")) * 1 ) +SUMPRODUCT( (X$6:BQ$6=3) * ((X26:BQ26="Y") + (X26:BQ26="N")) * 1 ) +SUMPRODUCT( (X$6:BQ$6=4) * ((X26:BQ26="Y") + (X26:BQ26="N")) * 1 ) + SUMPRODUCT( (X$6:BQ$6=5) * ((X26:BQ26="Y") + (X26:BQ26="N")) * 2 ))} -> 104 | BT26: {=5 * (SUMPRODUCT( (M$6:V$6=1) * (M26:V26="Y") * 2 ) + SUMPRODUCT( (M$6:V$6=2) * (M26:V26="Y") * 1 ) +SUMPRODUCT( (M$6:V$6=3) * (M26:V26="Y") * 1 ) + SUMPRODUCT( (M$6:V$6=4) * (M26:V26="N") * 1 ) +SUMPRODUCT( (M$6:V$6=5) * (M26:V26="N") * 2 )) + (SUMPRODUCT( (X$6:BQ$6=1) * (X26:BQ26="Y") * 2 ) +SUMPRODUCT( (X$6:BQ$6=2) * (X26:BQ26="Y") * 1 ) +SUMPRODUCT( (X$6:BQ$6=3) * (X26:BQ26="Y") * 1 ) +SUMPRODUCT( (X$6:BQ$6=4) * (X26:BQ26="N") * 1 ) +SUMPRODUCT( (X$6:BQ$6=5) * (X26:BQ26="N") * 2 ))} -> 94 | BU26: =SUM(COUNTIF(M26:V26,$H$130)*$H$137)+(COUNTIF(X26:BQ26, $H$130)*$H$135) -> 0 | BV26: =COUNTA(M26) -> 1 | BX26: =5 * (SUMPRODUCT( (M$6:N$6=1)*((M26:N26="Y") + (M26:N26="N")) * 2 ) +SUMPRODUCT( (M$6:N$6=2) * ((M26:N26="Y") + (M26:N26="N")) * 1 ) + SUMPRODUCT( (M$6:N$6=3)*((M26:N26="Y")+(M26:N26="N"))*1 ) +SUMPRODUCT( (M$6:N$6=4 ) * ((M26:N26="Y") + (M26:N26="N")) * 1 )+SUMPRODUCT( (M$6:N$6=5) * ((M26:N26="Y")+(M26:N26="N")) * 2 ))+1*(SUMPRODUCT( (X$6:AC$6=1) * ((X26:AC26="Y") + (X26:AC26="N")) * 2 ) +SUMPRODUCT( (X$6:AC$6=2 ) * ((X26:AC26="Y") + (X26:AC26="N")) * 1 ) +SUMPRODUCT( (X$6:AC$6=3) * ((X26:AC26="Y") + (X26:AC26="N")) * 1 ) +SUMPRODUCT( (X$6:AC$6=4) * ((X26:AC26="Y") + (X26:AC26="N")) * 1 ) + SUMPRODUCT( (X$6:AC$6=5) * ((X26:AC26="Y") + (X26:AC26="N")) * 2 )) -> 17 | BY26: =5 * (SUMPRODUCT( (M$6:N$6=1) * (M26:N26="Y") * 2 ) + SUMPRODUCT( (M$6:N$6=2) * (M26:N26="Y") * 1 ) +SUMPRODUCT( (M$6:N$6=3) * (M26:N26="Y") * 1 ) + SUMPRODUCT( (M$6:N$6=4) * (M26:N26="N") * 1 ) +SUMPRODUCT( (M$6:N$6=5) * (M26:N26="N") * 2 )) + (SUMPRODUCT( (X$6:AC$6=1) * (X26:AC26="Y") * 2 ) +SUMPRODUCT( (X$6:AC$6=2) * (X26:AC26="Y") * 1 ) +SUMPRODUCT( (X$6:AC$6=3) * (X26:AC26="Y") * 1 ) +SUMPRODUCT( (X$6:AC$6=4) * (X26:AC26="N") * 1 ) +SUMPRODUCT( (X$6:AC$6=5) * (X26:AC26="N") * 2 )) -> 17 | BZ26: =COUNTA(M26:N26)+COUNTA(X26:AC26) -> 8 | CA26: =5 * (SUMPRODUCT( (O$6:R$6=1)*((O26:R26="Y") + (O26:R26="N")) * 2 ) +SUMPRODUCT( (O$6:R$6=2) * ((O26:R26="Y") + (O26:R26="N")) * 1 ) + SUMPRODUCT( (O$6:R$6=3)*((O26:R26="Y")+(O26:R26="N"))*1 ) +SUMPRODUCT( (O$6:R$6=4 ) * ((O26:R26="Y") + (O26:R26="N")) * 1 )+SUMPRODUCT( (O$6:R$6=5) * ((O26:R26="Y")+(O26:R26="N")) * 2 )) +1*(SUMPRODUCT( (AD$6:AQ$6=1) * ((AD26:AQ26="Y") + (AD26:AQ26="N")) * 2 ) +SUMPRODUCT( (AD$6:AQ$6=2 ) * ((AD26:AQ26="Y") + (AD26:AQ26="N")) * 1 ) +SUMPRODUCT( (AD$6:AQ$6=3) * ((AD26:AQ26="Y") + (AD26:AQ26="N")) * 1 ) +SUMPRODUCT( (AD$6:AQ$6=4) * ((AD26:AQ26="Y") + (AD26:AQ26="N")) * 1 ) + SUMPRODUCT( (AD$6:AQ$6=5) * ((AD26:AQ26="Y") + (AD26:AQ26="N")) * 2 )) -> 40 | CB26: =5 * (SUMPRODUCT( (O$6:R$6=1) * (O26:R26="Y") * 2 ) + SUMPRODUCT( (O$6:R$6=2) * (O26:R26="Y") * 1 ) +SUMPRODUCT( (O$6:R$6=3) * (O26:R26="Y") * 1 ) + SUMPRODUCT( (O$6:R$6=4) * (O26:R26="N") * 1 ) +SUMPRODUCT( (O$6:R$6=5) * (O26:R26="N") * 2 )) + (SUMPRODUCT( (AD$6:AQ$6=1) * (AD26:AQ26="Y") * 2 ) +SUMPRODUCT( (AD$6:AQ$6=2) * (AD26:AQ26="Y") * 1 ) +SUMPRODUCT( (AD$6:AQ$6=3) * (AD26:AQ26="Y") * 1 ) +SUMPRODUCT( (AD$6:AQ$6=4) * (AD26:AQ26="N") * 1 ) +SUMPRODUCT( (AD$6:AQ$6=5) * (AD26:AQ26="N") * 2 )) -> 30 | CC26: =COUNTA(O26:R26)+COUNTA(AD26:AQ26) -> 18 | CD26: =1*(SUMPRODUCT( (AR$6:AY$6=1) * ((AR26:AY26="Y") + (AR26:AY26="N")) * 2 ) +SUMPRODUCT( (AR$6:AY$6=2 ) * ((AR26:AY26="Y") + (AR26:AY26="N")) * 1 ) +SUMPRODUCT( (AR$6:AY$6=3) * ((AR26:AY26="Y") + (AR26:AY26="N")) * 1 ) +SUMPRODUCT( (AR$6:AY$6=4) * ((AR26:AY26="Y") + (AR26:AY26="N")) * 1 ) + SUMPRODUCT( (AR$6:AY$6=5) * ((AR26:AY26="Y") + (AR26:AY26="N")) * 2 )) -> 8 | CE26: =(SUMPRODUCT( (AR$6:AY$6=1) * (AR26:AY26="Y") * 2 ) +SUMPRODUCT( (AR$6:AY$6=2) * (AR26:AY26="Y") * 1 ) +SUMPRODUCT( (AR$6:AY$6=3) * (AR26:AY26="Y") * 1 ) +SUMPRODUCT( (AR$6:AY$6=4) * (AR26:AY26="N") * 1 ) +SUMPRODUCT( (AR$6:AY$6=5) * (AR26:AY26="N") * 2 )) -> 8 | CF26: =COUNTA(AR26:AY26) -> 8 | CG26: {=5*(SUMPRODUCT((S$6=1)*((S26="Y")+(S26="N"))*2)+SUMPRODUCT((S$6=2)*((S26="Y")+(S26="N"))*1)+SUMPRODUCT((S$6=3)*((S26="Y")+(S26="N"))*1)+SUMPRODUCT((S$6=4)*((S26="Y")+(S26="N"))*1)+SUMPRODUCT((S$6=5)*((S26="Y")+(S26="N"))*2))+1*(SUMPRODUCT((AZ$6:BI$6=1)*((AZ26:BI26="Y")+(AZ26:BI26="N"))*2)+SUMPRODUCT((AZ$6:BI$6=2)*((AZ26:BI26="Y")+(AZ26:BI26="N"))*1)+SUMPRODUCT((AZ$6:BI$6=3)*((AZ26:BI26="Y")+(AZ26:BI26="N"))*1)+SUMPRODUCT((AZ$6:BI$6=4)*((AZ26:BI26="Y")+(AZ26:BI26="N"))*1)+SUMPRODUCT((AZ$6:BI$6=5)*((AZ26:BI26="Y")+(AZ26:BI26="N"))*2))} -> 15 | CH26: {=5*(SUMPRODUCT((S$6=1)*(S26="Y")*2)+SUMPRODUCT((S$6=2)*(S26="Y")*1)+SUMPRODUCT((S$6=3)*(S26="Y")*1)+SUMPRODUCT((S$6=4)*(S26="N")*1)+SUMPRODUCT((S$6=5)*(S26="N")*2))+(SUMPRODUCT((AZ$6:BI$6=1)*(AZ26:BI26="Y")*2)+SUMPRODUCT((AZ$6:BI$6=2)*(AZ26:BI26="Y")*1)+SUMPRODUCT((AZ$6:BI$6=3)*(AZ26:BI26="Y")*1)+SUMPRODUCT((AZ$6:BI$6=4)*(AZ26:BI26="N")*1)+SUMPRODUCT((AZ$6:BI$6=5)*(AZ26:BI26="N")*2))} -> 15 | CI26: =COUNTA(S26)+COUNTA(AZ26:BI26) -> 11 | CJ26: {=5*(SUMPRODUCT((T$6:V$6=1)*((T26:V26="Y")+(T26:V26="N"))*2)+SUMPRODUCT((T$6:V$6=2)*((T26:V26="Y")+(T26:V26="N"))*1)+SUMPRODUCT((T$6:V$6=3)*((T26:V26="Y")+(T26:V26="N"))*1)+SUMPRODUCT((T$6:V$6=4)*((T26:V26="Y")+(T26:V26="N"))*1)+SUMPRODUCT((T$6:V$6=5)*((T26:V26="Y")+(T26:V26="N"))*2))+1*(SUMPRODUCT((BJ$6:BQ$6=1)*((BJ26:BQ26="Y")+(BJ26:BQ26="N"))*2)+SUMPRODUCT((BJ$6:BQ$6=2)*((BJ26:BQ26="Y")+(BJ26:BQ26="N"))*1)+SUMPRODUCT((BJ$6:BQ$6=3)*((BJ26:BQ26="Y")+(BJ26:BQ26="N"))*1)+SUMPRODUCT((BJ$6:BQ$6=4)*((BJ26:BQ26="Y")+(BJ26:BQ26="N"))*1)+SUMPRODUCT((BJ$6:BQ$6=5)*((BJ26:BQ26="Y")+(BJ26:BQ26="N"))*2))} -> 24 | CK26: {=5*(SUMPRODUCT((T$6:V$6=1)*(T26:V26="Y")*2)+SUMPRODUCT((T$6:V$6=2)*(T26:V26="Y")*1)+SUMPRODUCT((T$6:V$6=3)*(T26:V26="Y")*1)+SUMPRODUCT((T$6:V$6=4)*(T26:V26="N")*1)+SUMPRODUCT((T$6:V$6=5)*(T26:V26="N")*2))+(SUMPRODUCT((BJ$6:BQ$6=1)*(BJ26:BQ26="Y")*2)+SUMPRODUCT((BJ$6:BQ$6=2)*(BJ26:BQ26="Y")*1)+SUMPRODUCT((BJ$6:BQ$6=3)*(BJ26:BQ26="Y")*1)+SUMPRODUCT((BJ$6:BQ$6=4)*(BJ26:BQ26="N")*1)+SUMPRODUCT((BJ$6:BQ$6=5)*(BJ26:BQ26="N")*2))} -> 24 | CL26: =COUNTA(T26:V26)+COUNTA(BJ26:BQ26) -> 11 | CM26: =SUM(COUNTIF(M26, $H$128)*$H$137)+(COUNTIF(M26, $H$129)*$H$137)+(COUNTIF(#REF!, $H$128)*$H$135)+(COUNTIF(#REF!, $H$129)*$H$135) -> #REF! | CN26: =SUM(COUNTIF(M26, $H$128)*$H$137)+(COUNTIF(#REF!, $H$128)*$H$135) -> #REF! | CO26: =COUNTA(M26)+COUNTA(#REF!) -> 2 | CP26: =SUM(COUNTIF(M26, $H$128)*$H$137)+(COUNTIF(M26, $H$129)*$H$137)+(COUNTIF(#REF!, $H$128)*$H$135)+(COUNTIF(#REF!, $H$129)*$H$135) -> #REF! | CQ26: =SUM(COUNTIF(M26, $H$128)*$H$137)+(COUNTIF(#REF!, $H$128)*$H$135) -> #REF! | CR26: =COUNTA(M26)+COUNTA(#REF!) -> 2
A27: =SUM((BT27/BS27)*100) -> 87.012987 | B27: =SUM(BY27/BX27)*100 -> 100 | C27: =SUM(CB27/CA27)*100 -> 74.358974 | D27: =SUM(CE27/CD27)*100 -> 100 | E27: =SUM(CH27/CG27)*100 -> 100 | F27: =SUM(CK27/CJ27)*100 -> #DIV/0! | H27: Sen. | I27: Graham | J27: Lindsey | K27: SC | L27: R | M27: Y | N27: Y | O27: Y | P27: Y | Q27: Y | R27: Y | S27: Y | X27: Y | Y27: Y | Z27: Y | AA27: Y | AB27: Y | AC27: Y | AD27: Y | AE27: Y | AF27: Y | AG27: Y | AH27: Y | AI27: Y | AJ27: Y | AK27: Y | AL27: Y | AM27: Y | AN27: NV | AO27: Y | AP27: Y | AQ27: Y | AR27: Y | AS27: Y | AT27: Y | AU27: Y | AV27: Y | AW27: Y | AX27: Y | AY27: Y | AZ27: Y | BA27: Y | BB27: Y | BC27: Y | BD27: Y | BE27: Y | BF27: NV | BG27: NV | BH27: Y | BI27: Y | BS27: {=5 * (SUMPRODUCT( (M$6:V$6=1)*((M27:V27="Y") + (M27:V27="N")) * 2 ) +SUMPRODUCT( (M$6:V$6=2) * ((M27:V27="Y") + (M27:V27="N")) * 1 ) + SUMPRODUCT( (M$6:V$6=3)*((M27:V27="Y")+(M27:V27="N"))*1 ) +SUMPRODUCT( (M$6:V$6=4 ) * ((M27:V27="Y") + (M27:V27="N")) * 1 )+SUMPRODUCT( (M$6:V$6=5) * ((M27:V27="Y")+(M27:V27="N")) * 2 ))+1*(SUMPRODUCT( (X$6:BQ$6=1) * ((X27:BQ27="Y") + (X27:BQ27="N")) * 2 ) +SUMPRODUCT( (X$6:BQ$6=2 ) * ((X27:BQ27="Y") + (X27:BQ27="N")) * 1 ) +SUMPRODUCT( (X$6:BQ$6=3) * ((X27:BQ27="Y") + (X27:BQ27="N")) * 1 ) +SUMPRODUCT( (X$6:BQ$6=4) * ((X27:BQ27="Y") + (X27:BQ27="N")) * 1 ) + SUMPRODUCT( (X$6:BQ$6=5) * ((X27:BQ27="Y") + (X27:BQ27="N")) * 2 ))} -> 77 | BT27: {=5 * (SUMPRODUCT( (M$6:V$6=1) * (M27:V27="Y") * 2 ) + SUMPRODUCT( (M$6:V$6=2) * (M27:V27="Y") * 1 ) +SUMPRODUCT( (M$6:V$6=3) * (M27:V27="Y") * 1 ) + SUMPRODUCT( (M$6:V$6=4) * (M27:V27="N") * 1 ) +SUMPRODUCT( (M$6:V$6=5) * (M27:V27="N") * 2 )) + (SUMPRODUCT( (X$6:BQ$6=1) * (X27:BQ27="Y") * 2 ) +SUMPRODUCT( (X$6:BQ$6=2) * (X27:BQ27="Y") * 1 ) +SUMPRODUCT( (X$6:BQ$6=3) * (X27:BQ27="Y") * 1 ) +SUMPRODUCT( (X$6:BQ$6=4) * (X27:BQ27="N") * 1 ) +SUMPRODUCT( (X$6:BQ$6=5) * (X27:BQ27="N") * 2 ))} -> 67 | BU27: =SUM(COUNTIF(M27:V27,$H$130)*$H$137)+(COUNTIF(X27:BQ27, $H$130)*$H$135) -> 3 | BV27: =COUNTA(M27) -> 1 | BX27: =5 * (SUMPRODUCT( (M$6:N$6=1)*((M27:N27="Y") + (M27:N27="N")) * 2 ) +SUMPRODUCT( (M$6:N$6=2) * ((M27:N27="Y") + (M27:N27="N")) * 1 ) + SUMPRODUCT( (M$6:N$6=3)*((M27:N27="Y")+(M27:N27="N"))*1 ) +SUMPRODUCT( (M$6:N$6=4 ) * ((M27:N27="Y") + (M27:N27="N")) * 1 )+SUMPRODUCT( (M$6:N$6=5) * ((M27:N27="Y")+(M27:N27="N")) * 2 ))+1*(SUMPRODUCT( (X$6:AC$6=1) * ((X27:AC27="Y") + (X27:AC27="N")) * 2 ) +SUMPRODUCT( (X$6:AC$6=2 ) * ((X27:AC27="Y") + (X27:AC27="N")) * 1 ) +SUMPRODUCT( (X$6:AC$6=3) * ((X27:AC27="Y") + (X27:AC27="N")) * 1 ) +SUMPRODUCT( (X$6:AC$6=4) * ((X27:AC27="Y") + (X27:AC27="N")) * 1 ) + SUMPRODUCT( (X$6:AC$6=5) * ((X27:AC27="Y") + (X27:AC27="N")) * 2 )) -> 17 | BY27: =5 * (SUMPRODUCT( (M$6:N$6=1) * (M27:N27="Y") * 2 ) + SUMPRODUCT( (M$6:N$6=2) * (M27:N27="Y") * 1 ) +SUMPRODUCT( (M$6:N$6=3) * (M27:N27="Y") * 1 ) + SUMPRODUCT( (M$6:N$6=4) * (M27:N27="N") * 1 ) +SUMPRODUCT( (M$6:N$6=5) * (M27:N27="N") * 2 )) + (SUMPRODUCT( (X$6:AC$6=1) * (X27:AC27="Y") * 2 ) +SUMPRODUCT( (X$6:AC$6=2) * (X27:AC27="Y") * 1 ) +SUMPRODUCT( (X$6:AC$6=3) * (X27:AC27="Y") * 1 ) +SUMPRODUCT( (X$6:AC$6=4) * (X27:AC27="N") * 1 ) +SUMPRODUCT( (X$6:AC$6=5) * (X27:AC27="N") * 2 )) -> 17 | BZ27: =COUNTA(M27:N27)+COUNTA(X27:AC27) -> 8 | CA27: =5 * (SUMPRODUCT( (O$6:R$6=1)*((O27:R27="Y") + (O27:R27="N")) * 2 ) +SUMPRODUCT( (O$6:R$6=2) * ((O27:R27="Y") + (O27:R27="N")) * 1 ) + SUMPRODUCT( (O$6:R$6=3)*((O27:R27="Y")+(O27:R27="N"))*1 ) +SUMPRODUCT( (O$6:R$6=4 ) * ((O27:R27="Y") + (O27:R27="N")) * 1 )+SUMPRODUCT( (O$6:R$6=5) * ((O27:R27="Y")+(O27:R27="N")) * 2 )) +1*(SUMPRODUCT( (AD$6:AQ$6=1) * ((AD27:AQ27="Y") + (AD27:AQ27="N")) * 2 ) +SUMPRODUCT( (AD$6:AQ$6=2 ) * ((AD27:AQ27="Y") + (AD27:AQ27="N")) * 1 ) +SUMPRODUCT( (AD$6:AQ$6=3) * ((AD27:AQ27="Y") + (AD27:AQ27="N")) * 1 ) +SUMPRODUCT( (AD$6:AQ$6=4) * ((AD27:AQ27="Y") + (AD27:AQ27="N")) * 1 ) + SUMPRODUCT( (AD$6:AQ$6=5) * ((AD27:AQ27="Y") + (AD27:AQ27="N")) * 2 )) -> 39 | CB27: =5 * (SUMPRODUCT( (O$6:R$6=1) * (O27:R27="Y") * 2 ) + SUMPRODUCT( (O$6:R$6=2) * (O27:R27="Y") * 1 ) +SUMPRODUCT( (O$6:R$6=3) * (O27:R27="Y") * 1 ) + SUMPRODUCT( (O$6:R$6=4) * (O27:R27="N") * 1 ) +SUMPRODUCT( (O$6:R$6=5) * (O27:R27="N") * 2 )) + (SUMPRODUCT( (AD$6:AQ$6=1) * (AD27:AQ27="Y") * 2 ) +SUMPRODUCT( (AD$6:AQ$6=2) * (AD27:AQ27="Y") * 1 ) +SUMPRODUCT( (AD$6:AQ$6=3) * (AD27:AQ27="Y") * 1 ) +SUMPRODUCT( (AD$6:AQ$6=4) * (AD27:AQ27="N") * 1 ) +SUMPRODUCT( (AD$6:AQ$6=5) * (AD27:AQ27="N") * 2 )) -> 29 | CC27: =COUNTA(O27:R27)+COUNTA(AD27:AQ27) -> 18 | CD27: =1*(SUMPRODUCT( (AR$6:AY$6=1) * ((AR27:AY27="Y") + (AR27:AY27="N")) * 2 ) +SUMPRODUCT( (AR$6:AY$6=2 ) * ((AR27:AY27="Y") + (AR27:AY27="N")) * 1 ) +SUMPRODUCT( (AR$6:AY$6=3) * ((AR27:AY27="Y") + (AR27:AY27="N")) * 1 ) +SUMPRODUCT( (AR$6:AY$6=4) * ((AR27:AY27="Y") + (AR27:AY27="N")) * 1 ) + SUMPRODUCT( (AR$6:AY$6=5) * ((AR27:AY27="Y") + (AR27:AY27="N")) * 2 )) -> 8 | CE27: =(SUMPRODUCT( (AR$6:AY$6=1) * (AR27:AY27="Y") * 2 ) +SUMPRODUCT( (AR$6:AY$6=2) * (AR27:AY27="Y") * 1 ) +SUMPRODUCT( (AR$6:AY$6=3) * (AR27:AY27="Y") * 1 ) +SUMPRODUCT( (AR$6:AY$6=4) * (AR27:AY27="N") * 1 ) +SUMPRODUCT( (AR$6:AY$6=5) * (AR27:AY27="N") * 2 )) -> 8 | CF27: =COUNTA(AR27:AY27) -> 8 | CG27: {=5*(SUMPRODUCT((S$6=1)*((S27="Y")+(S27="N"))*2)+SUMPRODUCT((S$6=2)*((S27="Y")+(S27="N"))*1)+SUMPRODUCT((S$6=3)*((S27="Y")+(S27="N"))*1)+SUMPRODUCT((S$6=4)*((S27="Y")+(S27="N"))*1)+SUMPRODUCT((S$6=5)*((S27="Y")+(S27="N"))*2))+1*(SUMPRODUCT((AZ$6:BI$6=1)*((AZ27:BI27="Y")+(AZ27:BI27="N"))*2)+SUMPRODUCT((AZ$6:BI$6=2)*((AZ27:BI27="Y")+(AZ27:BI27="N"))*1)+SUMPRODUCT((AZ$6:BI$6=3)*((AZ27:BI27="Y")+(AZ27:BI27="N"))*1)+SUMPRODUCT((AZ$6:BI$6=4)*((AZ27:BI27="Y")+(AZ27:BI27="N"))*1)+SUMPRODUCT((AZ$6:BI$6=5)*((AZ27:BI27="Y")+(AZ27:BI27="N"))*2))} -> 13 | CH27: {=5*(SUMPRODUCT((S$6=1)*(S27="Y")*2)+SUMPRODUCT((S$6=2)*(S27="Y")*1)+SUMPRODUCT((S$6=3)*(S27="Y")*1)+SUMPRODUCT((S$6=4)*(S27="N")*1)+SUMPRODUCT((S$6=5)*(S27="N")*2))+(SUMPRODUCT((AZ$6:BI$6=1)*(AZ27:BI27="Y")*2)+SUMPRODUCT((AZ$6:BI$6=2)*(AZ27:BI27="Y")*1)+SUMPRODUCT((AZ$6:BI$6=3)*(AZ27:BI27="Y")*1)+SUMPRODUCT((AZ$6:BI$6=4)*(AZ27:BI27="N")*1)+SUMPRODUCT((AZ$6:BI$6=5)*(AZ27:BI27="N")*2))} -> 13 | CI27: =COUNTA(S27)+COUNTA(AZ27:BI27) -> 11 | CJ27: {=5*(SUMPRODUCT((T$6:V$6=1)*((T27:V27="Y")+(T27:V27="N"))*2)+SUMPRODUCT((T$6:V$6=2)*((T27:V27="Y")+(T27:V27="N"))*1)+SUMPRODUCT((T$6:V$6=3)*((T27:V27="Y")+(T27:V27="N"))*1)+SUMPRODUCT((T$6:V$6=4)*((T27:V27="Y")+(T27:V27="N"))*1)+SUMPRODUCT((T$6:V$6=5)*((T27:V27="Y")+(T27:V27="N"))*2))+1*(SUMPRODUCT((BJ$6:BQ$6=1)*((BJ27:BQ27="Y")+(BJ27:BQ27="N"))*2)+SUMPRODUCT((BJ$6:BQ$6=2)*((BJ27:BQ27="Y")+(BJ27:BQ27="N"))*1)+SUMPRODUCT((BJ$6:BQ$6=3)*((BJ27:BQ27="Y")+(BJ27:BQ27="N"))*1)+SUMPRODUCT((BJ$6:BQ$6=4)*((BJ27:BQ27="Y")+(BJ27:BQ27="N"))*1)+SUMPRODUCT((BJ$6:BQ$6=5)*((BJ27:BQ27="Y")+(BJ27:BQ27="N"))*2))} -> 0 | CK27: {=5*(SUMPRODUCT((T$6:V$6=1)*(T27:V27="Y")*2)+SUMPRODUCT((T$6:V$6=2)*(T27:V27="Y")*1)+SUMPRODUCT((T$6:V$6=3)*(T27:V27="Y")*1)+SUMPRODUCT((T$6:V$6=4)*(T27:V27="N")*1)+SUMPRODUCT((T$6:V$6=5)*(T27:V27="N")*2))+(SUMPRODUCT((BJ$6:BQ$6=1)*(BJ27:BQ27="Y")*2)+SUMPRODUCT((BJ$6:BQ$6=2)*(BJ27:BQ27="Y")*1)+SUMPRODUCT((BJ$6:BQ$6=3)*(BJ27:BQ27="Y")*1)+SUMPRODUCT((BJ$6:BQ$6=4)*(BJ27:BQ27="N")*1)+SUMPRODUCT((BJ$6:BQ$6=5)*(BJ27:BQ27="N")*2))} -> 0 | CL27: =COUNTA(T27:V27)+COUNTA(BJ27:BQ27) -> 0 | CM27: =SUM(COUNTIF(M27, $H$128)*$H$137)+(COUNTIF(M27, $H$129)*$H$137)+(COUNTIF(#REF!, $H$128)*$H$135)+(COUNTIF(#REF!, $H$129)*$H$135) -> #REF! | CN27: =SUM(COUNTIF(M27, $H$128)*$H$137)+(COUNTIF(#REF!, $H$128)*$H$135) -> #REF! | CO27: =COUNTA(M27)+COUNTA(#REF!) -> 2 | CP27: =SUM(COUNTIF(M27, $H$128)*$H$137)+(COUNTIF(M27, $H$129)*$H$137)+(COUNTIF(#REF!, $H$128)*$H$135)+(COUNTIF(#REF!, $H$129)*$H$135) -> #REF! | CQ27: =SUM(COUNTIF(M27, $H$128)*$H$137)+(COUNTIF(#REF!, $H$128)*$H$135) -> #REF! | CR27: =COUNTA(M27)+COUNTA(#REF!) -> 2
A28: =SUM((BT28/BS28)*100) -> 100 | E28: =SUM(CH28/CG28)*100 -> #DIV/0! | F28: =SUM(CK28/CJ28)*100 -> 100 | I28: Graham | J28: Darline | K28: SC | L28: R | U28: Y | V28: Y | W28: Y | BK28: Y | BL28: Y | BM28: Y | BN28: Y | BO28: Y | BP28: Y | BQ28: Y | BR28: Y | BS28: {=5 * (SUMPRODUCT( (M$6:V$6=1)*((M28:V28="Y") + (M28:V28="N")) * 2 ) +SUMPRODUCT( (M$6:V$6=2) * ((M28:V28="Y") + (M28:V28="N")) * 1 ) + SUMPRODUCT( (M$6:V$6=3)*((M28:V28="Y")+(M28:V28="N"))*1 ) +SUMPRODUCT( (M$6:V$6=4 ) * ((M28:V28="Y") + (M28:V28="N")) * 1 )+SUMPRODUCT( (M$6:V$6=5) * ((M28:V28="Y")+(M28:V28="N")) * 2 ))+1*(SUMPRODUCT( (X$6:BQ$6=1) * ((X28:BQ28="Y") + (X28:BQ28="N")) * 2 ) +SUMPRODUCT( (X$6:BQ$6=2 ) * ((X28:BQ28="Y") + (X28:BQ28="N")) * 1 ) +SUMPRODUCT( (X$6:BQ$6=3) * ((X28:BQ28="Y") + (X28:BQ28="N")) * 1 ) +SUMPRODUCT( (X$6:BQ$6=4) * ((X28:BQ28="Y") + (X28:BQ28="N")) * 1 ) + SUMPRODUCT( (X$6:BQ$6=5) * ((X28:BQ28="Y") + (X28:BQ28="N")) * 2 ))} -> 18 | BT28: {=5 * (SUMPRODUCT( (M$6:V$6=1) * (M28:V28="Y") * 2 ) + SUMPRODUCT( (M$6:V$6=2) * (M28:V28="Y") * 1 ) +SUMPRODUCT( (M$6:V$6=3) * (M28:V28="Y") * 1 ) + SUMPRODUCT( (M$6:V$6=4) * (M28:V28="N") * 1 ) +SUMPRODUCT( (M$6:V$6=5) * (M28:V28="N") * 2 )) + (SUMPRODUCT( (X$6:BQ$6=1) * (X28:BQ28="Y") * 2 ) +SUMPRODUCT( (X$6:BQ$6=2) * (X28:BQ28="Y") * 1 ) +SUMPRODUCT( (X$6:BQ$6=3) * (X28:BQ28="Y") * 1 ) +SUMPRODUCT( (X$6:BQ$6=4) * (X28:BQ28="N") * 1 ) +SUMPRODUCT( (X$6:BQ$6=5) * (X28:BQ28="N") * 2 ))} -> 18 | BU28: =SUM(COUNTIF(M28:V28,$H$130)*$H$137)+(COUNTIF(X28:BQ28, $H$130)*$H$135) -> 0 | BV28: =COUNTA(M28) -> 0 | CC28: =COUNTA(O28:R28)+COUNTA(AD28:AQ28) -> 0 | CG28: {=5*(SUMPRODUCT((S$6=1)*((S28="Y")+(S28="N"))*2)+SUMPRODUCT((S$6=2)*((S28="Y")+(S28="N"))*1)+SUMPRODUCT((S$6=3)*((S28="Y")+(S28="N"))*1)+SUMPRODUCT((S$6=4)*((S28="Y")+(S28="N"))*1)+SUMPRODUCT((S$6=5)*((S28="Y")+(S28="N"))*2))+1*(SUMPRODUCT((AZ$6:BI$6=1)*((AZ28:BI28="Y")+(AZ28:BI28="N"))*2)+SUMPRODUCT((AZ$6:BI$6=2)*((AZ28:BI28="Y")+(AZ28:BI28="N"))*1)+SUMPRODUCT((AZ$6:BI$6=3)*((AZ28:BI28="Y")+(AZ28:BI28="N"))*1)+SUMPRODUCT((AZ$6:BI$6=4)*((AZ28:BI28="Y")+(AZ28:BI28="N"))*1)+SUMPRODUCT((AZ$6:BI$6=5)*((AZ28:BI28="Y")+(AZ28:BI28="N"))*2))} -> 0 | CH28: {=5*(SUMPRODUCT((S$6=1)*(S28="Y")*2)+SUMPRODUCT((S$6=2)*(S28="Y")*1)+SUMPRODUCT((S$6=3)*(S28="Y")*1)+SUMPRODUCT((S$6=4)*(S28="N")*1)+SUMPRODUCT((S$6=5)*(S28="N")*2))+(SUMPRODUCT((AZ$6:BI$6=1)*(AZ28:BI28="Y")*2)+SUMPRODUCT((AZ$6:BI$6=2)*(AZ28:BI28="Y")*1)+SUMPRODUCT((AZ$6:BI$6=3)*(AZ28:BI28="Y")*1)+SUMPRODUCT((AZ$6:BI$6=4)*(AZ28:BI28="N")*1)+SUMPRODUCT((AZ$6:BI$6=5)*(AZ28:BI28="N")*2))} -> 0 | CI28: =COUNTA(S28)+COUNTA(AZ28:BI28) -> 0 | CJ28: {=5*(SUMPRODUCT((T$6:V$6=1)*((T28:V28="Y")+(T28:V28="N"))*2)+SUMPRODUCT((T$6:V$6=2)*((T28:V28="Y")+(T28:V28="N"))*1)+SUMPRODUCT((T$6:V$6=3)*((T28:V28="Y")+(T28:V28="N"))*1)+SUMPRODUCT((T$6:V$6=4)*((T28:V28="Y")+(T28:V28="N"))*1)+SUMPRODUCT((T$6:V$6=5)*((T28:V28="Y")+(T28:V28="N"))*2))+1*(SUMPRODUCT((BJ$6:BQ$6=1)*((BJ28:BQ28="Y")+(BJ28:BQ28="N"))*2)+SUMPRODUCT((BJ$6:BQ$6=2)*((BJ28:BQ28="Y")+(BJ28:BQ28="N"))*1)+SUMPRODUCT((BJ$6:BQ$6=3)*((BJ28:BQ28="Y")+(BJ28:BQ28="N"))*1)+SUMPRODUCT((BJ$6:BQ$6=4)*((BJ28:BQ28="Y")+(BJ28:BQ28="N"))*1)+SUMPRODUCT((BJ$6:BQ$6=5)*((BJ28:BQ28="Y")+(BJ28:BQ28="N"))*2))} -> 18 | CK28: {=5*(SUMPRODUCT((T$6:V$6=1)*(T28:V28="Y")*2)+SUMPRODUCT((T$6:V$6=2)*(T28:V28="Y")*1)+SUMPRODUCT((T$6:V$6=3)*(T28:V28="Y")*1)+SUMPRODUCT((T$6:V$6=4)*(T28:V28="N")*1)+SUMPRODUCT((T$6:V$6=5)*(T28:V28="N")*2))+(SUMPRODUCT((BJ$6:BQ$6=1)*(BJ28:BQ28="Y")*2)+SUMPRODUCT((BJ$6:BQ$6=2)*(BJ28:BQ28="Y")*1)+SUMPRODUCT((BJ$6:BQ$6=3)*(BJ28:BQ28="Y")*1)+SUMPRODUCT((BJ$6:BQ$6=4)*(BJ28:BQ28="N")*1)+SUMPRODUCT((BJ$6:BQ$6=5)*(BJ28:BQ28="N")*2))} -> 18 | CL28: =COUNTA(T28:V28)+COUNTA(BJ28:BQ28) -> 9
A29: =SUM((BT29/BS29)*100) -> 90.291262 | B29: =SUM(BY29/BX29)*100 -> 100 | C29: =SUM(CB29/CA29)*100 -> 75 | D29: =SUM(CE29/CD29)*100 -> 100 | E29: =SUM(CH29/CG29)*100 -> 100 | F29: =SUM(CK29/CJ29)*100 -> 100 | H29: Sen. | I29: Grassley | J29: Chuck | K29: IA | L29: R | M29: Y | N29: Y | O29: Y | P29: Y | Q29: Y | R29: Y | S29: Y | T29: Y | U29: Y | V29: Y | W29: Y | X29: Y | Y29: Y | Z29: Y | AA29: Y | AB29: Y | AC29: Y | AD29: Y | AE29: Y | AF29: Y | AG29: Y | AH29: Y | AI29: Y | AJ29: Y | AK29: Y | AL29: Y | AM29: Y | AN29: Y | AO29: Y | AP29: Y | AQ29: Y | AR29: Y | AS29: Y | AT29: Y | AU29: Y | AV29: Y | AW29: Y | AX29: Y | AY29: Y | AZ29: Y | BA29: NV | BB29: Y | BC29: Y | BD29: Y | BE29: Y | BF29: Y | BG29: Y | BH29: Y | BI29: Y | BJ29: Y | BK29: Y | BL29: Y | BM29: Y | BN29: Y | BO29: Y | BP29: Y | BQ29: Y | BR29: Y | BS29: {=5 * (SUMPRODUCT( (M$6:V$6=1)*((M29:V29="Y") + (M29:V29="N")) * 2 ) +SUMPRODUCT( (M$6:V$6=2) * ((M29:V29="Y") + (M29:V29="N")) * 1 ) + SUMPRODUCT( (M$6:V$6=3)*((M29:V29="Y")+(M29:V29="N"))*1 ) +SUMPRODUCT( (M$6:V$6=4 ) * ((M29:V29="Y") + (M29:V29="N")) * 1 )+SUMPRODUCT( (M$6:V$6=5) * ((M29:V29="Y")+(M29:V29="N")) * 2 ))+1*(SUMPRODUCT( (X$6:BQ$6=1) * ((X29:BQ29="Y") + (X29:BQ29="N")) * 2 ) +SUMPRODUCT( (X$6:BQ$6=2 ) * ((X29:BQ29="Y") + (X29:BQ29="N")) * 1 ) +SUMPRODUCT( (X$6:BQ$6=3) * ((X29:BQ29="Y") + (X29:BQ29="N")) * 1 ) +SUMPRODUCT( (X$6:BQ$6=4) * ((X29:BQ29="Y") + (X29:BQ29="N")) * 1 ) + SUMPRODUCT( (X$6:BQ$6=5) * ((X29:BQ29="Y") + (X29:BQ29="N")) * 2 ))} -> 103 | BT29: {=5 * (SUMPRODUCT( (M$6:V$6=1) * (M29:V29="Y") * 2 ) + SUMPRODUCT( (M$6:V$6=2) * (M29:V29="Y") * 1 ) +SUMPRODUCT( (M$6:V$6=3) * (M29:V29="Y") * 1 ) + SUMPRODUCT( (M$6:V$6=4) * (M29:V29="N") * 1 ) +SUMPRODUCT( (M$6:V$6=5) * (M29:V29="N") * 2 )) + (SUMPRODUCT( (X$6:BQ$6=1) * (X29:BQ29="Y") * 2 ) +SUMPRODUCT( (X$6:BQ$6=2) * (X29:BQ29="Y") * 1 ) +SUMPRODUCT( (X$6:BQ$6=3) * (X29:BQ29="Y") * 1 ) +SUMPRODUCT( (X$6:BQ$6=4) * (X29:BQ29="N") * 1 ) +SUMPRODUCT( (X$6:BQ$6=5) * (X29:BQ29="N") * 2 ))} -> 93 | BU29: =SUM(COUNTIF(M29:V29,$H$130)*$H$137)+(COUNTIF(X29:BQ29, $H$130)*$H$135) -> 1 | BV29: =COUNTA(M29) -> 1 | BX29: =5 * (SUMPRODUCT( (M$6:N$6=1)*((M29:N29="Y") + (M29:N29="N")) * 2 ) +SUMPRODUCT( (M$6:N$6=2) * ((M29:N29="Y") + (M29:N29="N")) * 1 ) + SUMPRODUCT( (M$6:N$6=3)*((M29:N29="Y")+(M29:N29="N"))*1 ) +SUMPRODUCT( (M$6:N$6=4 ) * ((M29:N29="Y") + (M29:N29="N")) * 1 )+SUMPRODUCT( (M$6:N$6=5) * ((M29:N29="Y")+(M29:N29="N")) * 2 ))+1*(SUMPRODUCT( (X$6:AC$6=1) * ((X29:AC29="Y") + (X29:AC29="N")) * 2 ) +SUMPRODUCT( (X$6:AC$6=2 ) * ((X29:AC29="Y") + (X29:AC29="N")) * 1 ) +SUMPRODUCT( (X$6:AC$6=3) * ((X29:AC29="Y") + (X29:AC29="N")) * 1 ) +SUMPRODUCT( (X$6:AC$6=4) * ((X29:AC29="Y") + (X29:AC29="N")) * 1 ) + SUMPRODUCT( (X$6:AC$6=5) * ((X29:AC29="Y") + (X29:AC29="N")) * 2 )) -> 17 | BY29: =5 * (SUMPRODUCT( (M$6:N$6=1) * (M29:N29="Y") * 2 ) + SUMPRODUCT( (M$6:N$6=2) * (M29:N29="Y") * 1 ) +SUMPRODUCT( (M$6:N$6=3) * (M29:N29="Y") * 1 ) + SUMPRODUCT( (M$6:N$6=4) * (M29:N29="N") * 1 ) +SUMPRODUCT( (M$6:N$6=5) * (M29:N29="N") * 2 )) + (SUMPRODUCT( (X$6:AC$6=1) * (X29:AC29="Y") * 2 ) +SUMPRODUCT( (X$6:AC$6=2) * (X29:AC29="Y") * 1 ) +SUMPRODUCT( (X$6:AC$6=3) * (X29:AC29="Y") * 1 ) +SUMPRODUCT( (X$6:AC$6=4) * (X29:AC29="N") * 1 ) +SUMPRODUCT( (X$6:AC$6=5) * (X29:AC29="N") * 2 )) -> 17 | BZ29: =COUNTA(M29:N29)+COUNTA(X29:AC29) -> 8 | CA29: =5 * (SUMPRODUCT( (O$6:R$6=1)*((O29:R29="Y") + (O29:R29="N")) * 2 ) +SUMPRODUCT( (O$6:R$6=2) * ((O29:R29="Y") + (O29:R29="N")) * 1 ) + SUMPRODUCT( (O$6:R$6=3)*((O29:R29="Y")+(O29:R29="N"))*1 ) +SUMPRODUCT( (O$6:R$6=4 ) * ((O29:R29="Y") + (O29:R29="N")) * 1 )+SUMPRODUCT( (O$6:R$6=5) * ((O29:R29="Y")+(O29:R29="N")) * 2 )) +1*(SUMPRODUCT( (AD$6:AQ$6=1) * ((AD29:AQ29="Y") + (AD29:AQ29="N")) * 2 ) +SUMPRODUCT( (AD$6:AQ$6=2 ) * ((AD29:AQ29="Y") + (AD29:AQ29="N")) * 1 ) +SUMPRODUCT( (AD$6:AQ$6=3) * ((AD29:AQ29="Y") + (AD29:AQ29="N")) * 1 ) +SUMPRODUCT( (AD$6:AQ$6=4) * ((AD29:AQ29="Y") + (AD29:AQ29="N")) * 1 ) + SUMPRODUCT( (AD$6:AQ$6=5) * ((AD29:AQ29="Y") + (AD29:AQ29="N")) * 2 )) -> 40 | CB29: =5 * (SUMPRODUCT( (O$6:R$6=1) * (O29:R29="Y") * 2 ) + SUMPRODUCT( (O$6:R$6=2) * (O29:R29="Y") * 1 ) +SUMPRODUCT( (O$6:R$6=3) * (O29:R29="Y") * 1 ) + SUMPRODUCT( (O$6:R$6=4) * (O29:R29="N") * 1 ) +SUMPRODUCT( (O$6:R$6=5) * (O29:R29="N") * 2 )) + (SUMPRODUCT( (AD$6:AQ$6=1) * (AD29:AQ29="Y") * 2 ) +SUMPRODUCT( (AD$6:AQ$6=2) * (AD29:AQ29="Y") * 1 ) +SUMPRODUCT( (AD$6:AQ$6=3) * (AD29:AQ29="Y") * 1 ) +SUMPRODUCT( (AD$6:AQ$6=4) * (AD29:AQ29="N") * 1 ) +SUMPRODUCT( (AD$6:AQ$6=5) * (AD29:AQ29="N") * 2 )) -> 30 | CC29: =COUNTA(O29:R29)+COUNTA(AD29:AQ29) -> 18 | CD29: =1*(SUMPRODUCT( (AR$6:AY$6=1) * ((AR29:AY29="Y") + (AR29:AY29="N")) * 2 ) +SUMPRODUCT( (AR$6:AY$6=2 ) * ((AR29:AY29="Y") + (AR29:AY29="N")) * 1 ) +SUMPRODUCT( (AR$6:AY$6=3) * ((AR29:AY29="Y") + (AR29:AY29="N")) * 1 ) +SUMPRODUCT( (AR$6:AY$6=4) * ((AR29:AY29="Y") + (AR29:AY29="N")) * 1 ) + SUMPRODUCT( (AR$6:AY$6=5) * ((AR29:AY29="Y") + (AR29:AY29="N")) * 2 )) -> 8 | CE29: =(SUMPRODUCT( (AR$6:AY$6=1) * (AR29:AY29="Y") * 2 ) +SUMPRODUCT( (AR$6:AY$6=2) * (AR29:AY29="Y") * 1 ) +SUMPRODUCT( (AR$6:AY$6=3) * (AR29:AY29="Y") * 1 ) +SUMPRODUCT( (AR$6:AY$6=4) * (AR29:AY29="N") * 1 ) +SUMPRODUCT( (AR$6:AY$6=5) * (AR29:AY29="N") * 2 )) -> 8 | CF29: =COUNTA(AR29:AY29) -> 8 | CG29: {=5*(SUMPRODUCT((S$6=1)*((S29="Y")+(S29="N"))*2)+SUMPRODUCT((S$6=2)*((S29="Y")+(S29="N"))*1)+SUMPRODUCT((S$6=3)*((S29="Y")+(S29="N"))*1)+SUMPRODUCT((S$6=4)*((S29="Y")+(S29="N"))*1)+SUMPRODUCT((S$6=5)*((S29="Y")+(S29="N"))*2))+1*(SUMPRODUCT((AZ$6:BI$6=1)*((AZ29:BI29="Y")+(AZ29:BI29="N"))*2)+SUMPRODUCT((AZ$6:BI$6=2)*((AZ29:BI29="Y")+(AZ29:BI29="N"))*1)+SUMPRODUCT((AZ$6:BI$6=3)*((AZ29:BI29="Y")+(AZ29:BI29="N"))*1)+SUMPRODUCT((AZ$6:BI$6=4)*((AZ29:BI29="Y")+(AZ29:BI29="N"))*1)+SUMPRODUCT((AZ$6:BI$6=5)*((AZ29:BI29="Y")+(AZ29:BI29="N"))*2))} -> 14 | CH29: {=5*(SUMPRODUCT((S$6=1)*(S29="Y")*2)+SUMPRODUCT((S$6=2)*(S29="Y")*1)+SUMPRODUCT((S$6=3)*(S29="Y")*1)+SUMPRODUCT((S$6=4)*(S29="N")*1)+SUMPRODUCT((S$6=5)*(S29="N")*2))+(SUMPRODUCT((AZ$6:BI$6=1)*(AZ29:BI29="Y")*2)+SUMPRODUCT((AZ$6:BI$6=2)*(AZ29:BI29="Y")*1)+SUMPRODUCT((AZ$6:BI$6=3)*(AZ29:BI29="Y")*1)+SUMPRODUCT((AZ$6:BI$6=4)*(AZ29:BI29="N")*1)+SUMPRODUCT((AZ$6:BI$6=5)*(AZ29:BI29="N")*2))} -> 14 | CI29: =COUNTA(S29)+COUNTA(AZ29:BI29) -> 11 | CJ29: {=5*(SUMPRODUCT((T$6:V$6=1)*((T29:V29="Y")+(T29:V29="N"))*2)+SUMPRODUCT((T$6:V$6=2)*((T29:V29="Y")+(T29:V29="N"))*1)+SUMPRODUCT((T$6:V$6=3)*((T29:V29="Y")+(T29:V29="N"))*1)+SUMPRODUCT((T$6:V$6=4)*((T29:V29="Y")+(T29:V29="N"))*1)+SUMPRODUCT((T$6:V$6=5)*((T29:V29="Y")+(T29:V29="N"))*2))+1*(SUMPRODUCT((BJ$6:BQ$6=1)*((BJ29:BQ29="Y")+(BJ29:BQ29="N"))*2)+SUMPRODUCT((BJ$6:BQ$6=2)*((BJ29:BQ29="Y")+(BJ29:BQ29="N"))*1)+SUMPRODUCT((BJ$6:BQ$6=3)*((BJ29:BQ29="Y")+(BJ29:BQ29="N"))*1)+SUMPRODUCT((BJ$6:BQ$6=4)*((BJ29:BQ29="Y")+(BJ29:BQ29="N"))*1)+SUMPRODUCT((BJ$6:BQ$6=5)*((BJ29:BQ29="Y")+(BJ29:BQ29="N"))*2))} -> 24 | CK29: {=5*(SUMPRODUCT((T$6:V$6=1)*(T29:V29="Y")*2)+SUMPRODUCT((T$6:V$6=2)*(T29:V29="Y")*1)+SUMPRODUCT((T$6:V$6=3)*(T29:V29="Y")*1)+SUMPRODUCT((T$6:V$6=4)*(T29:V29="N")*1)+SUMPRODUCT((T$6:V$6=5)*(T29:V29="N")*2))+(SUMPRODUCT((BJ$6:BQ$6=1)*(BJ29:BQ29="Y")*2)+SUMPRODUCT((BJ$6:BQ$6=2)*(BJ29:BQ29="Y")*1)+SUMPRODUCT((BJ$6:BQ$6=3)*(BJ29:BQ29="Y")*1)+SUMPRODUCT((BJ$6:BQ$6=4)*(BJ29:BQ29="N")*1)+SUMPRODUCT((BJ$6:BQ$6=5)*(BJ29:BQ29="N")*2))} -> 24 | CL29: =COUNTA(T29:V29)+COUNTA(BJ29:BQ29) -> 11 | CM29: =SUM(COUNTIF(M29, $H$128)*$H$137)+(COUNTIF(M29, $H$129)*$H$137)+(COUNTIF(#REF!, $H$128)*$H$135)+(COUNTIF(#REF!, $H$129)*$H$135) -> #REF! | CN29: =SUM(COUNTIF(M29, $H$128)*$H$137)+(COUNTIF(#REF!, $H$128)*$H$135) -> #REF! | CO29: =COUNTA(M29)+COUNTA(#REF!) -> 2 | CP29: =SUM(COUNTIF(M29, $H$128)*$H$137)+(COUNTIF(M29, $H$129)*$H$137)+(COUNTIF(#REF!, $H$128)*$H$135)+(COUNTIF(#REF!, $H$129)*$H$135) -> #REF! | CQ29: =SUM(COUNTIF(M29, $H$128)*$H$137)+(COUNTIF(#REF!, $H$128)*$H$135) -> #REF! | CR29: =COUNTA(M29)+COUNTA(#REF!) -> 2
A30: =SUM((BT30/BS30)*100) -> 89.690722 | B30: =SUM(BY30/BX30)*100 -> 100 | C30: =SUM(CB30/CA30)*100 -> 75 | D30: =SUM(CE30/CD30)*100 -> 100 | E30: =SUM(CH30/CG30)*100 -> 100 | F30: =SUM(CK30/CJ30)*100 -> 100 | H30: Sen. | I30: Hagerty | J30: Bill | K30: TN | L30: R | M30: Y | N30: NV | O30: Y | P30: Y | Q30: Y | R30: Y | S30: Y | T30: Y | U30: Y | V30: Y | W30: Y | X30: Y | Y30: Y | Z30: Y | AA30: Y | AB30: Y | AC30: NV | AD30: Y | AE30: Y | AF30: Y | AG30: Y | AH30: Y | AI30: Y | AJ30: Y | AK30: Y | AL30: Y | AM30: Y | AN30: Y | AO30: Y | AP30: Y | AQ30: Y | AR30: Y | AS30: Y | AT30: Y | AU30: Y | AV30: Y | AW30: Y | AX30: Y | AY30: Y | AZ30: Y | BA30: Y | BB30: NV | BC30: Y | BD30: Y | BE30: Y | BF30: Y | BG30: Y | BH30: Y | BI30: Y | BJ30: Y | BK30: Y | BL30: Y | BM30: Y | BN30: Y | BO30: Y | BP30: Y | BQ30: Y | BR30: Y | BS30: {=5 * (SUMPRODUCT( (M$6:V$6=1)*((M30:V30="Y") + (M30:V30="N")) * 2 ) +SUMPRODUCT( (M$6:V$6=2) * ((M30:V30="Y") + (M30:V30="N")) * 1 ) + SUMPRODUCT( (M$6:V$6=3)*((M30:V30="Y")+(M30:V30="N"))*1 ) +SUMPRODUCT( (M$6:V$6=4 ) * ((M30:V30="Y") + (M30:V30="N")) * 1 )+SUMPRODUCT( (M$6:V$6=5) * ((M30:V30="Y")+(M30:V30="N")) * 2 ))+1*(SUMPRODUCT( (X$6:BQ$6=1) * ((X30:BQ30="Y") + (X30:BQ30="N")) * 2 ) +SUMPRODUCT( (X$6:BQ$6=2 ) * ((X30:BQ30="Y") + (X30:BQ30="N")) * 1 ) +SUMPRODUCT( (X$6:BQ$6=3) * ((X30:BQ30="Y") + (X30:BQ30="N")) * 1 ) +SUMPRODUCT( (X$6:BQ$6=4) * ((X30:BQ30="Y") + (X30:BQ30="N")) * 1 ) + SUMPRODUCT( (X$6:BQ$6=5) * ((X30:BQ30="Y") + (X30:BQ30="N")) * 2 ))} -> 97 | BT30: {=5 * (SUMPRODUCT( (M$6:V$6=1) * (M30:V30="Y") * 2 ) + SUMPRODUCT( (M$6:V$6=2) * (M30:V30="Y") * 1 ) +SUMPRODUCT( (M$6:V$6=3) * (M30:V30="Y") * 1 ) + SUMPRODUCT( (M$6:V$6=4) * (M30:V30="N") * 1 ) +SUMPRODUCT( (M$6:V$6=5) * (M30:V30="N") * 2 )) + (SUMPRODUCT( (X$6:BQ$6=1) * (X30:BQ30="Y") * 2 ) +SUMPRODUCT( (X$6:BQ$6=2) * (X30:BQ30="Y") * 1 ) +SUMPRODUCT( (X$6:BQ$6=3) * (X30:BQ30="Y") * 1 ) +SUMPRODUCT( (X$6:BQ$6=4) * (X30:BQ30="N") * 1 ) +SUMPRODUCT( (X$6:BQ$6=5) * (X30:BQ30="N") * 2 ))} -> 87 | BU30: =SUM(COUNTIF(M30:V30,$H$130)*$H$137)+(COUNTIF(X30:BQ30, $H$130)*$H$135) -> 7 | BV30: =COUNTA(M30) -> 1 | BX30: =5 * (SUMPRODUCT( (M$6:N$6=1)*((M30:N30="Y") + (M30:N30="N")) * 2 ) +SUMPRODUCT( (M$6:N$6=2) * ((M30:N30="Y") + (M30:N30="N")) * 1 ) + SUMPRODUCT( (M$6:N$6=3)*((M30:N30="Y")+(M30:N30="N"))*1 ) +SUMPRODUCT( (M$6:N$6=4 ) * ((M30:N30="Y") + (M30:N30="N")) * 1 )+SUMPRODUCT( (M$6:N$6=5) * ((M30:N30="Y")+(M30:N30="N")) * 2 ))+1*(SUMPRODUCT( (X$6:AC$6=1) * ((X30:AC30="Y") + (X30:AC30="N")) * 2 ) +SUMPRODUCT( (X$6:AC$6=2 ) * ((X30:AC30="Y") + (X30:AC30="N")) * 1 ) +SUMPRODUCT( (X$6:AC$6=3) * ((X30:AC30="Y") + (X30:AC30="N")) * 1 ) +SUMPRODUCT( (X$6:AC$6=4) * ((X30:AC30="Y") + (X30:AC30="N")) * 1 ) + SUMPRODUCT( (X$6:AC$6=5) * ((X30:AC30="Y") + (X30:AC30="N")) * 2 )) -> 11 | BY30: =5 * (SUMPRODUCT( (M$6:N$6=1) * (M30:N30="Y") * 2 ) + SUMPRODUCT( (M$6:N$6=2) * (M30:N30="Y") * 1 ) +SUMPRODUCT( (M$6:N$6=3) * (M30:N30="Y") * 1 ) + SUMPRODUCT( (M$6:N$6=4) * (M30:N30="N") * 1 ) +SUMPRODUCT( (M$6:N$6=5) * (M30:N30="N") * 2 )) + (SUMPRODUCT( (X$6:AC$6=1) * (X30:AC30="Y") * 2 ) +SUMPRODUCT( (X$6:AC$6=2) * (X30:AC30="Y") * 1 ) +SUMPRODUCT( (X$6:AC$6=3) * (X30:AC30="Y") * 1 ) +SUMPRODUCT( (X$6:AC$6=4) * (X30:AC30="N") * 1 ) +SUMPRODUCT( (X$6:AC$6=5) * (X30:AC30="N") * 2 )) -> 11 | BZ30: =COUNTA(M30:N30)+COUNTA(X30:AC30) -> 8 | CA30: =5 * (SUMPRODUCT( (O$6:R$6=1)*((O30:R30="Y") + (O30:R30="N")) * 2 ) +SUMPRODUCT( (O$6:R$6=2) * ((O30:R30="Y") + (O30:R30="N")) * 1 ) + SUMPRODUCT( (O$6:R$6=3)*((O30:R30="Y")+(O30:R30="N"))*1 ) +SUMPRODUCT( (O$6:R$6=4 ) * ((O30:R30="Y") + (O30:R30="N")) * 1 )+SUMPRODUCT( (O$6:R$6=5) * ((O30:R30="Y")+(O30:R30="N")) * 2 )) +1*(SUMPRODUCT( (AD$6:AQ$6=1) * ((AD30:AQ30="Y") + (AD30:AQ30="N")) * 2 ) +SUMPRODUCT( (AD$6:AQ$6=2 ) * ((AD30:AQ30="Y") + (AD30:AQ30="N")) * 1 ) +SUMPRODUCT( (AD$6:AQ$6=3) * ((AD30:AQ30="Y") + (AD30:AQ30="N")) * 1 ) +SUMPRODUCT( (AD$6:AQ$6=4) * ((AD30:AQ30="Y") + (AD30:AQ30="N")) * 1 ) + SUMPRODUCT( (AD$6:AQ$6=5) * ((AD30:AQ30="Y") + (AD30:AQ30="N")) * 2 )) -> 40 | CB30: =5 * (SUMPRODUCT( (O$6:R$6=1) * (O30:R30="Y") * 2 ) + SUMPRODUCT( (O$6:R$6=2) * (O30:R30="Y") * 1 ) +SUMPRODUCT( (O$6:R$6=3) * (O30:R30="Y") * 1 ) + SUMPRODUCT( (O$6:R$6=4) * (O30:R30="N") * 1 ) +SUMPRODUCT( (O$6:R$6=5) * (O30:R30="N") * 2 )) + (SUMPRODUCT( (AD$6:AQ$6=1) * (AD30:AQ30="Y") * 2 ) +SUMPRODUCT( (AD$6:AQ$6=2) * (AD30:AQ30="Y") * 1 ) +SUMPRODUCT( (AD$6:AQ$6=3) * (AD30:AQ30="Y") * 1 ) +SUMPRODUCT( (AD$6:AQ$6=4) * (AD30:AQ30="N") * 1 ) +SUMPRODUCT( (AD$6:AQ$6=5) * (AD30:AQ30="N") * 2 )) -> 30 | CC30: =COUNTA(O30:R30)+COUNTA(AD30:AQ30) -> 18 | CD30: =1*(SUMPRODUCT( (AR$6:AY$6=1) * ((AR30:AY30="Y") + (AR30:AY30="N")) * 2 ) +SUMPRODUCT( (AR$6:AY$6=2 ) * ((AR30:AY30="Y") + (AR30:AY30="N")) * 1 ) +SUMPRODUCT( (AR$6:AY$6=3) * ((AR30:AY30="Y") + (AR30:AY30="N")) * 1 ) +SUMPRODUCT( (AR$6:AY$6=4) * ((AR30:AY30="Y") + (AR30:AY30="N")) * 1 ) + SUMPRODUCT( (AR$6:AY$6=5) * ((AR30:AY30="Y") + (AR30:AY30="N")) * 2 )) -> 8 | CE30: =(SUMPRODUCT( (AR$6:AY$6=1) * (AR30:AY30="Y") * 2 ) +SUMPRODUCT( (AR$6:AY$6=2) * (AR30:AY30="Y") * 1 ) +SUMPRODUCT( (AR$6:AY$6=3) * (AR30:AY30="Y") * 1 ) +SUMPRODUCT( (AR$6:AY$6=4) * (AR30:AY30="N") * 1 ) +SUMPRODUCT( (AR$6:AY$6=5) * (AR30:AY30="N") * 2 )) -> 8 | CF30: =COUNTA(AR30:AY30) -> 8 | CG30: {=5*(SUMPRODUCT((S$6=1)*((S30="Y")+(S30="N"))*2)+SUMPRODUCT((S$6=2)*((S30="Y")+(S30="N"))*1)+SUMPRODUCT((S$6=3)*((S30="Y")+(S30="N"))*1)+SUMPRODUCT((S$6=4)*((S30="Y")+(S30="N"))*1)+SUMPRODUCT((S$6=5)*((S30="Y")+(S30="N"))*2))+1*(SUMPRODUCT((AZ$6:BI$6=1)*((AZ30:BI30="Y")+(AZ30:BI30="N"))*2)+SUMPRODUCT((AZ$6:BI$6=2)*((AZ30:BI30="Y")+(AZ30:BI30="N"))*1)+SUMPRODUCT((AZ$6:BI$6=3)*((AZ30:BI30="Y")+(AZ30:BI30="N"))*1)+SUMPRODUCT((AZ$6:BI$6=4)*((AZ30:BI30="Y")+(AZ30:BI30="N"))*1)+SUMPRODUCT((AZ$6:BI$6=5)*((AZ30:BI30="Y")+(AZ30:BI30="N"))*2))} -> 14 | CH30: {=5*(SUMPRODUCT((S$6=1)*(S30="Y")*2)+SUMPRODUCT((S$6=2)*(S30="Y")*1)+SUMPRODUCT((S$6=3)*(S30="Y")*1)+SUMPRODUCT((S$6=4)*(S30="N")*1)+SUMPRODUCT((S$6=5)*(S30="N")*2))+(SUMPRODUCT((AZ$6:BI$6=1)*(AZ30:BI30="Y")*2)+SUMPRODUCT((AZ$6:BI$6=2)*(AZ30:BI30="Y")*1)+SUMPRODUCT((AZ$6:BI$6=3)*(AZ30:BI30="Y")*1)+SUMPRODUCT((AZ$6:BI$6=4)*(AZ30:BI30="N")*1)+SUMPRODUCT((AZ$6:BI$6=5)*(AZ30:BI30="N")*2))} -> 14 | CI30: =COUNTA(S30)+COUNTA(AZ30:BI30) -> 11 | CJ30: {=5*(SUMPRODUCT((T$6:V$6=1)*((T30:V30="Y")+(T30:V30="N"))*2)+SUMPRODUCT((T$6:V$6=2)*((T30:V30="Y")+(T30:V30="N"))*1)+SUMPRODUCT((T$6:V$6=3)*((T30:V30="Y")+(T30:V30="N"))*1)+SUMPRODUCT((T$6:V$6=4)*((T30:V30="Y")+(T30:V30="N"))*1)+SUMPRODUCT((T$6:V$6=5)*((T30:V30="Y")+(T30:V30="N"))*2))+1*(SUMPRODUCT((BJ$6:BQ$6=1)*((BJ30:BQ30="Y")+(BJ30:BQ30="N"))*2)+SUMPRODUCT((BJ$6:BQ$6=2)*((BJ30:BQ30="Y")+(BJ30:BQ30="N"))*1)+SUMPRODUCT((BJ$6:BQ$6=3)*((BJ30:BQ30="Y")+(BJ30:BQ30="N"))*1)+SUMPRODUCT((BJ$6:BQ$6=4)*((BJ30:BQ30="Y")+(BJ30:BQ30="N"))*1)+SUMPRODUCT((BJ$6:BQ$6=5)*((BJ30:BQ30="Y")+(BJ30:BQ30="N"))*2))} -> 24 | CK30: {=5*(SUMPRODUCT((T$6:V$6=1)*(T30:V30="Y")*2)+SUMPRODUCT((T$6:V$6=2)*(T30:V30="Y")*1)+SUMPRODUCT((T$6:V$6=3)*(T30:V30="Y")*1)+SUMPRODUCT((T$6:V$6=4)*(T30:V30="N")*1)+SUMPRODUCT((T$6:V$6=5)*(T30:V30="N")*2))+(SUMPRODUCT((BJ$6:BQ$6=1)*(BJ30:BQ30="Y")*2)+SUMPRODUCT((BJ$6:BQ$6=2)*(BJ30:BQ30="Y")*1)+SUMPRODUCT((BJ$6:BQ$6=3)*(BJ30:BQ30="Y")*1)+SUMPRODUCT((BJ$6:BQ$6=4)*(BJ30:BQ30="N")*1)+SUMPRODUCT((BJ$6:BQ$6=5)*(BJ30:BQ30="N")*2))} -> 24 | CL30: =COUNTA(T30:V30)+COUNTA(BJ30:BQ30) -> 11 | CM30: =SUM(COUNTIF(M30, $H$128)*$H$137)+(COUNTIF(M30, $H$129)*$H$137)+(COUNTIF(#REF!, $H$128)*$H$135)+(COUNTIF(#REF!, $H$129)*$H$135) -> #REF! | CN30: =SUM(COUNTIF(M30, $H$128)*$H$137)+(COUNTIF(#REF!, $H$128)*$H$135) -> #REF! | CO30: =COUNTA(M30)+COUNTA(#REF!) -> 2 | CP30: =SUM(COUNTIF(M30, $H$128)*$H$137)+(COUNTIF(M30, $H$129)*$H$137)+(COUNTIF(#REF!, $H$128)*$H$135)+(COUNTIF(#REF!, $H$129)*$H$135) -> #REF! | CQ30: =SUM(COUNTIF(M30, $H$128)*$H$137)+(COUNTIF(#REF!, $H$128)*$H$135) -> #REF! | CR30: =COUNTA(M30)+COUNTA(#REF!) -> 2
A31: =SUM((BT31/BS31)*100) -> 90.384615 | B31: =SUM(BY31/BX31)*100 -> 100 | C31: =SUM(CB31/CA31)*100 -> 75 | D31: =SUM(CE31/CD31)*100 -> 100 | E31: =SUM(CH31/CG31)*100 -> 100 | F31: =SUM(CK31/CJ31)*100 -> 100 | H31: Sen. | I31: Hawley | J31: Josh | K31: MO | L31: R | M31: Y | N31: Y | O31: Y | P31: Y | Q31: Y | R31: Y | S31: Y | T31: Y | U31: Y | V31: Y | W31: Y | X31: Y | Y31: Y | Z31: Y | AA31: Y | AB31: Y | AC31: Y | AD31: Y | AE31: Y | AF31: Y | AG31: Y | AH31: Y | AI31: Y | AJ31: Y | AK31: Y | AL31: Y | AM31: Y | AN31: Y | AO31: Y | AP31: Y | AQ31: Y | AR31: Y | AS31: Y | AT31: Y | AU31: Y | AV31: Y | AW31: Y | AX31: Y | AY31: Y | AZ31: Y | BA31: Y | BB31: Y | BC31: Y | BD31: Y | BE31: Y | BF31: Y | BG31: Y | BH31: Y | BI31: Y | BJ31: Y | BK31: Y | BL31: Y | BM31: Y | BN31: Y | BO31: Y | BP31: Y | BQ31: Y | BR31: Y | BS31: {=5 * (SUMPRODUCT( (M$6:V$6=1)*((M31:V31="Y") + (M31:V31="N")) * 2 ) +SUMPRODUCT( (M$6:V$6=2) * ((M31:V31="Y") + (M31:V31="N")) * 1 ) + SUMPRODUCT( (M$6:V$6=3)*((M31:V31="Y")+(M31:V31="N"))*1 ) +SUMPRODUCT( (M$6:V$6=4 ) * ((M31:V31="Y") + (M31:V31="N")) * 1 )+SUMPRODUCT( (M$6:V$6=5) * ((M31:V31="Y")+(M31:V31="N")) * 2 ))+1*(SUMPRODUCT( (X$6:BQ$6=1) * ((X31:BQ31="Y") + (X31:BQ31="N")) * 2 ) +SUMPRODUCT( (X$6:BQ$6=2 ) * ((X31:BQ31="Y") + (X31:BQ31="N")) * 1 ) +SUMPRODUCT( (X$6:BQ$6=3) * ((X31:BQ31="Y") + (X31:BQ31="N")) * 1 ) +SUMPRODUCT( (X$6:BQ$6=4) * ((X31:BQ31="Y") + (X31:BQ31="N")) * 1 ) + SUMPRODUCT( (X$6:BQ$6=5) * ((X31:BQ31="Y") + (X31:BQ31="N")) * 2 ))} -> 104 | BT31: {=5 * (SUMPRODUCT( (M$6:V$6=1) * (M31:V31="Y") * 2 ) + SUMPRODUCT( (M$6:V$6=2) * (M31:V31="Y") * 1 ) +SUMPRODUCT( (M$6:V$6=3) * (M31:V31="Y") * 1 ) + SUMPRODUCT( (M$6:V$6=4) * (M31:V31="N") * 1 ) +SUMPRODUCT( (M$6:V$6=5) * (M31:V31="N") * 2 )) + (SUMPRODUCT( (X$6:BQ$6=1) * (X31:BQ31="Y") * 2 ) +SUMPRODUCT( (X$6:BQ$6=2) * (X31:BQ31="Y") * 1 ) +SUMPRODUCT( (X$6:BQ$6=3) * (X31:BQ31="Y") * 1 ) +SUMPRODUCT( (X$6:BQ$6=4) * (X31:BQ31="N") * 1 ) +SUMPRODUCT( (X$6:BQ$6=5) * (X31:BQ31="N") * 2 ))} -> 94 | BU31: =SUM(COUNTIF(M31:V31,$H$130)*$H$137)+(COUNTIF(X31:BQ31, $H$130)*$H$135) -> 0 | BV31: =COUNTA(M31) -> 1 | BX31: =5 * (SUMPRODUCT( (M$6:N$6=1)*((M31:N31="Y") + (M31:N31="N")) * 2 ) +SUMPRODUCT( (M$6:N$6=2) * ((M31:N31="Y") + (M31:N31="N")) * 1 ) + SUMPRODUCT( (M$6:N$6=3)*((M31:N31="Y")+(M31:N31="N"))*1 ) +SUMPRODUCT( (M$6:N$6=4 ) * ((M31:N31="Y") + (M31:N31="N")) * 1 )+SUMPRODUCT( (M$6:N$6=5) * ((M31:N31="Y")+(M31:N31="N")) * 2 ))+1*(SUMPRODUCT( (X$6:AC$6=1) * ((X31:AC31="Y") + (X31:AC31="N")) * 2 ) +SUMPRODUCT( (X$6:AC$6=2 ) * ((X31:AC31="Y") + (X31:AC31="N")) * 1 ) +SUMPRODUCT( (X$6:AC$6=3) * ((X31:AC31="Y") + (X31:AC31="N")) * 1 ) +SUMPRODUCT( (X$6:AC$6=4) * ((X31:AC31="Y") + (X31:AC31="N")) * 1 ) + SUMPRODUCT( (X$6:AC$6=5) * ((X31:AC31="Y") + (X31:AC31="N")) * 2 )) -> 17 | BY31: =5 * (SUMPRODUCT( (M$6:N$6=1) * (M31:N31="Y") * 2 ) + SUMPRODUCT( (M$6:N$6=2) * (M31:N31="Y") * 1 ) +SUMPRODUCT( (M$6:N$6=3) * (M31:N31="Y") * 1 ) + SUMPRODUCT( (M$6:N$6=4) * (M31:N31="N") * 1 ) +SUMPRODUCT( (M$6:N$6=5) * (M31:N31="N") * 2 )) + (SUMPRODUCT( (X$6:AC$6=1) * (X31:AC31="Y") * 2 ) +SUMPRODUCT( (X$6:AC$6=2) * (X31:AC31="Y") * 1 ) +SUMPRODUCT( (X$6:AC$6=3) * (X31:AC31="Y") * 1 ) +SUMPRODUCT( (X$6:AC$6=4) * (X31:AC31="N") * 1 ) +SUMPRODUCT( (X$6:AC$6=5) * (X31:AC31="N") * 2 )) -> 17 | BZ31: =COUNTA(M31:N31)+COUNTA(X31:AC31) -> 8 | CA31: =5 * (SUMPRODUCT( (O$6:R$6=1)*((O31:R31="Y") + (O31:R31="N")) * 2 ) +SUMPRODUCT( (O$6:R$6=2) * ((O31:R31="Y") + (O31:R31="N")) * 1 ) + SUMPRODUCT( (O$6:R$6=3)*((O31:R31="Y")+(O31:R31="N"))*1 ) +SUMPRODUCT( (O$6:R$6=4 ) * ((O31:R31="Y") + (O31:R31="N")) * 1 )+SUMPRODUCT( (O$6:R$6=5) * ((O31:R31="Y")+(O31:R31="N")) * 2 )) +1*(SUMPRODUCT( (AD$6:AQ$6=1) * ((AD31:AQ31="Y") + (AD31:AQ31="N")) * 2 ) +SUMPRODUCT( (AD$6:AQ$6=2 ) * ((AD31:AQ31="Y") + (AD31:AQ31="N")) * 1 ) +SUMPRODUCT( (AD$6:AQ$6=3) * ((AD31:AQ31="Y") + (AD31:AQ31="N")) * 1 ) +SUMPRODUCT( (AD$6:AQ$6=4) * ((AD31:AQ31="Y") + (AD31:AQ31="N")) * 1 ) + SUMPRODUCT( (AD$6:AQ$6=5) * ((AD31:AQ31="Y") + (AD31:AQ31="N")) * 2 )) -> 40 | CB31: =5 * (SUMPRODUCT( (O$6:R$6=1) * (O31:R31="Y") * 2 ) + SUMPRODUCT( (O$6:R$6=2) * (O31:R31="Y") * 1 ) +SUMPRODUCT( (O$6:R$6=3) * (O31:R31="Y") * 1 ) + SUMPRODUCT( (O$6:R$6=4) * (O31:R31="N") * 1 ) +SUMPRODUCT( (O$6:R$6=5) * (O31:R31="N") * 2 )) + (SUMPRODUCT( (AD$6:AQ$6=1) * (AD31:AQ31="Y") * 2 ) +SUMPRODUCT( (AD$6:AQ$6=2) * (AD31:AQ31="Y") * 1 ) +SUMPRODUCT( (AD$6:AQ$6=3) * (AD31:AQ31="Y") * 1 ) +SUMPRODUCT( (AD$6:AQ$6=4) * (AD31:AQ31="N") * 1 ) +SUMPRODUCT( (AD$6:AQ$6=5) * (AD31:AQ31="N") * 2 )) -> 30 | CC31: =COUNTA(O31:R31)+COUNTA(AD31:AQ31) -> 18 | CD31: =1*(SUMPRODUCT( (AR$6:AY$6=1) * ((AR31:AY31="Y") + (AR31:AY31="N")) * 2 ) +SUMPRODUCT( (AR$6:AY$6=2 ) * ((AR31:AY31="Y") + (AR31:AY31="N")) * 1 ) +SUMPRODUCT( (AR$6:AY$6=3) * ((AR31:AY31="Y") + (AR31:AY31="N")) * 1 ) +SUMPRODUCT( (AR$6:AY$6=4) * ((AR31:AY31="Y") + (AR31:AY31="N")) * 1 ) + SUMPRODUCT( (AR$6:AY$6=5) * ((AR31:AY31="Y") + (AR31:AY31="N")) * 2 )) -> 8 | CE31: =(SUMPRODUCT( (AR$6:AY$6=1) * (AR31:AY31="Y") * 2 ) +SUMPRODUCT( (AR$6:AY$6=2) * (AR31:AY31="Y") * 1 ) +SUMPRODUCT( (AR$6:AY$6=3) * (AR31:AY31="Y") * 1 ) +SUMPRODUCT( (AR$6:AY$6=4) * (AR31:AY31="N") * 1 ) +SUMPRODUCT( (AR$6:AY$6=5) * (AR31:AY31="N") * 2 )) -> 8 | CF31: =COUNTA(AR31:AY31) -> 8 | CG31: {=5*(SUMPRODUCT((S$6=1)*((S31="Y")+(S31="N"))*2)+SUMPRODUCT((S$6=2)*((S31="Y")+(S31="N"))*1)+SUMPRODUCT((S$6=3)*((S31="Y")+(S31="N"))*1)+SUMPRODUCT((S$6=4)*((S31="Y")+(S31="N"))*1)+SUMPRODUCT((S$6=5)*((S31="Y")+(S31="N"))*2))+1*(SUMPRODUCT((AZ$6:BI$6=1)*((AZ31:BI31="Y")+(AZ31:BI31="N"))*2)+SUMPRODUCT((AZ$6:BI$6=2)*((AZ31:BI31="Y")+(AZ31:BI31="N"))*1)+SUMPRODUCT((AZ$6:BI$6=3)*((AZ31:BI31="Y")+(AZ31:BI31="N"))*1)+SUMPRODUCT((AZ$6:BI$6=4)*((AZ31:BI31="Y")+(AZ31:BI31="N"))*1)+SUMPRODUCT((AZ$6:BI$6=5)*((AZ31:BI31="Y")+(AZ31:BI31="N"))*2))} -> 15 | CH31: {=5*(SUMPRODUCT((S$6=1)*(S31="Y")*2)+SUMPRODUCT((S$6=2)*(S31="Y")*1)+SUMPRODUCT((S$6=3)*(S31="Y")*1)+SUMPRODUCT((S$6=4)*(S31="N")*1)+SUMPRODUCT((S$6=5)*(S31="N")*2))+(SUMPRODUCT((AZ$6:BI$6=1)*(AZ31:BI31="Y")*2)+SUMPRODUCT((AZ$6:BI$6=2)*(AZ31:BI31="Y")*1)+SUMPRODUCT((AZ$6:BI$6=3)*(AZ31:BI31="Y")*1)+SUMPRODUCT((AZ$6:BI$6=4)*(AZ31:BI31="N")*1)+SUMPRODUCT((AZ$6:BI$6=5)*(AZ31:BI31="N")*2))} -> 15 | CI31: =COUNTA(S31)+COUNTA(AZ31:BI31) -> 11 | CJ31: {=5*(SUMPRODUCT((T$6:V$6=1)*((T31:V31="Y")+(T31:V31="N"))*2)+SUMPRODUCT((T$6:V$6=2)*((T31:V31="Y")+(T31:V31="N"))*1)+SUMPRODUCT((T$6:V$6=3)*((T31:V31="Y")+(T31:V31="N"))*1)+SUMPRODUCT((T$6:V$6=4)*((T31:V31="Y")+(T31:V31="N"))*1)+SUMPRODUCT((T$6:V$6=5)*((T31:V31="Y")+(T31:V31="N"))*2))+1*(SUMPRODUCT((BJ$6:BQ$6=1)*((BJ31:BQ31="Y")+(BJ31:BQ31="N"))*2)+SUMPRODUCT((BJ$6:BQ$6=2)*((BJ31:BQ31="Y")+(BJ31:BQ31="N"))*1)+SUMPRODUCT((BJ$6:BQ$6=3)*((BJ31:BQ31="Y")+(BJ31:BQ31="N"))*1)+SUMPRODUCT((BJ$6:BQ$6=4)*((BJ31:BQ31="Y")+(BJ31:BQ31="N"))*1)+SUMPRODUCT((BJ$6:BQ$6=5)*((BJ31:BQ31="Y")+(BJ31:BQ31="N"))*2))} -> 24 | CK31: {=5*(SUMPRODUCT((T$6:V$6=1)*(T31:V31="Y")*2)+SUMPRODUCT((T$6:V$6=2)*(T31:V31="Y")*1)+SUMPRODUCT((T$6:V$6=3)*(T31:V31="Y")*1)+SUMPRODUCT((T$6:V$6=4)*(T31:V31="N")*1)+SUMPRODUCT((T$6:V$6=5)*(T31:V31="N")*2))+(SUMPRODUCT((BJ$6:BQ$6=1)*(BJ31:BQ31="Y")*2)+SUMPRODUCT((BJ$6:BQ$6=2)*(BJ31:BQ31="Y")*1)+SUMPRODUCT((BJ$6:BQ$6=3)*(BJ31:BQ31="Y")*1)+SUMPRODUCT((BJ$6:BQ$6=4)*(BJ31:BQ31="N")*1)+SUMPRODUCT((BJ$6:BQ$6=5)*(BJ31:BQ31="N")*2))} -> 24 | CL31: =COUNTA(T31:V31)+COUNTA(BJ31:BQ31) -> 11 | CM31: =SUM(COUNTIF(M31, $H$128)*$H$137)+(COUNTIF(M31, $H$129)*$H$137)+(COUNTIF(#REF!, $H$128)*$H$135)+(COUNTIF(#REF!, $H$129)*$H$135) -> #REF! | CN31: =SUM(COUNTIF(M31, $H$128)*$H$137)+(COUNTIF(#REF!, $H$128)*$H$135) -> #REF! | CO31: =COUNTA(M31)+COUNTA(#REF!) -> 2 | CP31: =SUM(COUNTIF(M31, $H$128)*$H$137)+(COUNTIF(M31, $H$129)*$H$137)+(COUNTIF(#REF!, $H$128)*$H$135)+(COUNTIF(#REF!, $H$129)*$H$135) -> #REF! | CQ31: =SUM(COUNTIF(M31, $H$128)*$H$137)+(COUNTIF(#REF!, $H$128)*$H$135) -> #REF! | CR31: =COUNTA(M31)+COUNTA(#REF!) -> 2
A32: =SUM((BT32/BS32)*100) -> 90.384615 | B32: =SUM(BY32/BX32)*100 -> 100 | C32: =SUM(CB32/CA32)*100 -> 75 | D32: =SUM(CE32/CD32)*100 -> 100 | E32: =SUM(CH32/CG32)*100 -> 100 | F32: =SUM(CK32/CJ32)*100 -> 100 | H32: Sen. | I32: Hoeven | J32: John | K32: ND | L32: R | M32: Y | N32: Y | O32: Y | P32: Y | Q32: Y | R32: Y | S32: Y | T32: Y | U32: Y | V32: Y | W32: Y | X32: Y | Y32: Y | Z32: Y | AA32: Y | AB32: Y | AC32: Y | AD32: Y | AE32: Y | AF32: Y | AG32: Y | AH32: Y | AI32: Y | AJ32: Y | AK32: Y | AL32: Y | AM32: Y | AN32: Y | AO32: Y | AP32: Y | AQ32: Y | AR32: Y | AS32: Y | AT32: Y | AU32: Y | AV32: Y | AW32: Y | AX32: Y | AY32: Y | AZ32: Y | BA32: Y | BB32: Y | BC32: Y | BD32: Y | BE32: Y | BF32: Y | BG32: Y | BH32: Y | BI32: Y | BJ32: Y | BK32: Y | BL32: Y | BM32: Y | BN32: Y | BO32: Y | BP32: Y | BQ32: Y | BR32: Y | BS32: {=5 * (SUMPRODUCT( (M$6:V$6=1)*((M32:V32="Y") + (M32:V32="N")) * 2 ) +SUMPRODUCT( (M$6:V$6=2) * ((M32:V32="Y") + (M32:V32="N")) * 1 ) + SUMPRODUCT( (M$6:V$6=3)*((M32:V32="Y")+(M32:V32="N"))*1 ) +SUMPRODUCT( (M$6:V$6=4 ) * ((M32:V32="Y") + (M32:V32="N")) * 1 )+SUMPRODUCT( (M$6:V$6=5) * ((M32:V32="Y")+(M32:V32="N")) * 2 ))+1*(SUMPRODUCT( (X$6:BQ$6=1) * ((X32:BQ32="Y") + (X32:BQ32="N")) * 2 ) +SUMPRODUCT( (X$6:BQ$6=2 ) * ((X32:BQ32="Y") + (X32:BQ32="N")) * 1 ) +SUMPRODUCT( (X$6:BQ$6=3) * ((X32:BQ32="Y") + (X32:BQ32="N")) * 1 ) +SUMPRODUCT( (X$6:BQ$6=4) * ((X32:BQ32="Y") + (X32:BQ32="N")) * 1 ) + SUMPRODUCT( (X$6:BQ$6=5) * ((X32:BQ32="Y") + (X32:BQ32="N")) * 2 ))} -> 104 | BT32: {=5 * (SUMPRODUCT( (M$6:V$6=1) * (M32:V32="Y") * 2 ) + SUMPRODUCT( (M$6:V$6=2) * (M32:V32="Y") * 1 ) +SUMPRODUCT( (M$6:V$6=3) * (M32:V32="Y") * 1 ) + SUMPRODUCT( (M$6:V$6=4) * (M32:V32="N") * 1 ) +SUMPRODUCT( (M$6:V$6=5) * (M32:V32="N") * 2 )) + (SUMPRODUCT( (X$6:BQ$6=1) * (X32:BQ32="Y") * 2 ) +SUMPRODUCT( (X$6:BQ$6=2) * (X32:BQ32="Y") * 1 ) +SUMPRODUCT( (X$6:BQ$6=3) * (X32:BQ32="Y") * 1 ) +SUMPRODUCT( (X$6:BQ$6=4) * (X32:BQ32="N") * 1 ) +SUMPRODUCT( (X$6:BQ$6=5) * (X32:BQ32="N") * 2 ))} -> 94 | BU32: =SUM(COUNTIF(M32:V32,$H$130)*$H$137)+(COUNTIF(X32:BQ32, $H$130)*$H$135) -> 0 | BV32: =COUNTA(M32) -> 1 | BX32: =5 * (SUMPRODUCT( (M$6:N$6=1)*((M32:N32="Y") + (M32:N32="N")) * 2 ) +SUMPRODUCT( (M$6:N$6=2) * ((M32:N32="Y") + (M32:N32="N")) * 1 ) + SUMPRODUCT( (M$6:N$6=3)*((M32:N32="Y")+(M32:N32="N"))*1 ) +SUMPRODUCT( (M$6:N$6=4 ) * ((M32:N32="Y") + (M32:N32="N")) * 1 )+SUMPRODUCT( (M$6:N$6=5) * ((M32:N32="Y")+(M32:N32="N")) * 2 ))+1*(SUMPRODUCT( (X$6:AC$6=1) * ((X32:AC32="Y") + (X32:AC32="N")) * 2 ) +SUMPRODUCT( (X$6:AC$6=2 ) * ((X32:AC32="Y") + (X32:AC32="N")) * 1 ) +SUMPRODUCT( (X$6:AC$6=3) * ((X32:AC32="Y") + (X32:AC32="N")) * 1 ) +SUMPRODUCT( (X$6:AC$6=4) * ((X32:AC32="Y") + (X32:AC32="N")) * 1 ) + SUMPRODUCT( (X$6:AC$6=5) * ((X32:AC32="Y") + (X32:AC32="N")) * 2 )) -> 17 | BY32: =5 * (SUMPRODUCT( (M$6:N$6=1) * (M32:N32="Y") * 2 ) + SUMPRODUCT( (M$6:N$6=2) * (M32:N32="Y") * 1 ) +SUMPRODUCT( (M$6:N$6=3) * (M32:N32="Y") * 1 ) + SUMPRODUCT( (M$6:N$6=4) * (M32:N32="N") * 1 ) +SUMPRODUCT( (M$6:N$6=5) * (M32:N32="N") * 2 )) + (SUMPRODUCT( (X$6:AC$6=1) * (X32:AC32="Y") * 2 ) +SUMPRODUCT( (X$6:AC$6=2) * (X32:AC32="Y") * 1 ) +SUMPRODUCT( (X$6:AC$6=3) * (X32:AC32="Y") * 1 ) +SUMPRODUCT( (X$6:AC$6=4) * (X32:AC32="N") * 1 ) +SUMPRODUCT( (X$6:AC$6=5) * (X32:AC32="N") * 2 )) -> 17 | BZ32: =COUNTA(M32:N32)+COUNTA(X32:AC32) -> 8 | CA32: =5 * (SUMPRODUCT( (O$6:R$6=1)*((O32:R32="Y") + (O32:R32="N")) * 2 ) +SUMPRODUCT( (O$6:R$6=2) * ((O32:R32="Y") + (O32:R32="N")) * 1 ) + SUMPRODUCT( (O$6:R$6=3)*((O32:R32="Y")+(O32:R32="N"))*1 ) +SUMPRODUCT( (O$6:R$6=4 ) * ((O32:R32="Y") + (O32:R32="N")) * 1 )+SUMPRODUCT( (O$6:R$6=5) * ((O32:R32="Y")+(O32:R32="N")) * 2 )) +1*(SUMPRODUCT( (AD$6:AQ$6=1) * ((AD32:AQ32="Y") + (AD32:AQ32="N")) * 2 ) +SUMPRODUCT( (AD$6:AQ$6=2 ) * ((AD32:AQ32="Y") + (AD32:AQ32="N")) * 1 ) +SUMPRODUCT( (AD$6:AQ$6=3) * ((AD32:AQ32="Y") + (AD32:AQ32="N")) * 1 ) +SUMPRODUCT( (AD$6:AQ$6=4) * ((AD32:AQ32="Y") + (AD32:AQ32="N")) * 1 ) + SUMPRODUCT( (AD$6:AQ$6=5) * ((AD32:AQ32="Y") + (AD32:AQ32="N")) * 2 )) -> 40 | CB32: =5 * (SUMPRODUCT( (O$6:R$6=1) * (O32:R32="Y") * 2 ) + SUMPRODUCT( (O$6:R$6=2) * (O32:R32="Y") * 1 ) +SUMPRODUCT( (O$6:R$6=3) * (O32:R32="Y") * 1 ) + SUMPRODUCT( (O$6:R$6=4) * (O32:R32="N") * 1 ) +SUMPRODUCT( (O$6:R$6=5) * (O32:R32="N") * 2 )) + (SUMPRODUCT( (AD$6:AQ$6=1) * (AD32:AQ32="Y") * 2 ) +SUMPRODUCT( (AD$6:AQ$6=2) * (AD32:AQ32="Y") * 1 ) +SUMPRODUCT( (AD$6:AQ$6=3) * (AD32:AQ32="Y") * 1 ) +SUMPRODUCT( (AD$6:AQ$6=4) * (AD32:AQ32="N") * 1 ) +SUMPRODUCT( (AD$6:AQ$6=5) * (AD32:AQ32="N") * 2 )) -> 30 | CC32: =COUNTA(O32:R32)+COUNTA(AD32:AQ32) -> 18 | CD32: =1*(SUMPRODUCT( (AR$6:AY$6=1) * ((AR32:AY32="Y") + (AR32:AY32="N")) * 2 ) +SUMPRODUCT( (AR$6:AY$6=2 ) * ((AR32:AY32="Y") + (AR32:AY32="N")) * 1 ) +SUMPRODUCT( (AR$6:AY$6=3) * ((AR32:AY32="Y") + (AR32:AY32="N")) * 1 ) +SUMPRODUCT( (AR$6:AY$6=4) * ((AR32:AY32="Y") + (AR32:AY32="N")) * 1 ) + SUMPRODUCT( (AR$6:AY$6=5) * ((AR32:AY32="Y") + (AR32:AY32="N")) * 2 )) -> 8 | CE32: =(SUMPRODUCT( (AR$6:AY$6=1) * (AR32:AY32="Y") * 2 ) +SUMPRODUCT( (AR$6:AY$6=2) * (AR32:AY32="Y") * 1 ) +SUMPRODUCT( (AR$6:AY$6=3) * (AR32:AY32="Y") * 1 ) +SUMPRODUCT( (AR$6:AY$6=4) * (AR32:AY32="N") * 1 ) +SUMPRODUCT( (AR$6:AY$6=5) * (AR32:AY32="N") * 2 )) -> 8 | CF32: =COUNTA(AR32:AY32) -> 8 | CG32: {=5*(SUMPRODUCT((S$6=1)*((S32="Y")+(S32="N"))*2)+SUMPRODUCT((S$6=2)*((S32="Y")+(S32="N"))*1)+SUMPRODUCT((S$6=3)*((S32="Y")+(S32="N"))*1)+SUMPRODUCT((S$6=4)*((S32="Y")+(S32="N"))*1)+SUMPRODUCT((S$6=5)*((S32="Y")+(S32="N"))*2))+1*(SUMPRODUCT((AZ$6:BI$6=1)*((AZ32:BI32="Y")+(AZ32:BI32="N"))*2)+SUMPRODUCT((AZ$6:BI$6=2)*((AZ32:BI32="Y")+(AZ32:BI32="N"))*1)+SUMPRODUCT((AZ$6:BI$6=3)*((AZ32:BI32="Y")+(AZ32:BI32="N"))*1)+SUMPRODUCT((AZ$6:BI$6=4)*((AZ32:BI32="Y")+(AZ32:BI32="N"))*1)+SUMPRODUCT((AZ$6:BI$6=5)*((AZ32:BI32="Y")+(AZ32:BI32="N"))*2))} -> 15 | CH32: {=5*(SUMPRODUCT((S$6=1)*(S32="Y")*2)+SUMPRODUCT((S$6=2)*(S32="Y")*1)+SUMPRODUCT((S$6=3)*(S32="Y")*1)+SUMPRODUCT((S$6=4)*(S32="N")*1)+SUMPRODUCT((S$6=5)*(S32="N")*2))+(SUMPRODUCT((AZ$6:BI$6=1)*(AZ32:BI32="Y")*2)+SUMPRODUCT((AZ$6:BI$6=2)*(AZ32:BI32="Y")*1)+SUMPRODUCT((AZ$6:BI$6=3)*(AZ32:BI32="Y")*1)+SUMPRODUCT((AZ$6:BI$6=4)*(AZ32:BI32="N")*1)+SUMPRODUCT((AZ$6:BI$6=5)*(AZ32:BI32="N")*2))} -> 15 | CI32: =COUNTA(S32)+COUNTA(AZ32:BI32) -> 11 | CJ32: {=5*(SUMPRODUCT((T$6:V$6=1)*((T32:V32="Y")+(T32:V32="N"))*2)+SUMPRODUCT((T$6:V$6=2)*((T32:V32="Y")+(T32:V32="N"))*1)+SUMPRODUCT((T$6:V$6=3)*((T32:V32="Y")+(T32:V32="N"))*1)+SUMPRODUCT((T$6:V$6=4)*((T32:V32="Y")+(T32:V32="N"))*1)+SUMPRODUCT((T$6:V$6=5)*((T32:V32="Y")+(T32:V32="N"))*2))+1*(SUMPRODUCT((BJ$6:BQ$6=1)*((BJ32:BQ32="Y")+(BJ32:BQ32="N"))*2)+SUMPRODUCT((BJ$6:BQ$6=2)*((BJ32:BQ32="Y")+(BJ32:BQ32="N"))*1)+SUMPRODUCT((BJ$6:BQ$6=3)*((BJ32:BQ32="Y")+(BJ32:BQ32="N"))*1)+SUMPRODUCT((BJ$6:BQ$6=4)*((BJ32:BQ32="Y")+(BJ32:BQ32="N"))*1)+SUMPRODUCT((BJ$6:BQ$6=5)*((BJ32:BQ32="Y")+(BJ32:BQ32="N"))*2))} -> 24 | CK32: {=5*(SUMPRODUCT((T$6:V$6=1)*(T32:V32="Y")*2)+SUMPRODUCT((T$6:V$6=2)*(T32:V32="Y")*1)+SUMPRODUCT((T$6:V$6=3)*(T32:V32="Y")*1)+SUMPRODUCT((T$6:V$6=4)*(T32:V32="N")*1)+SUMPRODUCT((T$6:V$6=5)*(T32:V32="N")*2))+(SUMPRODUCT((BJ$6:BQ$6=1)*(BJ32:BQ32="Y")*2)+SUMPRODUCT((BJ$6:BQ$6=2)*(BJ32:BQ32="Y")*1)+SUMPRODUCT((BJ$6:BQ$6=3)*(BJ32:BQ32="Y")*1)+SUMPRODUCT((BJ$6:BQ$6=4)*(BJ32:BQ32="N")*1)+SUMPRODUCT((BJ$6:BQ$6=5)*(BJ32:BQ32="N")*2))} -> 24 | CL32: =COUNTA(T32:V32)+COUNTA(BJ32:BQ32) -> 11 | CM32: =SUM(COUNTIF(M32, $H$128)*$H$137)+(COUNTIF(M32, $H$129)*$H$137)+(COUNTIF(#REF!, $H$128)*$H$135)+(COUNTIF(#REF!, $H$129)*$H$135) -> #REF! | CN32: =SUM(COUNTIF(M32, $H$128)*$H$137)+(COUNTIF(#REF!, $H$128)*$H$135) -> #REF! | CO32: =COUNTA(M32)+COUNTA(#REF!) -> 2 | CP32: =SUM(COUNTIF(M32, $H$128)*$H$137)+(COUNTIF(M32, $H$129)*$H$137)+(COUNTIF(#REF!, $H$128)*$H$135)+(COUNTIF(#REF!, $H$129)*$H$135) -> #REF! | CQ32: =SUM(COUNTIF(M32, $H$128)*$H$137)+(COUNTIF(#REF!, $H$128)*$H$135) -> #REF! | CR32: =COUNTA(M32)+COUNTA(#REF!) -> 2
A33: =SUM((BT33/BS33)*100) -> 90.384615 | B33: =SUM(BY33/BX33)*100 -> 100 | C33: =SUM(CB33/CA33)*100 -> 75 | D33: =SUM(CE33/CD33)*100 -> 100 | E33: =SUM(CH33/CG33)*100 -> 100 | F33: =SUM(CK33/CJ33)*100 -> 100 | H33: Sen. | I33: Husted | J33: Jon | K33: OH | L33: R | M33: Y | N33: Y | O33: Y | P33: Y | Q33: Y | R33: Y | S33: Y | T33: Y | U33: Y | V33: Y | W33: Y | X33: Y | Y33: Y | Z33: Y | AA33: Y | AB33: Y | AC33: Y | AD33: Y | AE33: Y | AF33: Y | AG33: Y | AH33: Y | AI33: Y | AJ33: Y | AK33: Y | AL33: Y | AM33: Y | AN33: Y | AO33: Y | AP33: Y | AQ33: Y | AR33: Y | AS33: Y | AT33: Y | AU33: Y | AV33: Y | AW33: Y | AX33: Y | AY33: Y | AZ33: Y | BA33: Y | BB33: Y | BC33: Y | BD33: Y | BE33: Y | BF33: Y | BG33: Y | BH33: Y | BI33: Y | BJ33: Y | BK33: Y | BL33: Y | BM33: Y | BN33: Y | BO33: Y | BP33: Y | BQ33: Y | BR33: Y | BS33: {=5 * (SUMPRODUCT( (M$6:V$6=1)*((M33:V33="Y") + (M33:V33="N")) * 2 ) +SUMPRODUCT( (M$6:V$6=2) * ((M33:V33="Y") + (M33:V33="N")) * 1 ) + SUMPRODUCT( (M$6:V$6=3)*((M33:V33="Y")+(M33:V33="N"))*1 ) +SUMPRODUCT( (M$6:V$6=4 ) * ((M33:V33="Y") + (M33:V33="N")) * 1 )+SUMPRODUCT( (M$6:V$6=5) * ((M33:V33="Y")+(M33:V33="N")) * 2 ))+1*(SUMPRODUCT( (X$6:BQ$6=1) * ((X33:BQ33="Y") + (X33:BQ33="N")) * 2 ) +SUMPRODUCT( (X$6:BQ$6=2 ) * ((X33:BQ33="Y") + (X33:BQ33="N")) * 1 ) +SUMPRODUCT( (X$6:BQ$6=3) * ((X33:BQ33="Y") + (X33:BQ33="N")) * 1 ) +SUMPRODUCT( (X$6:BQ$6=4) * ((X33:BQ33="Y") + (X33:BQ33="N")) * 1 ) + SUMPRODUCT( (X$6:BQ$6=5) * ((X33:BQ33="Y") + (X33:BQ33="N")) * 2 ))} -> 104 | BT33: {=5 * (SUMPRODUCT( (M$6:V$6=1) * (M33:V33="Y") * 2 ) + SUMPRODUCT( (M$6:V$6=2) * (M33:V33="Y") * 1 ) +SUMPRODUCT( (M$6:V$6=3) * (M33:V33="Y") * 1 ) + SUMPRODUCT( (M$6:V$6=4) * (M33:V33="N") * 1 ) +SUMPRODUCT( (M$6:V$6=5) * (M33:V33="N") * 2 )) + (SUMPRODUCT( (X$6:BQ$6=1) * (X33:BQ33="Y") * 2 ) +SUMPRODUCT( (X$6:BQ$6=2) * (X33:BQ33="Y") * 1 ) +SUMPRODUCT( (X$6:BQ$6=3) * (X33:BQ33="Y") * 1 ) +SUMPRODUCT( (X$6:BQ$6=4) * (X33:BQ33="N") * 1 ) +SUMPRODUCT( (X$6:BQ$6=5) * (X33:BQ33="N") * 2 ))} -> 94 | BU33: =SUM(COUNTIF(M33:V33,$H$130)*$H$137)+(COUNTIF(X33:BQ33, $H$130)*$H$135) -> 0 | BV33: =COUNTA(M33) -> 1 | BX33: =5 * (SUMPRODUCT( (M$6:N$6=1)*((M33:N33="Y") + (M33:N33="N")) * 2 ) +SUMPRODUCT( (M$6:N$6=2) * ((M33:N33="Y") + (M33:N33="N")) * 1 ) + SUMPRODUCT( (M$6:N$6=3)*((M33:N33="Y")+(M33:N33="N"))*1 ) +SUMPRODUCT( (M$6:N$6=4 ) * ((M33:N33="Y") + (M33:N33="N")) * 1 )+SUMPRODUCT( (M$6:N$6=5) * ((M33:N33="Y")+(M33:N33="N")) * 2 ))+1*(SUMPRODUCT( (X$6:AC$6=1) * ((X33:AC33="Y") + (X33:AC33="N")) * 2 ) +SUMPRODUCT( (X$6:AC$6=2 ) * ((X33:AC33="Y") + (X33:AC33="N")) * 1 ) +SUMPRODUCT( (X$6:AC$6=3) * ((X33:AC33="Y") + (X33:AC33="N")) * 1 ) +SUMPRODUCT( (X$6:AC$6=4) * ((X33:AC33="Y") + (X33:AC33="N")) * 1 ) + SUMPRODUCT( (X$6:AC$6=5) * ((X33:AC33="Y") + (X33:AC33="N")) * 2 )) -> 17 | BY33: =5 * (SUMPRODUCT( (M$6:N$6=1) * (M33:N33="Y") * 2 ) + SUMPRODUCT( (M$6:N$6=2) * (M33:N33="Y") * 1 ) +SUMPRODUCT( (M$6:N$6=3) * (M33:N33="Y") * 1 ) + SUMPRODUCT( (M$6:N$6=4) * (M33:N33="N") * 1 ) +SUMPRODUCT( (M$6:N$6=5) * (M33:N33="N") * 2 )) + (SUMPRODUCT( (X$6:AC$6=1) * (X33:AC33="Y") * 2 ) +SUMPRODUCT( (X$6:AC$6=2) * (X33:AC33="Y") * 1 ) +SUMPRODUCT( (X$6:AC$6=3) * (X33:AC33="Y") * 1 ) +SUMPRODUCT( (X$6:AC$6=4) * (X33:AC33="N") * 1 ) +SUMPRODUCT( (X$6:AC$6=5) * (X33:AC33="N") * 2 )) -> 17 | BZ33: =COUNTA(M33:N33)+COUNTA(X33:AC33) -> 8 | CA33: =5 * (SUMPRODUCT( (O$6:R$6=1)*((O33:R33="Y") + (O33:R33="N")) * 2 ) +SUMPRODUCT( (O$6:R$6=2) * ((O33:R33="Y") + (O33:R33="N")) * 1 ) + SUMPRODUCT( (O$6:R$6=3)*((O33:R33="Y")+(O33:R33="N"))*1 ) +SUMPRODUCT( (O$6:R$6=4 ) * ((O33:R33="Y") + (O33:R33="N")) * 1 )+SUMPRODUCT( (O$6:R$6=5) * ((O33:R33="Y")+(O33:R33="N")) * 2 )) +1*(SUMPRODUCT( (AD$6:AQ$6=1) * ((AD33:AQ33="Y") + (AD33:AQ33="N")) * 2 ) +SUMPRODUCT( (AD$6:AQ$6=2 ) * ((AD33:AQ33="Y") + (AD33:AQ33="N")) * 1 ) +SUMPRODUCT( (AD$6:AQ$6=3) * ((AD33:AQ33="Y") + (AD33:AQ33="N")) * 1 ) +SUMPRODUCT( (AD$6:AQ$6=4) * ((AD33:AQ33="Y") + (AD33:AQ33="N")) * 1 ) + SUMPRODUCT( (AD$6:AQ$6=5) * ((AD33:AQ33="Y") + (AD33:AQ33="N")) * 2 )) -> 40 | CB33: =5 * (SUMPRODUCT( (O$6:R$6=1) * (O33:R33="Y") * 2 ) + SUMPRODUCT( (O$6:R$6=2) * (O33:R33="Y") * 1 ) +SUMPRODUCT( (O$6:R$6=3) * (O33:R33="Y") * 1 ) + SUMPRODUCT( (O$6:R$6=4) * (O33:R33="N") * 1 ) +SUMPRODUCT( (O$6:R$6=5) * (O33:R33="N") * 2 )) + (SUMPRODUCT( (AD$6:AQ$6=1) * (AD33:AQ33="Y") * 2 ) +SUMPRODUCT( (AD$6:AQ$6=2) * (AD33:AQ33="Y") * 1 ) +SUMPRODUCT( (AD$6:AQ$6=3) * (AD33:AQ33="Y") * 1 ) +SUMPRODUCT( (AD$6:AQ$6=4) * (AD33:AQ33="N") * 1 ) +SUMPRODUCT( (AD$6:AQ$6=5) * (AD33:AQ33="N") * 2 )) -> 30 | CC33: =COUNTA(O33:R33)+COUNTA(AD33:AQ33) -> 18 | CD33: =1*(SUMPRODUCT( (AR$6:AY$6=1) * ((AR33:AY33="Y") + (AR33:AY33="N")) * 2 ) +SUMPRODUCT( (AR$6:AY$6=2 ) * ((AR33:AY33="Y") + (AR33:AY33="N")) * 1 ) +SUMPRODUCT( (AR$6:AY$6=3) * ((AR33:AY33="Y") + (AR33:AY33="N")) * 1 ) +SUMPRODUCT( (AR$6:AY$6=4) * ((AR33:AY33="Y") + (AR33:AY33="N")) * 1 ) + SUMPRODUCT( (AR$6:AY$6=5) * ((AR33:AY33="Y") + (AR33:AY33="N")) * 2 )) -> 8 | CE33: =(SUMPRODUCT( (AR$6:AY$6=1) * (AR33:AY33="Y") * 2 ) +SUMPRODUCT( (AR$6:AY$6=2) * (AR33:AY33="Y") * 1 ) +SUMPRODUCT( (AR$6:AY$6=3) * (AR33:AY33="Y") * 1 ) +SUMPRODUCT( (AR$6:AY$6=4) * (AR33:AY33="N") * 1 ) +SUMPRODUCT( (AR$6:AY$6=5) * (AR33:AY33="N") * 2 )) -> 8 | CF33: =COUNTA(AR33:AY33) -> 8 | CG33: {=5*(SUMPRODUCT((S$6=1)*((S33="Y")+(S33="N"))*2)+SUMPRODUCT((S$6=2)*((S33="Y")+(S33="N"))*1)+SUMPRODUCT((S$6=3)*((S33="Y")+(S33="N"))*1)+SUMPRODUCT((S$6=4)*((S33="Y")+(S33="N"))*1)+SUMPRODUCT((S$6=5)*((S33="Y")+(S33="N"))*2))+1*(SUMPRODUCT((AZ$6:BI$6=1)*((AZ33:BI33="Y")+(AZ33:BI33="N"))*2)+SUMPRODUCT((AZ$6:BI$6=2)*((AZ33:BI33="Y")+(AZ33:BI33="N"))*1)+SUMPRODUCT((AZ$6:BI$6=3)*((AZ33:BI33="Y")+(AZ33:BI33="N"))*1)+SUMPRODUCT((AZ$6:BI$6=4)*((AZ33:BI33="Y")+(AZ33:BI33="N"))*1)+SUMPRODUCT((AZ$6:BI$6=5)*((AZ33:BI33="Y")+(AZ33:BI33="N"))*2))} -> 15 | CH33: {=5*(SUMPRODUCT((S$6=1)*(S33="Y")*2)+SUMPRODUCT((S$6=2)*(S33="Y")*1)+SUMPRODUCT((S$6=3)*(S33="Y")*1)+SUMPRODUCT((S$6=4)*(S33="N")*1)+SUMPRODUCT((S$6=5)*(S33="N")*2))+(SUMPRODUCT((AZ$6:BI$6=1)*(AZ33:BI33="Y")*2)+SUMPRODUCT((AZ$6:BI$6=2)*(AZ33:BI33="Y")*1)+SUMPRODUCT((AZ$6:BI$6=3)*(AZ33:BI33="Y")*1)+SUMPRODUCT((AZ$6:BI$6=4)*(AZ33:BI33="N")*1)+SUMPRODUCT((AZ$6:BI$6=5)*(AZ33:BI33="N")*2))} -> 15 | CI33: =COUNTA(S33)+COUNTA(AZ33:BI33) -> 11 | CJ33: {=5*(SUMPRODUCT((T$6:V$6=1)*((T33:V33="Y")+(T33:V33="N"))*2)+SUMPRODUCT((T$6:V$6=2)*((T33:V33="Y")+(T33:V33="N"))*1)+SUMPRODUCT((T$6:V$6=3)*((T33:V33="Y")+(T33:V33="N"))*1)+SUMPRODUCT((T$6:V$6=4)*((T33:V33="Y")+(T33:V33="N"))*1)+SUMPRODUCT((T$6:V$6=5)*((T33:V33="Y")+(T33:V33="N"))*2))+1*(SUMPRODUCT((BJ$6:BQ$6=1)*((BJ33:BQ33="Y")+(BJ33:BQ33="N"))*2)+SUMPRODUCT((BJ$6:BQ$6=2)*((BJ33:BQ33="Y")+(BJ33:BQ33="N"))*1)+SUMPRODUCT((BJ$6:BQ$6=3)*((BJ33:BQ33="Y")+(BJ33:BQ33="N"))*1)+SUMPRODUCT((BJ$6:BQ$6=4)*((BJ33:BQ33="Y")+(BJ33:BQ33="N"))*1)+SUMPRODUCT((BJ$6:BQ$6=5)*((BJ33:BQ33="Y")+(BJ33:BQ33="N"))*2))} -> 24 | CK33: {=5*(SUMPRODUCT((T$6:V$6=1)*(T33:V33="Y")*2)+SUMPRODUCT((T$6:V$6=2)*(T33:V33="Y")*1)+SUMPRODUCT((T$6:V$6=3)*(T33:V33="Y")*1)+SUMPRODUCT((T$6:V$6=4)*(T33:V33="N")*1)+SUMPRODUCT((T$6:V$6=5)*(T33:V33="N")*2))+(SUMPRODUCT((BJ$6:BQ$6=1)*(BJ33:BQ33="Y")*2)+SUMPRODUCT((BJ$6:BQ$6=2)*(BJ33:BQ33="Y")*1)+SUMPRODUCT((BJ$6:BQ$6=3)*(BJ33:BQ33="Y")*1)+SUMPRODUCT((BJ$6:BQ$6=4)*(BJ33:BQ33="N")*1)+SUMPRODUCT((BJ$6:BQ$6=5)*(BJ33:BQ33="N")*2))} -> 24 | CL33: =COUNTA(T33:V33)+COUNTA(BJ33:BQ33) -> 11 | CM33: =SUM(COUNTIF(M33, $H$128)*$H$137)+(COUNTIF(M33, $H$129)*$H$137)+(COUNTIF(#REF!, $H$128)*$H$135)+(COUNTIF(#REF!, $H$129)*$H$135) -> #REF! | CN33: =SUM(COUNTIF(M33, $H$128)*$H$137)+(COUNTIF(#REF!, $H$128)*$H$135) -> #REF! | CO33: =COUNTA(M33)+COUNTA(#REF!) -> 2 | CP33: =SUM(COUNTIF(M33, $H$128)*$H$137)+(COUNTIF(M33, $H$129)*$H$137)+(COUNTIF(#REF!, $H$128)*$H$135)+(COUNTIF(#REF!, $H$129)*$H$135) -> #REF! | CQ33: =SUM(COUNTIF(M33, $H$128)*$H$137)+(COUNTIF(#REF!, $H$128)*$H$135) -> #REF! | CR33: =COUNTA(M33)+COUNTA(#REF!) -> 2
A34: =SUM((BT34/BS34)*100) -> 90.196078 | B34: =SUM(BY34/BX34)*100 -> 100 | C34: =SUM(CB34/CA34)*100 -> 74.358974 | D34: =SUM(CE34/CD34)*100 -> 100 | E34: =SUM(CH34/CG34)*100 -> 100 | F34: =SUM(CK34/CJ34)*100 -> 100 | H34: Sen. | I34: Hyde-Smith | J34: Cindy | K34: MS | L34: R | M34: Y | N34: Y | O34: Y | P34: Y | Q34: Y | R34: Y | S34: Y | T34: Y | U34: Y | V34: Y | W34: Y | X34: Y | Y34: Y | Z34: Y | AA34: Y | AB34: Y | AC34: Y | AD34: Y | AE34: Y | AF34: Y | AG34: Y | AH34: Y | AI34: Y | AJ34: Y | AK34: Y | AL34: Y | AM34: Y | AN34: NV | AO34: Y | AP34: Y | AQ34: Y | AR34: Y | AS34: Y | AT34: Y | AU34: Y | AV34: Y | AW34: Y | AX34: Y | AY34: Y | AZ34: Y | BA34: Y | BB34: NV | BC34: Y | BD34: Y | BE34: Y | BF34: Y | BG34: Y | BH34: Y | BI34: Y | BJ34: Y | BK34: Y | BL34: Y | BM34: Y | BN34: Y | BO34: Y | BP34: Y | BQ34: Y | BR34: Y | BS34: {=5 * (SUMPRODUCT( (M$6:V$6=1)*((M34:V34="Y") + (M34:V34="N")) * 2 ) +SUMPRODUCT( (M$6:V$6=2) * ((M34:V34="Y") + (M34:V34="N")) * 1 ) + SUMPRODUCT( (M$6:V$6=3)*((M34:V34="Y")+(M34:V34="N"))*1 ) +SUMPRODUCT( (M$6:V$6=4 ) * ((M34:V34="Y") + (M34:V34="N")) * 1 )+SUMPRODUCT( (M$6:V$6=5) * ((M34:V34="Y")+(M34:V34="N")) * 2 ))+1*(SUMPRODUCT( (X$6:BQ$6=1) * ((X34:BQ34="Y") + (X34:BQ34="N")) * 2 ) +SUMPRODUCT( (X$6:BQ$6=2 ) * ((X34:BQ34="Y") + (X34:BQ34="N")) * 1 ) +SUMPRODUCT( (X$6:BQ$6=3) * ((X34:BQ34="Y") + (X34:BQ34="N")) * 1 ) +SUMPRODUCT( (X$6:BQ$6=4) * ((X34:BQ34="Y") + (X34:BQ34="N")) * 1 ) + SUMPRODUCT( (X$6:BQ$6=5) * ((X34:BQ34="Y") + (X34:BQ34="N")) * 2 ))} -> 102 | BT34: {=5 * (SUMPRODUCT( (M$6:V$6=1) * (M34:V34="Y") * 2 ) + SUMPRODUCT( (M$6:V$6=2) * (M34:V34="Y") * 1 ) +SUMPRODUCT( (M$6:V$6=3) * (M34:V34="Y") * 1 ) + SUMPRODUCT( (M$6:V$6=4) * (M34:V34="N") * 1 ) +SUMPRODUCT( (M$6:V$6=5) * (M34:V34="N") * 2 )) + (SUMPRODUCT( (X$6:BQ$6=1) * (X34:BQ34="Y") * 2 ) +SUMPRODUCT( (X$6:BQ$6=2) * (X34:BQ34="Y") * 1 ) +SUMPRODUCT( (X$6:BQ$6=3) * (X34:BQ34="Y") * 1 ) +SUMPRODUCT( (X$6:BQ$6=4) * (X34:BQ34="N") * 1 ) +SUMPRODUCT( (X$6:BQ$6=5) * (X34:BQ34="N") * 2 ))} -> 92 | BU34: =SUM(COUNTIF(M34:V34,$H$130)*$H$137)+(COUNTIF(X34:BQ34, $H$130)*$H$135) -> 2 | BV34: =COUNTA(M34) -> 1 | BX34: =5 * (SUMPRODUCT( (M$6:N$6=1)*((M34:N34="Y") + (M34:N34="N")) * 2 ) +SUMPRODUCT( (M$6:N$6=2) * ((M34:N34="Y") + (M34:N34="N")) * 1 ) + SUMPRODUCT( (M$6:N$6=3)*((M34:N34="Y")+(M34:N34="N"))*1 ) +SUMPRODUCT( (M$6:N$6=4 ) * ((M34:N34="Y") + (M34:N34="N")) * 1 )+SUMPRODUCT( (M$6:N$6=5) * ((M34:N34="Y")+(M34:N34="N")) * 2 ))+1*(SUMPRODUCT( (X$6:AC$6=1) * ((X34:AC34="Y") + (X34:AC34="N")) * 2 ) +SUMPRODUCT( (X$6:AC$6=2 ) * ((X34:AC34="Y") + (X34:AC34="N")) * 1 ) +SUMPRODUCT( (X$6:AC$6=3) * ((X34:AC34="Y") + (X34:AC34="N")) * 1 ) +SUMPRODUCT( (X$6:AC$6=4) * ((X34:AC34="Y") + (X34:AC34="N")) * 1 ) + SUMPRODUCT( (X$6:AC$6=5) * ((X34:AC34="Y") + (X34:AC34="N")) * 2 )) -> 17 | BY34: =5 * (SUMPRODUCT( (M$6:N$6=1) * (M34:N34="Y") * 2 ) + SUMPRODUCT( (M$6:N$6=2) * (M34:N34="Y") * 1 ) +SUMPRODUCT( (M$6:N$6=3) * (M34:N34="Y") * 1 ) + SUMPRODUCT( (M$6:N$6=4) * (M34:N34="N") * 1 ) +SUMPRODUCT( (M$6:N$6=5) * (M34:N34="N") * 2 )) + (SUMPRODUCT( (X$6:AC$6=1) * (X34:AC34="Y") * 2 ) +SUMPRODUCT( (X$6:AC$6=2) * (X34:AC34="Y") * 1 ) +SUMPRODUCT( (X$6:AC$6=3) * (X34:AC34="Y") * 1 ) +SUMPRODUCT( (X$6:AC$6=4) * (X34:AC34="N") * 1 ) +SUMPRODUCT( (X$6:AC$6=5) * (X34:AC34="N") * 2 )) -> 17 | BZ34: =COUNTA(M34:N34)+COUNTA(X34:AC34) -> 8 | CA34: =5 * (SUMPRODUCT( (O$6:R$6=1)*((O34:R34="Y") + (O34:R34="N")) * 2 ) +SUMPRODUCT( (O$6:R$6=2) * ((O34:R34="Y") + (O34:R34="N")) * 1 ) + SUMPRODUCT( (O$6:R$6=3)*((O34:R34="Y")+(O34:R34="N"))*1 ) +SUMPRODUCT( (O$6:R$6=4 ) * ((O34:R34="Y") + (O34:R34="N")) * 1 )+SUMPRODUCT( (O$6:R$6=5) * ((O34:R34="Y")+(O34:R34="N")) * 2 )) +1*(SUMPRODUCT( (AD$6:AQ$6=1) * ((AD34:AQ34="Y") + (AD34:AQ34="N")) * 2 ) +SUMPRODUCT( (AD$6:AQ$6=2 ) * ((AD34:AQ34="Y") + (AD34:AQ34="N")) * 1 ) +SUMPRODUCT( (AD$6:AQ$6=3) * ((AD34:AQ34="Y") + (AD34:AQ34="N")) * 1 ) +SUMPRODUCT( (AD$6:AQ$6=4) * ((AD34:AQ34="Y") + (AD34:AQ34="N")) * 1 ) + SUMPRODUCT( (AD$6:AQ$6=5) * ((AD34:AQ34="Y") + (AD34:AQ34="N")) * 2 )) -> 39 | CB34: =5 * (SUMPRODUCT( (O$6:R$6=1) * (O34:R34="Y") * 2 ) + SUMPRODUCT( (O$6:R$6=2) * (O34:R34="Y") * 1 ) +SUMPRODUCT( (O$6:R$6=3) * (O34:R34="Y") * 1 ) + SUMPRODUCT( (O$6:R$6=4) * (O34:R34="N") * 1 ) +SUMPRODUCT( (O$6:R$6=5) * (O34:R34="N") * 2 )) + (SUMPRODUCT( (AD$6:AQ$6=1) * (AD34:AQ34="Y") * 2 ) +SUMPRODUCT( (AD$6:AQ$6=2) * (AD34:AQ34="Y") * 1 ) +SUMPRODUCT( (AD$6:AQ$6=3) * (AD34:AQ34="Y") * 1 ) +SUMPRODUCT( (AD$6:AQ$6=4) * (AD34:AQ34="N") * 1 ) +SUMPRODUCT( (AD$6:AQ$6=5) * (AD34:AQ34="N") * 2 )) -> 29 | CC34: =COUNTA(O34:R34)+COUNTA(AD34:AQ34) -> 18 | CD34: =1*(SUMPRODUCT( (AR$6:AY$6=1) * ((AR34:AY34="Y") + (AR34:AY34="N")) * 2 ) +SUMPRODUCT( (AR$6:AY$6=2 ) * ((AR34:AY34="Y") + (AR34:AY34="N")) * 1 ) +SUMPRODUCT( (AR$6:AY$6=3) * ((AR34:AY34="Y") + (AR34:AY34="N")) * 1 ) +SUMPRODUCT( (AR$6:AY$6=4) * ((AR34:AY34="Y") + (AR34:AY34="N")) * 1 ) + SUMPRODUCT( (AR$6:AY$6=5) * ((AR34:AY34="Y") + (AR34:AY34="N")) * 2 )) -> 8 | CE34: =(SUMPRODUCT( (AR$6:AY$6=1) * (AR34:AY34="Y") * 2 ) +SUMPRODUCT( (AR$6:AY$6=2) * (AR34:AY34="Y") * 1 ) +SUMPRODUCT( (AR$6:AY$6=3) * (AR34:AY34="Y") * 1 ) +SUMPRODUCT( (AR$6:AY$6=4) * (AR34:AY34="N") * 1 ) +SUMPRODUCT( (AR$6:AY$6=5) * (AR34:AY34="N") * 2 )) -> 8 | CF34: =COUNTA(AR34:AY34) -> 8 | CG34: {=5*(SUMPRODUCT((S$6=1)*((S34="Y")+(S34="N"))*2)+SUMPRODUCT((S$6=2)*((S34="Y")+(S34="N"))*1)+SUMPRODUCT((S$6=3)*((S34="Y")+(S34="N"))*1)+SUMPRODUCT((S$6=4)*((S34="Y")+(S34="N"))*1)+SUMPRODUCT((S$6=5)*((S34="Y")+(S34="N"))*2))+1*(SUMPRODUCT((AZ$6:BI$6=1)*((AZ34:BI34="Y")+(AZ34:BI34="N"))*2)+SUMPRODUCT((AZ$6:BI$6=2)*((AZ34:BI34="Y")+(AZ34:BI34="N"))*1)+SUMPRODUCT((AZ$6:BI$6=3)*((AZ34:BI34="Y")+(AZ34:BI34="N"))*1)+SUMPRODUCT((AZ$6:BI$6=4)*((AZ34:BI34="Y")+(AZ34:BI34="N"))*1)+SUMPRODUCT((AZ$6:BI$6=5)*((AZ34:BI34="Y")+(AZ34:BI34="N"))*2))} -> 14 | CH34: {=5*(SUMPRODUCT((S$6=1)*(S34="Y")*2)+SUMPRODUCT((S$6=2)*(S34="Y")*1)+SUMPRODUCT((S$6=3)*(S34="Y")*1)+SUMPRODUCT((S$6=4)*(S34="N")*1)+SUMPRODUCT((S$6=5)*(S34="N")*2))+(SUMPRODUCT((AZ$6:BI$6=1)*(AZ34:BI34="Y")*2)+SUMPRODUCT((AZ$6:BI$6=2)*(AZ34:BI34="Y")*1)+SUMPRODUCT((AZ$6:BI$6=3)*(AZ34:BI34="Y")*1)+SUMPRODUCT((AZ$6:BI$6=4)*(AZ34:BI34="N")*1)+SUMPRODUCT((AZ$6:BI$6=5)*(AZ34:BI34="N")*2))} -> 14 | CI34: =COUNTA(S34)+COUNTA(AZ34:BI34) -> 11 | CJ34: {=5*(SUMPRODUCT((T$6:V$6=1)*((T34:V34="Y")+(T34:V34="N"))*2)+SUMPRODUCT((T$6:V$6=2)*((T34:V34="Y")+(T34:V34="N"))*1)+SUMPRODUCT((T$6:V$6=3)*((T34:V34="Y")+(T34:V34="N"))*1)+SUMPRODUCT((T$6:V$6=4)*((T34:V34="Y")+(T34:V34="N"))*1)+SUMPRODUCT((T$6:V$6=5)*((T34:V34="Y")+(T34:V34="N"))*2))+1*(SUMPRODUCT((BJ$6:BQ$6=1)*((BJ34:BQ34="Y")+(BJ34:BQ34="N"))*2)+SUMPRODUCT((BJ$6:BQ$6=2)*((BJ34:BQ34="Y")+(BJ34:BQ34="N"))*1)+SUMPRODUCT((BJ$6:BQ$6=3)*((BJ34:BQ34="Y")+(BJ34:BQ34="N"))*1)+SUMPRODUCT((BJ$6:BQ$6=4)*((BJ34:BQ34="Y")+(BJ34:BQ34="N"))*1)+SUMPRODUCT((BJ$6:BQ$6=5)*((BJ34:BQ34="Y")+(BJ34:BQ34="N"))*2))} -> 24 | CK34: {=5*(SUMPRODUCT((T$6:V$6=1)*(T34:V34="Y")*2)+SUMPRODUCT((T$6:V$6=2)*(T34:V34="Y")*1)+SUMPRODUCT((T$6:V$6=3)*(T34:V34="Y")*1)+SUMPRODUCT((T$6:V$6=4)*(T34:V34="N")*1)+SUMPRODUCT((T$6:V$6=5)*(T34:V34="N")*2))+(SUMPRODUCT((BJ$6:BQ$6=1)*(BJ34:BQ34="Y")*2)+SUMPRODUCT((BJ$6:BQ$6=2)*(BJ34:BQ34="Y")*1)+SUMPRODUCT((BJ$6:BQ$6=3)*(BJ34:BQ34="Y")*1)+SUMPRODUCT((BJ$6:BQ$6=4)*(BJ34:BQ34="N")*1)+SUMPRODUCT((BJ$6:BQ$6=5)*(BJ34:BQ34="N")*2))} -> 24 | CL34: =COUNTA(T34:V34)+COUNTA(BJ34:BQ34) -> 11 | CM34: =SUM(COUNTIF(M34, $H$128)*$H$137)+(COUNTIF(M34, $H$129)*$H$137)+(COUNTIF(#REF!, $H$128)*$H$135)+(COUNTIF(#REF!, $H$129)*$H$135) -> #REF! | CN34: =SUM(COUNTIF(M34, $H$128)*$H$137)+(COUNTIF(#REF!, $H$128)*$H$135) -> #REF! | CO34: =COUNTA(M34)+COUNTA(#REF!) -> 2 | CP34: =SUM(COUNTIF(M34, $H$128)*$H$137)+(COUNTIF(M34, $H$129)*$H$137)+(COUNTIF(#REF!, $H$128)*$H$135)+(COUNTIF(#REF!, $H$129)*$H$135) -> #REF! | CQ34: =SUM(COUNTIF(M34, $H$128)*$H$137)+(COUNTIF(#REF!, $H$128)*$H$135) -> #REF! | CR34: =COUNTA(M34)+COUNTA(#REF!) -> 2
A35: =SUM((BT35/BS35)*100) -> 90.384615 | B35: =SUM(BY35/BX35)*100 -> 100 | C35: =SUM(CB35/CA35)*100 -> 75 | D35: =SUM(CE35/CD35)*100 -> 100 | E35: =SUM(CH35/CG35)*100 -> 100 | F35: =SUM(CK35/CJ35)*100 -> 100 | H35: Sen. | I35: Johnson | J35: Ron | K35: WI | L35: R | M35: Y | N35: Y | O35: Y | P35: Y | Q35: Y | R35: Y | S35: Y | T35: Y | U35: Y | V35: Y | W35: Y | X35: Y | Y35: Y | Z35: Y | AA35: Y | AB35: Y | AC35: Y | AD35: Y | AE35: Y | AF35: Y | AG35: Y | AH35: Y | AI35: Y | AJ35: Y | AK35: Y | AL35: Y | AM35: Y | AN35: Y | AO35: Y | AP35: Y | AQ35: Y | AR35: Y | AS35: Y | AT35: Y | AU35: Y | AV35: Y | AW35: Y | AX35: Y | AY35: Y | AZ35: Y | BA35: Y | BB35: Y | BC35: Y | BD35: Y | BE35: Y | BF35: Y | BG35: Y | BH35: Y | BI35: Y | BJ35: Y | BK35: Y | BL35: Y | BM35: Y | BN35: Y | BO35: Y | BP35: Y | BQ35: Y | BR35: Y | BS35: {=5 * (SUMPRODUCT( (M$6:V$6=1)*((M35:V35="Y") + (M35:V35="N")) * 2 ) +SUMPRODUCT( (M$6:V$6=2) * ((M35:V35="Y") + (M35:V35="N")) * 1 ) + SUMPRODUCT( (M$6:V$6=3)*((M35:V35="Y")+(M35:V35="N"))*1 ) +SUMPRODUCT( (M$6:V$6=4 ) * ((M35:V35="Y") + (M35:V35="N")) * 1 )+SUMPRODUCT( (M$6:V$6=5) * ((M35:V35="Y")+(M35:V35="N")) * 2 ))+1*(SUMPRODUCT( (X$6:BQ$6=1) * ((X35:BQ35="Y") + (X35:BQ35="N")) * 2 ) +SUMPRODUCT( (X$6:BQ$6=2 ) * ((X35:BQ35="Y") + (X35:BQ35="N")) * 1 ) +SUMPRODUCT( (X$6:BQ$6=3) * ((X35:BQ35="Y") + (X35:BQ35="N")) * 1 ) +SUMPRODUCT( (X$6:BQ$6=4) * ((X35:BQ35="Y") + (X35:BQ35="N")) * 1 ) + SUMPRODUCT( (X$6:BQ$6=5) * ((X35:BQ35="Y") + (X35:BQ35="N")) * 2 ))} -> 104 | BT35: {=5 * (SUMPRODUCT( (M$6:V$6=1) * (M35:V35="Y") * 2 ) + SUMPRODUCT( (M$6:V$6=2) * (M35:V35="Y") * 1 ) +SUMPRODUCT( (M$6:V$6=3) * (M35:V35="Y") * 1 ) + SUMPRODUCT( (M$6:V$6=4) * (M35:V35="N") * 1 ) +SUMPRODUCT( (M$6:V$6=5) * (M35:V35="N") * 2 )) + (SUMPRODUCT( (X$6:BQ$6=1) * (X35:BQ35="Y") * 2 ) +SUMPRODUCT( (X$6:BQ$6=2) * (X35:BQ35="Y") * 1 ) +SUMPRODUCT( (X$6:BQ$6=3) * (X35:BQ35="Y") * 1 ) +SUMPRODUCT( (X$6:BQ$6=4) * (X35:BQ35="N") * 1 ) +SUMPRODUCT( (X$6:BQ$6=5) * (X35:BQ35="N") * 2 ))} -> 94 | BU35: =SUM(COUNTIF(M35:V35,$H$130)*$H$137)+(COUNTIF(X35:BQ35, $H$130)*$H$135) -> 0 | BV35: =COUNTA(M35) -> 1 | BX35: =5 * (SUMPRODUCT( (M$6:N$6=1)*((M35:N35="Y") + (M35:N35="N")) * 2 ) +SUMPRODUCT( (M$6:N$6=2) * ((M35:N35="Y") + (M35:N35="N")) * 1 ) + SUMPRODUCT( (M$6:N$6=3)*((M35:N35="Y")+(M35:N35="N"))*1 ) +SUMPRODUCT( (M$6:N$6=4 ) * ((M35:N35="Y") + (M35:N35="N")) * 1 )+SUMPRODUCT( (M$6:N$6=5) * ((M35:N35="Y")+(M35:N35="N")) * 2 ))+1*(SUMPRODUCT( (X$6:AC$6=1) * ((X35:AC35="Y") + (X35:AC35="N")) * 2 ) +SUMPRODUCT( (X$6:AC$6=2 ) * ((X35:AC35="Y") + (X35:AC35="N")) * 1 ) +SUMPRODUCT( (X$6:AC$6=3) * ((X35:AC35="Y") + (X35:AC35="N")) * 1 ) +SUMPRODUCT( (X$6:AC$6=4) * ((X35:AC35="Y") + (X35:AC35="N")) * 1 ) + SUMPRODUCT( (X$6:AC$6=5) * ((X35:AC35="Y") + (X35:AC35="N")) * 2 )) -> 17 | BY35: =5 * (SUMPRODUCT( (M$6:N$6=1) * (M35:N35="Y") * 2 ) + SUMPRODUCT( (M$6:N$6=2) * (M35:N35="Y") * 1 ) +SUMPRODUCT( (M$6:N$6=3) * (M35:N35="Y") * 1 ) + SUMPRODUCT( (M$6:N$6=4) * (M35:N35="N") * 1 ) +SUMPRODUCT( (M$6:N$6=5) * (M35:N35="N") * 2 )) + (SUMPRODUCT( (X$6:AC$6=1) * (X35:AC35="Y") * 2 ) +SUMPRODUCT( (X$6:AC$6=2) * (X35:AC35="Y") * 1 ) +SUMPRODUCT( (X$6:AC$6=3) * (X35:AC35="Y") * 1 ) +SUMPRODUCT( (X$6:AC$6=4) * (X35:AC35="N") * 1 ) +SUMPRODUCT( (X$6:AC$6=5) * (X35:AC35="N") * 2 )) -> 17 | BZ35: =COUNTA(M35:N35)+COUNTA(X35:AC35) -> 8 | CA35: =5 * (SUMPRODUCT( (O$6:R$6=1)*((O35:R35="Y") + (O35:R35="N")) * 2 ) +SUMPRODUCT( (O$6:R$6=2) * ((O35:R35="Y") + (O35:R35="N")) * 1 ) + SUMPRODUCT( (O$6:R$6=3)*((O35:R35="Y")+(O35:R35="N"))*1 ) +SUMPRODUCT( (O$6:R$6=4 ) * ((O35:R35="Y") + (O35:R35="N")) * 1 )+SUMPRODUCT( (O$6:R$6=5) * ((O35:R35="Y")+(O35:R35="N")) * 2 )) +1*(SUMPRODUCT( (AD$6:AQ$6=1) * ((AD35:AQ35="Y") + (AD35:AQ35="N")) * 2 ) +SUMPRODUCT( (AD$6:AQ$6=2 ) * ((AD35:AQ35="Y") + (AD35:AQ35="N")) * 1 ) +SUMPRODUCT( (AD$6:AQ$6=3) * ((AD35:AQ35="Y") + (AD35:AQ35="N")) * 1 ) +SUMPRODUCT( (AD$6:AQ$6=4) * ((AD35:AQ35="Y") + (AD35:AQ35="N")) * 1 ) + SUMPRODUCT( (AD$6:AQ$6=5) * ((AD35:AQ35="Y") + (AD35:AQ35="N")) * 2 )) -> 40 | CB35: =5 * (SUMPRODUCT( (O$6:R$6=1) * (O35:R35="Y") * 2 ) + SUMPRODUCT( (O$6:R$6=2) * (O35:R35="Y") * 1 ) +SUMPRODUCT( (O$6:R$6=3) * (O35:R35="Y") * 1 ) + SUMPRODUCT( (O$6:R$6=4) * (O35:R35="N") * 1 ) +SUMPRODUCT( (O$6:R$6=5) * (O35:R35="N") * 2 )) + (SUMPRODUCT( (AD$6:AQ$6=1) * (AD35:AQ35="Y") * 2 ) +SUMPRODUCT( (AD$6:AQ$6=2) * (AD35:AQ35="Y") * 1 ) +SUMPRODUCT( (AD$6:AQ$6=3) * (AD35:AQ35="Y") * 1 ) +SUMPRODUCT( (AD$6:AQ$6=4) * (AD35:AQ35="N") * 1 ) +SUMPRODUCT( (AD$6:AQ$6=5) * (AD35:AQ35="N") * 2 )) -> 30 | CC35: =COUNTA(O35:R35)+COUNTA(AD35:AQ35) -> 18 | CD35: =1*(SUMPRODUCT( (AR$6:AY$6=1) * ((AR35:AY35="Y") + (AR35:AY35="N")) * 2 ) +SUMPRODUCT( (AR$6:AY$6=2 ) * ((AR35:AY35="Y") + (AR35:AY35="N")) * 1 ) +SUMPRODUCT( (AR$6:AY$6=3) * ((AR35:AY35="Y") + (AR35:AY35="N")) * 1 ) +SUMPRODUCT( (AR$6:AY$6=4) * ((AR35:AY35="Y") + (AR35:AY35="N")) * 1 ) + SUMPRODUCT( (AR$6:AY$6=5) * ((AR35:AY35="Y") + (AR35:AY35="N")) * 2 )) -> 8 | CE35: =(SUMPRODUCT( (AR$6:AY$6=1) * (AR35:AY35="Y") * 2 ) +SUMPRODUCT( (AR$6:AY$6=2) * (AR35:AY35="Y") * 1 ) +SUMPRODUCT( (AR$6:AY$6=3) * (AR35:AY35="Y") * 1 ) +SUMPRODUCT( (AR$6:AY$6=4) * (AR35:AY35="N") * 1 ) +SUMPRODUCT( (AR$6:AY$6=5) * (AR35:AY35="N") * 2 )) -> 8 | CF35: =COUNTA(AR35:AY35) -> 8 | CG35: {=5*(SUMPRODUCT((S$6=1)*((S35="Y")+(S35="N"))*2)+SUMPRODUCT((S$6=2)*((S35="Y")+(S35="N"))*1)+SUMPRODUCT((S$6=3)*((S35="Y")+(S35="N"))*1)+SUMPRODUCT((S$6=4)*((S35="Y")+(S35="N"))*1)+SUMPRODUCT((S$6=5)*((S35="Y")+(S35="N"))*2))+1*(SUMPRODUCT((AZ$6:BI$6=1)*((AZ35:BI35="Y")+(AZ35:BI35="N"))*2)+SUMPRODUCT((AZ$6:BI$6=2)*((AZ35:BI35="Y")+(AZ35:BI35="N"))*1)+SUMPRODUCT((AZ$6:BI$6=3)*((AZ35:BI35="Y")+(AZ35:BI35="N"))*1)+SUMPRODUCT((AZ$6:BI$6=4)*((AZ35:BI35="Y")+(AZ35:BI35="N"))*1)+SUMPRODUCT((AZ$6:BI$6=5)*((AZ35:BI35="Y")+(AZ35:BI35="N"))*2))} -> 15 | CH35: {=5*(SUMPRODUCT((S$6=1)*(S35="Y")*2)+SUMPRODUCT((S$6=2)*(S35="Y")*1)+SUMPRODUCT((S$6=3)*(S35="Y")*1)+SUMPRODUCT((S$6=4)*(S35="N")*1)+SUMPRODUCT((S$6=5)*(S35="N")*2))+(SUMPRODUCT((AZ$6:BI$6=1)*(AZ35:BI35="Y")*2)+SUMPRODUCT((AZ$6:BI$6=2)*(AZ35:BI35="Y")*1)+SUMPRODUCT((AZ$6:BI$6=3)*(AZ35:BI35="Y")*1)+SUMPRODUCT((AZ$6:BI$6=4)*(AZ35:BI35="N")*1)+SUMPRODUCT((AZ$6:BI$6=5)*(AZ35:BI35="N")*2))} -> 15 | CI35: =COUNTA(S35)+COUNTA(AZ35:BI35) -> 11 | CJ35: {=5*(SUMPRODUCT((T$6:V$6=1)*((T35:V35="Y")+(T35:V35="N"))*2)+SUMPRODUCT((T$6:V$6=2)*((T35:V35="Y")+(T35:V35="N"))*1)+SUMPRODUCT((T$6:V$6=3)*((T35:V35="Y")+(T35:V35="N"))*1)+SUMPRODUCT((T$6:V$6=4)*((T35:V35="Y")+(T35:V35="N"))*1)+SUMPRODUCT((T$6:V$6=5)*((T35:V35="Y")+(T35:V35="N"))*2))+1*(SUMPRODUCT((BJ$6:BQ$6=1)*((BJ35:BQ35="Y")+(BJ35:BQ35="N"))*2)+SUMPRODUCT((BJ$6:BQ$6=2)*((BJ35:BQ35="Y")+(BJ35:BQ35="N"))*1)+SUMPRODUCT((BJ$6:BQ$6=3)*((BJ35:BQ35="Y")+(BJ35:BQ35="N"))*1)+SUMPRODUCT((BJ$6:BQ$6=4)*((BJ35:BQ35="Y")+(BJ35:BQ35="N"))*1)+SUMPRODUCT((BJ$6:BQ$6=5)*((BJ35:BQ35="Y")+(BJ35:BQ35="N"))*2))} -> 24 | CK35: {=5*(SUMPRODUCT((T$6:V$6=1)*(T35:V35="Y")*2)+SUMPRODUCT((T$6:V$6=2)*(T35:V35="Y")*1)+SUMPRODUCT((T$6:V$6=3)*(T35:V35="Y")*1)+SUMPRODUCT((T$6:V$6=4)*(T35:V35="N")*1)+SUMPRODUCT((T$6:V$6=5)*(T35:V35="N")*2))+(SUMPRODUCT((BJ$6:BQ$6=1)*(BJ35:BQ35="Y")*2)+SUMPRODUCT((BJ$6:BQ$6=2)*(BJ35:BQ35="Y")*1)+SUMPRODUCT((BJ$6:BQ$6=3)*(BJ35:BQ35="Y")*1)+SUMPRODUCT((BJ$6:BQ$6=4)*(BJ35:BQ35="N")*1)+SUMPRODUCT((BJ$6:BQ$6=5)*(BJ35:BQ35="N")*2))} -> 24 | CL35: =COUNTA(T35:V35)+COUNTA(BJ35:BQ35) -> 11 | CM35: =SUM(COUNTIF(M35, $H$128)*$H$137)+(COUNTIF(M35, $H$129)*$H$137)+(COUNTIF(#REF!, $H$128)*$H$135)+(COUNTIF(#REF!, $H$129)*$H$135) -> #REF! | CN35: =SUM(COUNTIF(M35, $H$128)*$H$137)+(COUNTIF(#REF!, $H$128)*$H$135) -> #REF! | CO35: =COUNTA(M35)+COUNTA(#REF!) -> 2 | CP35: =SUM(COUNTIF(M35, $H$128)*$H$137)+(COUNTIF(M35, $H$129)*$H$137)+(COUNTIF(#REF!, $H$128)*$H$135)+(COUNTIF(#REF!, $H$129)*$H$135) -> #REF! | CQ35: =SUM(COUNTIF(M35, $H$128)*$H$137)+(COUNTIF(#REF!, $H$128)*$H$135) -> #REF! | CR35: =COUNTA(M35)+COUNTA(#REF!) -> 2
