Workbook

Sheet 119th
K2: Presidential Nomination # | M2: PN150-3 | N2: PN346-2 | O2: PN466-4 | P2: PN520-5 | Q2: PN400-1 | R2: PN400-3 | S2: PN851-7 | T2: PN938-2 | U2: PN938-1 | V2: PN999-6 | W2: PN787-5 | X2: PN150-2 | Y2: PN150-6 | Z2: PN150-1 | AA2: PN346-1 | AB2: PN150-4 | AC2: PN346-3 | AD2: PN346-5 | AE2: PN466-6 | AF2: PN400-2 | AG2: PN368 | AH2: PN466-3 | AI2: PN346-6 | AJ2: PN466-2 | AK2: PN520-1 | AL2: PN520-2 | AM2: PN520-3 | AN2: PN520-4 | AO2: PN466-1 | AP2: PN466-5 | AQ2: PN615-1 | AR2: PN615-2 | AS2: PN726-5 | AT2: PN726-6 | AU2: PN726-2 | AV2: PN726-12 | AW2: PN726-9 | AX2: PN726-11 | AY2: PN787-4 | AZ2: PN787-5 | BA2: PN787-1 | BB2: PN851-1 | BC2: PN851-6 | BD2: PN851-2 | BE2: PN851-3 | BF2: PN851-4 | BG2: PN851-5 | BH2: PN930-2 | BI2: PN930-7 | BJ2: PN930-3 | BK2: PN930-4 | BL2: PN851-8 | BM2: PN999-3 | BN2: PN999-5 | BO2: PN1093-3 | BP2: PN999-4 | BQ2: PN999-1 | BR2: PN1093-3
K4: Date of Vote | M4: 45852 | N4: 45867 | O4: 45939 | P4: 45957 | Q4: 45965 | R4: 45966 | S4: 46188 | T4: 46217 | U4: 46225 | V4: 46226 | X4: 45860 | Y4: 45860 | Z4: 45861 | AA4: 45908 | AB4: 45909 | AC4: 45909 | AD4: 45951 | AE4: 45951 | AF4: 45952 | AG4: 45953 | AH4: 45957 | AI4: 45958 | AJ4: 45959 | AK4: 45993 | AL4: 45993 | AM4: 45994 | AN4: 45995 | AO4: 46000 | AP4: 46000 | AQ4: 46000 | AR4: 46030 | AS4: 46056 | AT4: 46056 | AU4: 46057 | AV4: 46057 | AW4: 46058 | AX4: 46058 | AY4: 46098 | AZ4: 46126 | BA4: 46132 | BB4: 46161 | BC4: 46162 | BD4: 46175 | BE4: 46175 | BF4: 46182 | BG4: 42531 | BH4: 46197 | BI4: 46197 | BJ4: 46216 | BK4: 46218 | BL4: 46224 | BM4: 46225 | BN4: 46226 | BO4: 46280 | BP4: 46282 | BQ4: 46288 | BR4: 46280
K5: Court | M5: 6th Circuit | N5: 3rd Circuit | O5: 3rd Circuit | P5: 7th Circuit | Q5: 1st Circuit | R5: 9th Circuit | S5: 8th Circuit | T5: 2nd Circuit | U5: 6th Circuit | V5: 8th Circuit | X5: East-West Dist. MO | Y5: East Dist. MO | Z5: East. Dist. of MO | AA5: South Dist. of FL | AB5: East. Dist. of MO | AC5: Mid. Dist. of FL. | AD5: Mid. Dist. Of FL | AE5: North Dist. Of AL | AF5: Dist. Of MT | AG5: East Dist. Of KY | AH5: Mid. Dist. of AL | AI5: Mid. Dist. of FL | AJ5: North Dist. of AL | AK5: Mid. Dist. Of NC | AL5: Mid. Dist. Of NC | AM5: West Dist. Of NC | AN5: West Dist. Of NC | AO5: North Dist. Of MS | AP5: North Dist. Of MS | AQ5: East Dist. Of LA | AR5: West Dist. Of LA | AS5: West Dist. Of AR | AT5: South Dist. Of TX | AU5: West Dist. Of MO | AV5: Dist. Of AK | AW5: West. Dist. Of TN | AX5: South. Dist. Of IN | AY5: East. Dist. Of LA | AZ5: West. Dist. Of TX | BA5: West. Dist. Of TX | BB5: Dist. Of SC | BC5: Dist. Of VI | BD5: Dist. Of KS | BE5: Dist. Of MT | BF5: Dist. Of KS | BG5: Dist. Of KS | BH5: North Dist. Of OH | BI5: South Dist. Of TX | BJ5: South Dist. Of TX | BK5: South Dist. Of FL | BL5: Int. Trade | BM5: East. Dist. Of MI | BN5: East Dist. Of PA | BO5: South Dist. Of OH | BP5: North Dist. Of TX | BQ5: South Dist. Of TX | BR5: South Dist. Of OH
B6: Priority Yes -PY_CODE | G6: Yes - Y_CODE | H6: Unclear - U_CODE | I6: No - N_CODE | J6: Priority No - PN_CODE | K6: AFA Recommendation Status | M6: 2 | N6: 3 | O6: 3 | P6: 5 | Q6: 2 | R6: 3 | S6: 2 | T6: 2 | U6: 2 | V6: 3 | X6: 1 | Y6: 3 | Z6: 3 | AA6: 2 | AB6: 3 | AC6: 3 | AD6: 3 | AE6: 3 | AF6: 3 | AG6: 2 | AH6: 3 | AI6: 1 | AJ6: 2 | AK6: 3 | AL6: 3 | AM6: 3 | AN6: 3 | AO6: 3 | AP6: 3 | AQ6: 3 | AR6: 3 | AS6: 3 | AT6: 3 | AU6: 3 | AV6: 3 | AW6: 3 | AX6: 2 | AY6: 3 | AZ6: 3 | BA6: 3 | BB6: 3 | BC6: 3 | BD6: 3 | BE6: 3 | BF6: 3 | BG6: 3 | BH6: 3 | BI6: 3 | BJ6: 3 | BK6: 3 | BL6: 3 | BM6: 3 | BN6: 3 | BO6: 1 | BP6: 2 | BQ6: 3
A7: 119th Congress Score | B7: 2025 Q3 Score | C7: 2025 Q4 Score | D7: 2026 Q1 Score | E7: 2026 Q2 Score | F7: 2026 Q3 Score | I7: Last | J7: First | K7: State | L7: Party | M7: Whitney D. Hermandorfer | N7: Emil J. Bove III | O7: Jennifer Lee Mascott | P7: Rebecca L. Taibleson | Q7: Joshua D. Dunlap | R7: Eric Chunyee Tung | S7: Justin D. Smith | T7: Matthew A. Schwartz | U7: Benjamin M. Flowers | V7: Daniel Mack Traynor | X7: Joshua M. Divine | Y7: Cristian M. Stevens | Z7: Zachary M. Bluestone | AA7: Edward L. Artau | AB7: Maria A. Lanahan | AC7: Kyle Christopher Dudek | AD7: Anne-Leigh Gaylord Moe | AE7: Harold D. Mooty III | AF7: William W. Mercer | AG7: Stephen Chad Meredith | AH7: Bill Lewis | AI7: Jordan Emery Pratt | AJ7: Edmund G. LaCour Jr. | AK7: David A. Bragdon | AL7: Lindsey Ann Freeman | AM7: Matthew E. Orso | AN7: Susan Courtwright Rodriguez | AO7: Robert P. Chamberlin | AP7: James D. Maxwell II | AQ7: William J. Crain | AR7: Alexander C. Van Hook | AS7: David Clay Fowlkes | AT7: Nicholas Jon Ganjei | AU7: Megan Blair Benton | AV7: Aaron Christian Peterson | AW7: Brian Charles Lea | AX7: Justin R. Olson | AY7: Anna St. John | AZ7: Christopher R. Wolfe | BA7: Andrew B. Davis | BB7: Sheria Akins Clarke | BC7: Evan Rikhye | BD7: Jeffrey M. Kuhlman | BE7: Kathleen S. Lane | BF7: Anthony W. Mattivi | BG7: Anthony J. Powell | BH7: Michael J. Hendershot | BI7: John George Edward Marck | BJ7: Arthur Roberts Jones | BK7: Jeffrey T. Kuntz | BL7: Kara Marie Westercamp | BM7: Michael C. Martin | BN7: Antonio M. Pozos | BO7: Matthew R. Byrne | BP7: Kasdin Miller Mitchell | BQ7: Angela Veronica Colmenero | BS7: Total Vote Weighted | BT7: Total Preffered Votes Weighted | BU7: Total NV Votes | BV7: Total Votes Taken | BX7: Total Vote Weighted Q3 | BY7: Total Preffered Votes Weighted Q3 | BZ7: Total Q3 Votes Taken | CA7: Total Vote Weighted Q4 | CB7: Total No Votes Weighted Q4 | CC7: Total Q4 Votes Taken | CD7: Total Vote Weighted Q1 2026 | CE7: Total Reccomended Votes Weighted Q1 2026 | CF7: Total Q1 Votes Taken 2026 | CG7: Total Vote Weighted Q2 2026 | CH7: Total Recommended Votes Weighted Q2 2026 | CI7: Total Q2 Votes Taken 2026 | CJ7: Total Vote Weighted Q3 2026 | CK7: Total Recommended Votes Weighted Q3 2026 | CL7: Total Q3 Votes Taken 2026 | CM7: Total Vote Weighted Q4 2026 | CN7: Total No Votes Weighted Q4 2026 | CO7: Total Q4 Votes Taken 2026 | CP7: Total Vote Weighted 2026 | CQ7: Total No Votes Weighted 2026 | CR7: Total Votes Taken 2026
A8: =SUM((BT8/BS8)*100) -> 100 | B8: =SUM(BY8/BX8)*100 -> #DIV/0! | C8: =SUM(CB8/CA8)*100 -> #DIV/0! | D8: =SUM(CE8/CD8)*100 -> #DIV/0! | E8: =SUM(CH8/CG8)*100 -> 100 | F8: =SUM(CK8/CJ8)*100 -> 100 | H8: Sen. | I8: Armstrong | J8: Alan | K8: OK | L8: R | S8: Y | T8: Y | U8: Y | V8: Y | W8: Y | AZ8: Y | BA8: Y | BB8: Y | BC8: Y | BD8: Y | BE8: Y | BF8: Y | BG8: Y | BH8: Y | BI8: Y | BJ8: Y | BK8: Y | BL8: Y | BM8: Y | BN8: Y | BO8: Y | BP8: Y | BQ8: Y | BR8: Y | BS8: {=5 * (SUMPRODUCT( (M$6:V$6=1)*((M8:V8="Y") + (M8:V8="N")) * 2 ) +SUMPRODUCT( (M$6:V$6=2) * ((M8:V8="Y") + (M8:V8="N")) * 1 ) + SUMPRODUCT( (M$6:V$6=3)*((M8:V8="Y")+(M8:V8="N"))*1 ) +SUMPRODUCT( (M$6:V$6=4 ) * ((M8:V8="Y") + (M8:V8="N")) * 1 )+SUMPRODUCT( (M$6:V$6=5) * ((M8:V8="Y")+(M8:V8="N")) * 2 ))+1*(SUMPRODUCT( (X$6:BQ$6=1) * ((X8:BQ8="Y") + (X8:BQ8="N")) * 2 ) +SUMPRODUCT( (X$6:BQ$6=2 ) * ((X8:BQ8="Y") + (X8:BQ8="N")) * 1 ) +SUMPRODUCT( (X$6:BQ$6=3) * ((X8:BQ8="Y") + (X8:BQ8="N")) * 1 ) +SUMPRODUCT( (X$6:BQ$6=4) * ((X8:BQ8="Y") + (X8:BQ8="N")) * 1 ) + SUMPRODUCT( (X$6:BQ$6=5) * ((X8:BQ8="Y") + (X8:BQ8="N")) * 2 ))} -> 39 | BT8: {=5 * (SUMPRODUCT( (M$6:V$6=1) * (M8:V8="Y") * 2 ) + SUMPRODUCT( (M$6:V$6=2) * (M8:V8="Y") * 1 ) +SUMPRODUCT( (M$6:V$6=3) * (M8:V8="Y") * 1 ) + SUMPRODUCT( (M$6:V$6=4) * (M8:V8="N") * 1 ) +SUMPRODUCT( (M$6:V$6=5) * (M8:V8="N") * 2 )) + (SUMPRODUCT( (X$6:BQ$6=1) * (X8:BQ8="Y") * 2 ) +SUMPRODUCT( (X$6:BQ$6=2) * (X8:BQ8="Y") * 1 ) +SUMPRODUCT( (X$6:BQ$6=3) * (X8:BQ8="Y") * 1 ) +SUMPRODUCT( (X$6:BQ$6=4) * (X8:BQ8="N") * 1 ) +SUMPRODUCT( (X$6:BQ$6=5) * (X8:BQ8="N") * 2 ))} -> 39 | BU8: =SUM(COUNTIF(M8:V8,$H$130)*$H$137)+(COUNTIF(X8:BQ8, $H$130)*$H$135) -> 0 | BV8: =COUNTA(M8) -> 0 | BX8: =5 * (SUMPRODUCT( (M$6:N$6=1)*((M8:N8="Y") + (M8:N8="N")) * 2 ) +SUMPRODUCT( (M$6:N$6=2) * ((M8:N8="Y") + (M8:N8="N")) * 1 ) + SUMPRODUCT( (M$6:N$6=3)*((M8:N8="Y")+(M8:N8="N"))*1 ) +SUMPRODUCT( (M$6:N$6=4 ) * ((M8:N8="Y") + (M8:N8="N")) * 1 )+SUMPRODUCT( (M$6:N$6=5) * ((M8:N8="Y")+(M8:N8="N")) * 2 ))+1*(SUMPRODUCT( (X$6:AC$6=1) * ((X8:AC8="Y") + (X8:AC8="N")) * 2 ) +SUMPRODUCT( (X$6:AC$6=2 ) * ((X8:AC8="Y") + (X8:AC8="N")) * 1 ) +SUMPRODUCT( (X$6:AC$6=3) * ((X8:AC8="Y") + (X8:AC8="N")) * 1 ) +SUMPRODUCT( (X$6:AC$6=4) * ((X8:AC8="Y") + (X8:AC8="N")) * 1 ) + SUMPRODUCT( (X$6:AC$6=5) * ((X8:AC8="Y") + (X8:AC8="N")) * 2 )) -> 0 | BY8: =5 * (SUMPRODUCT( (M$6:N$6=1) * (M8:N8="Y") * 2 ) + SUMPRODUCT( (M$6:N$6=2) * (M8:N8="Y") * 1 ) +SUMPRODUCT( (M$6:N$6=3) * (M8:N8="Y") * 1 ) + SUMPRODUCT( (M$6:N$6=4) * (M8:N8="N") * 1 ) +SUMPRODUCT( (M$6:N$6=5) * (M8:N8="N") * 2 )) + (SUMPRODUCT( (X$6:AC$6=1) * (X8:AC8="Y") * 2 ) +SUMPRODUCT( (X$6:AC$6=2) * (X8:AC8="Y") * 1 ) +SUMPRODUCT( (X$6:AC$6=3) * (X8:AC8="Y") * 1 ) +SUMPRODUCT( (X$6:AC$6=4) * (X8:AC8="N") * 1 ) +SUMPRODUCT( (X$6:AC$6=5) * (X8:AC8="N") * 2 )) -> 0 | BZ8: =COUNTA(M8:N8)+COUNTA(X8:AC8) -> 0 | CA8: =5 * (SUMPRODUCT( (O$6:R$6=1)*((O8:R8="Y") + (O8:R8="N")) * 2 ) +SUMPRODUCT( (O$6:R$6=2) * ((O8:R8="Y") + (O8:R8="N")) * 1 ) + SUMPRODUCT( (O$6:R$6=3)*((O8:R8="Y")+(O8:R8="N"))*1 ) +SUMPRODUCT( (O$6:R$6=4 ) * ((O8:R8="Y") + (O8:R8="N")) * 1 )+SUMPRODUCT( (O$6:R$6=5) * ((O8:R8="Y")+(O8:R8="N")) * 2 )) +1*(SUMPRODUCT( (AD$6:AQ$6=1) * ((AD8:AQ8="Y") + (AD8:AQ8="N")) * 2 ) +SUMPRODUCT( (AD$6:AQ$6=2 ) * ((AD8:AQ8="Y") + (AD8:AQ8="N")) * 1 ) +SUMPRODUCT( (AD$6:AQ$6=3) * ((AD8:AQ8="Y") + (AD8:AQ8="N")) * 1 ) +SUMPRODUCT( (AD$6:AQ$6=4) * ((AD8:AQ8="Y") + (AD8:AQ8="N")) * 1 ) + SUMPRODUCT( (AD$6:AQ$6=5) * ((AD8:AQ8="Y") + (AD8:AQ8="N")) * 2 )) -> 0 | CB8: =5 * (SUMPRODUCT( (O$6:R$6=1) * (O8:R8="Y") * 2 ) + SUMPRODUCT( (O$6:R$6=2) * (O8:R8="Y") * 1 ) +SUMPRODUCT( (O$6:R$6=3) * (O8:R8="Y") * 1 ) + SUMPRODUCT( (O$6:R$6=4) * (O8:R8="N") * 1 ) +SUMPRODUCT( (O$6:R$6=5) * (O8:R8="N") * 2 )) + (SUMPRODUCT( (AD$6:AQ$6=1) * (AD8:AQ8="Y") * 2 ) +SUMPRODUCT( (AD$6:AQ$6=2) * (AD8:AQ8="Y") * 1 ) +SUMPRODUCT( (AD$6:AQ$6=3) * (AD8:AQ8="Y") * 1 ) +SUMPRODUCT( (AD$6:AQ$6=4) * (AD8:AQ8="N") * 1 ) +SUMPRODUCT( (AD$6:AQ$6=5) * (AD8:AQ8="N") * 2 )) -> 0 | CC8: =COUNTA(O8:R8)+COUNTA(AD8:AQ8) -> 0 | CD8: =1*(SUMPRODUCT( (AR$6:AY$6=1) * ((AR8:AY8="Y") + (AR8:AY8="N")) * 2 ) +SUMPRODUCT( (AR$6:AY$6=2 ) * ((AR8:AY8="Y") + (AR8:AY8="N")) * 1 ) +SUMPRODUCT( (AR$6:AY$6=3) * ((AR8:AY8="Y") + (AR8:AY8="N")) * 1 ) +SUMPRODUCT( (AR$6:AY$6=4) * ((AR8:AY8="Y") + (AR8:AY8="N")) * 1 ) + SUMPRODUCT( (AR$6:AY$6=5) * ((AR8:AY8="Y") + (AR8:AY8="N")) * 2 )) -> 0 | CE8: =(SUMPRODUCT( (AR$6:AY$6=1) * (AR8:AY8="Y") * 2 ) +SUMPRODUCT( (AR$6:AY$6=2) * (AR8:AY8="Y") * 1 ) +SUMPRODUCT( (AR$6:AY$6=3) * (AR8:AY8="Y") * 1 ) +SUMPRODUCT( (AR$6:AY$6=4) * (AR8:AY8="N") * 1 ) +SUMPRODUCT( (AR$6:AY$6=5) * (AR8:AY8="N") * 2 )) -> 0 | CF8: =COUNTA(AR8:AY8) -> 0 | CG8: {=5*(SUMPRODUCT((S$6=1)*((S8="Y")+(S8="N"))*2)+SUMPRODUCT((S$6=2)*((S8="Y")+(S8="N"))*1)+SUMPRODUCT((S$6=3)*((S8="Y")+(S8="N"))*1)+SUMPRODUCT((S$6=4)*((S8="Y")+(S8="N"))*1)+SUMPRODUCT((S$6=5)*((S8="Y")+(S8="N"))*2))+1*(SUMPRODUCT((AZ$6:BI$6=1)*((AZ8:BI8="Y")+(AZ8:BI8="N"))*2)+SUMPRODUCT((AZ$6:BI$6=2)*((AZ8:BI8="Y")+(AZ8:BI8="N"))*1)+SUMPRODUCT((AZ$6:BI$6=3)*((AZ8:BI8="Y")+(AZ8:BI8="N"))*1)+SUMPRODUCT((AZ$6:BI$6=4)*((AZ8:BI8="Y")+(AZ8:BI8="N"))*1)+SUMPRODUCT((AZ$6:BI$6=5)*((AZ8:BI8="Y")+(AZ8:BI8="N"))*2))} -> 15 | CH8: {=5*(SUMPRODUCT((S$6=1)*(S8="Y")*2)+SUMPRODUCT((S$6=2)*(S8="Y")*1)+SUMPRODUCT((S$6=3)*(S8="Y")*1)+SUMPRODUCT((S$6=4)*(S8="N")*1)+SUMPRODUCT((S$6=5)*(S8="N")*2))+(SUMPRODUCT((AZ$6:BI$6=1)*(AZ8:BI8="Y")*2)+SUMPRODUCT((AZ$6:BI$6=2)*(AZ8:BI8="Y")*1)+SUMPRODUCT((AZ$6:BI$6=3)*(AZ8:BI8="Y")*1)+SUMPRODUCT((AZ$6:BI$6=4)*(AZ8:BI8="N")*1)+SUMPRODUCT((AZ$6:BI$6=5)*(AZ8:BI8="N")*2))} -> 15 | CI8: =COUNTA(S8)+COUNTA(AZ8:BI8) -> 11 | CJ8: {=5*(SUMPRODUCT((T$6:V$6=1)*((T8:V8="Y")+(T8:V8="N"))*2)+SUMPRODUCT((T$6:V$6=2)*((T8:V8="Y")+(T8:V8="N"))*1)+SUMPRODUCT((T$6:V$6=3)*((T8:V8="Y")+(T8:V8="N"))*1)+SUMPRODUCT((T$6:V$6=4)*((T8:V8="Y")+(T8:V8="N"))*1)+SUMPRODUCT((T$6:V$6=5)*((T8:V8="Y")+(T8:V8="N"))*2))+1*(SUMPRODUCT((BJ$6:BQ$6=1)*((BJ8:BQ8="Y")+(BJ8:BQ8="N"))*2)+SUMPRODUCT((BJ$6:BQ$6=2)*((BJ8:BQ8="Y")+(BJ8:BQ8="N"))*1)+SUMPRODUCT((BJ$6:BQ$6=3)*((BJ8:BQ8="Y")+(BJ8:BQ8="N"))*1)+SUMPRODUCT((BJ$6:BQ$6=4)*((BJ8:BQ8="Y")+(BJ8:BQ8="N"))*1)+SUMPRODUCT((BJ$6:BQ$6=5)*((BJ8:BQ8="Y")+(BJ8:BQ8="N"))*2))} -> 24 | CK8: {=5*(SUMPRODUCT((T$6:V$6=1)*(T8:V8="Y")*2)+SUMPRODUCT((T$6:V$6=2)*(T8:V8="Y")*1)+SUMPRODUCT((T$6:V$6=3)*(T8:V8="Y")*1)+SUMPRODUCT((T$6:V$6=4)*(T8:V8="N")*1)+SUMPRODUCT((T$6:V$6=5)*(T8:V8="N")*2))+(SUMPRODUCT((BJ$6:BQ$6=1)*(BJ8:BQ8="Y")*2)+SUMPRODUCT((BJ$6:BQ$6=2)*(BJ8:BQ8="Y")*1)+SUMPRODUCT((BJ$6:BQ$6=3)*(BJ8:BQ8="Y")*1)+SUMPRODUCT((BJ$6:BQ$6=4)*(BJ8:BQ8="N")*1)+SUMPRODUCT((BJ$6:BQ$6=5)*(BJ8:BQ8="N")*2))} -> 24 | CL8: =COUNTA(T8:V8)+COUNTA(BJ8:BQ8) -> 11 | CM8: =SUM(COUNTIF(M8, $H$128)*$H$137)+(COUNTIF(M8, $H$129)*$H$137)+(COUNTIF(#REF!, $H$128)*$H$135)+(COUNTIF(#REF!, $H$129)*$H$135) -> #REF! | CN8: =SUM(COUNTIF(M8, $H$128)*$H$137)+(COUNTIF(#REF!, $H$128)*$H$135) -> #REF! | CO8: =COUNTA(M8)+COUNTA(#REF!) -> 1 | CP8: =SUM(COUNTIF(M8, $H$128)*$H$137)+(COUNTIF(M8, $H$129)*$H$137)+(COUNTIF(#REF!, $H$128)*$H$135)+(COUNTIF(#REF!, $H$129)*$H$135) -> #REF! | CQ8: =SUM(COUNTIF(M8, $H$128)*$H$137)+(COUNTIF(#REF!, $H$128)*$H$135) -> #REF! | CR8: =COUNTA(M8)+COUNTA(#REF!) -> 1
A9: =SUM((BT9/BS9)*100) -> 90.384615 | B9: =SUM(BY9/BX9)*100 -> 100 | C9: =SUM(CB9/CA9)*100 -> 75 | D9: =SUM(CE9/CD9)*100 -> 100 | E9: =SUM(CH9/CG9)*100 -> 100 | F9: =SUM(CK9/CJ9)*100 -> 100 | H9: Sen. | I9: Banks | J9: Jim | K9: IN | L9: R | M9: Y | N9: Y | O9: Y | P9: Y | Q9: Y | R9: Y | S9: Y | T9: Y | U9: Y | V9: Y | W9: Y | X9: Y | Y9: Y | Z9: Y | AA9: Y | AB9: Y | AC9: Y | AD9: Y | AE9: Y | AF9: Y | AG9: Y | AH9: Y | AI9: Y | AJ9: Y | AK9: Y | AL9: Y | AM9: Y | AN9: Y | AO9: Y | AP9: Y | AQ9: Y | AR9: Y | AS9: Y | AT9: Y | AU9: Y | AV9: Y | AW9: Y | AX9: Y | AY9: Y | AZ9: Y | BA9: Y | BB9: Y | BC9: Y | BD9: Y | BE9: Y | BF9: Y | BG9: Y | BH9: Y | BI9: Y | BJ9: Y | BK9: Y | BL9: Y | BM9: Y | BN9: Y | BO9: Y | BP9: Y | BQ9: Y | BR9: Y | BS9: {=5 * (SUMPRODUCT( (M$6:V$6=1)*((M9:V9="Y") + (M9:V9="N")) * 2 ) +SUMPRODUCT( (M$6:V$6=2) * ((M9:V9="Y") + (M9:V9="N")) * 1 ) + SUMPRODUCT( (M$6:V$6=3)*((M9:V9="Y")+(M9:V9="N"))*1 ) +SUMPRODUCT( (M$6:V$6=4 ) * ((M9:V9="Y") + (M9:V9="N")) * 1 )+SUMPRODUCT( (M$6:V$6=5) * ((M9:V9="Y")+(M9:V9="N")) * 2 ))+1*(SUMPRODUCT( (X$6:BQ$6=1) * ((X9:BQ9="Y") + (X9:BQ9="N")) * 2 ) +SUMPRODUCT( (X$6:BQ$6=2 ) * ((X9:BQ9="Y") + (X9:BQ9="N")) * 1 ) +SUMPRODUCT( (X$6:BQ$6=3) * ((X9:BQ9="Y") + (X9:BQ9="N")) * 1 ) +SUMPRODUCT( (X$6:BQ$6=4) * ((X9:BQ9="Y") + (X9:BQ9="N")) * 1 ) + SUMPRODUCT( (X$6:BQ$6=5) * ((X9:BQ9="Y") + (X9:BQ9="N")) * 2 ))} -> 104 | BT9: {=5 * (SUMPRODUCT( (M$6:V$6=1) * (M9:V9="Y") * 2 ) + SUMPRODUCT( (M$6:V$6=2) * (M9:V9="Y") * 1 ) +SUMPRODUCT( (M$6:V$6=3) * (M9:V9="Y") * 1 ) + SUMPRODUCT( (M$6:V$6=4) * (M9:V9="N") * 1 ) +SUMPRODUCT( (M$6:V$6=5) * (M9:V9="N") * 2 )) + (SUMPRODUCT( (X$6:BQ$6=1) * (X9:BQ9="Y") * 2 ) +SUMPRODUCT( (X$6:BQ$6=2) * (X9:BQ9="Y") * 1 ) +SUMPRODUCT( (X$6:BQ$6=3) * (X9:BQ9="Y") * 1 ) +SUMPRODUCT( (X$6:BQ$6=4) * (X9:BQ9="N") * 1 ) +SUMPRODUCT( (X$6:BQ$6=5) * (X9:BQ9="N") * 2 ))} -> 94 | BU9: =SUM(COUNTIF(M9:V9,$H$130)*$H$137)+(COUNTIF(X9:BQ9, $H$130)*$H$135) -> 0 | BV9: =COUNTA(M9) -> 1 | BX9: =5 * (SUMPRODUCT( (M$6:N$6=1)*((M9:N9="Y") + (M9:N9="N")) * 2 ) +SUMPRODUCT( (M$6:N$6=2) * ((M9:N9="Y") + (M9:N9="N")) * 1 ) + SUMPRODUCT( (M$6:N$6=3)*((M9:N9="Y")+(M9:N9="N"))*1 ) +SUMPRODUCT( (M$6:N$6=4 ) * ((M9:N9="Y") + (M9:N9="N")) * 1 )+SUMPRODUCT( (M$6:N$6=5) * ((M9:N9="Y")+(M9:N9="N")) * 2 ))+1*(SUMPRODUCT( (X$6:AC$6=1) * ((X9:AC9="Y") + (X9:AC9="N")) * 2 ) +SUMPRODUCT( (X$6:AC$6=2 ) * ((X9:AC9="Y") + (X9:AC9="N")) * 1 ) +SUMPRODUCT( (X$6:AC$6=3) * ((X9:AC9="Y") + (X9:AC9="N")) * 1 ) +SUMPRODUCT( (X$6:AC$6=4) * ((X9:AC9="Y") + (X9:AC9="N")) * 1 ) + SUMPRODUCT( (X$6:AC$6=5) * ((X9:AC9="Y") + (X9:AC9="N")) * 2 )) -> 17 | BY9: =5 * (SUMPRODUCT( (M$6:N$6=1) * (M9:N9="Y") * 2 ) + SUMPRODUCT( (M$6:N$6=2) * (M9:N9="Y") * 1 ) +SUMPRODUCT( (M$6:N$6=3) * (M9:N9="Y") * 1 ) + SUMPRODUCT( (M$6:N$6=4) * (M9:N9="N") * 1 ) +SUMPRODUCT( (M$6:N$6=5) * (M9:N9="N") * 2 )) + (SUMPRODUCT( (X$6:AC$6=1) * (X9:AC9="Y") * 2 ) +SUMPRODUCT( (X$6:AC$6=2) * (X9:AC9="Y") * 1 ) +SUMPRODUCT( (X$6:AC$6=3) * (X9:AC9="Y") * 1 ) +SUMPRODUCT( (X$6:AC$6=4) * (X9:AC9="N") * 1 ) +SUMPRODUCT( (X$6:AC$6=5) * (X9:AC9="N") * 2 )) -> 17 | BZ9: =COUNTA(M9:N9)+COUNTA(X9:AC9) -> 8 | CA9: {=5 * (SUMPRODUCT( (O$6:R$6=1)*((O9:R9="Y") + (O9:R9="N")) * 2 ) +SUMPRODUCT( (O$6:R$6=2) * ((O9:R9="Y") + (O9:R9="N")) * 1 ) + SUMPRODUCT( (O$6:R$6=3)*((O9:R9="Y")+(O9:R9="N"))*1 ) +SUMPRODUCT( (O$6:R$6=4 ) * ((O9:R9="Y") + (O9:R9="N")) * 1 )+SUMPRODUCT( (O$6:R$6=5) * ((O9:R9="Y")+(O9:R9="N")) * 2 )) +1*(SUMPRODUCT( (AD$6:AQ$6=1) * ((AD9:AQ9="Y") + (AD9:AQ9="N")) * 2 ) +SUMPRODUCT( (AD$6:AQ$6=2 ) * ((AD9:AQ9="Y") + (AD9:AQ9="N")) * 1 ) +SUMPRODUCT( (AD$6:AQ$6=3) * ((AD9:AQ9="Y") + (AD9:AQ9="N")) * 1 ) +SUMPRODUCT( (AD$6:AQ$6=4) * ((AD9:AQ9="Y") + (AD9:AQ9="N")) * 1 ) + SUMPRODUCT( (AD$6:AQ$6=5) * ((AD9:AQ9="Y") + (AD9:AQ9="N")) * 2 ))} -> 40 | CB9: {=5 * (SUMPRODUCT( (O$6:R$6=1) * (O9:R9="Y") * 2 ) + SUMPRODUCT( (O$6:R$6=2) * (O9:R9="Y") * 1 ) +SUMPRODUCT( (O$6:R$6=3) * (O9:R9="Y") * 1 ) + SUMPRODUCT( (O$6:R$6=4) * (O9:R9="N") * 1 ) +SUMPRODUCT( (O$6:R$6=5) * (O9:R9="N") * 2 )) + (SUMPRODUCT( (AD$6:AQ$6=1) * (AD9:AQ9="Y") * 2 ) +SUMPRODUCT( (AD$6:AQ$6=2) * (AD9:AQ9="Y") * 1 ) +SUMPRODUCT( (AD$6:AQ$6=3) * (AD9:AQ9="Y") * 1 ) +SUMPRODUCT( (AD$6:AQ$6=4) * (AD9:AQ9="N") * 1 ) +SUMPRODUCT( (AD$6:AQ$6=5) * (AD9:AQ9="N") * 2 ))} -> 30 | CC9: =COUNTA(O9:R9)+COUNTA(AD9:AQ9) -> 18 | CD9: =1*(SUMPRODUCT( (AR$6:AY$6=1) * ((AR9:AY9="Y") + (AR9:AY9="N")) * 2 ) +SUMPRODUCT( (AR$6:AY$6=2 ) * ((AR9:AY9="Y") + (AR9:AY9="N")) * 1 ) +SUMPRODUCT( (AR$6:AY$6=3) * ((AR9:AY9="Y") + (AR9:AY9="N")) * 1 ) +SUMPRODUCT( (AR$6:AY$6=4) * ((AR9:AY9="Y") + (AR9:AY9="N")) * 1 ) + SUMPRODUCT( (AR$6:AY$6=5) * ((AR9:AY9="Y") + (AR9:AY9="N")) * 2 )) -> 8 | CE9: {=(SUMPRODUCT( (AR$6:AY$6=1) * (AR9:AY9="Y") * 2 ) +SUMPRODUCT( (AR$6:AY$6=2) * (AR9:AY9="Y") * 1 ) +SUMPRODUCT( (AR$6:AY$6=3) * (AR9:AY9="Y") * 1 ) +SUMPRODUCT( (AR$6:AY$6=4) * (AR9:AY9="N") * 1 ) +SUMPRODUCT( (AR$6:AY$6=5) * (AR9:AY9="N") * 2 ))} -> 8 | CF9: =COUNTA(AR9:AY9) -> 8 | CG9: {=5*(SUMPRODUCT((S$6=1)*((S9="Y")+(S9="N"))*2)+SUMPRODUCT((S$6=2)*((S9="Y")+(S9="N"))*1)+SUMPRODUCT((S$6=3)*((S9="Y")+(S9="N"))*1)+SUMPRODUCT((S$6=4)*((S9="Y")+(S9="N"))*1)+SUMPRODUCT((S$6=5)*((S9="Y")+(S9="N"))*2))+1*(SUMPRODUCT((AZ$6:BI$6=1)*((AZ9:BI9="Y")+(AZ9:BI9="N"))*2)+SUMPRODUCT((AZ$6:BI$6=2)*((AZ9:BI9="Y")+(AZ9:BI9="N"))*1)+SUMPRODUCT((AZ$6:BI$6=3)*((AZ9:BI9="Y")+(AZ9:BI9="N"))*1)+SUMPRODUCT((AZ$6:BI$6=4)*((AZ9:BI9="Y")+(AZ9:BI9="N"))*1)+SUMPRODUCT((AZ$6:BI$6=5)*((AZ9:BI9="Y")+(AZ9:BI9="N"))*2))} -> 15 | CH9: {=5*(SUMPRODUCT((S$6=1)*(S9="Y")*2)+SUMPRODUCT((S$6=2)*(S9="Y")*1)+SUMPRODUCT((S$6=3)*(S9="Y")*1)+SUMPRODUCT((S$6=4)*(S9="N")*1)+SUMPRODUCT((S$6=5)*(S9="N")*2))+(SUMPRODUCT((AZ$6:BI$6=1)*(AZ9:BI9="Y")*2)+SUMPRODUCT((AZ$6:BI$6=2)*(AZ9:BI9="Y")*1)+SUMPRODUCT((AZ$6:BI$6=3)*(AZ9:BI9="Y")*1)+SUMPRODUCT((AZ$6:BI$6=4)*(AZ9:BI9="N")*1)+SUMPRODUCT((AZ$6:BI$6=5)*(AZ9:BI9="N")*2))} -> 15 | CI9: =COUNTA(S9)+COUNTA(AZ9:BI9) -> 11 | CJ9: {=5*(SUMPRODUCT((T$6:V$6=1)*((T9:V9="Y")+(T9:V9="N"))*2)+SUMPRODUCT((T$6:V$6=2)*((T9:V9="Y")+(T9:V9="N"))*1)+SUMPRODUCT((T$6:V$6=3)*((T9:V9="Y")+(T9:V9="N"))*1)+SUMPRODUCT((T$6:V$6=4)*((T9:V9="Y")+(T9:V9="N"))*1)+SUMPRODUCT((T$6:V$6=5)*((T9:V9="Y")+(T9:V9="N"))*2))+1*(SUMPRODUCT((BJ$6:BQ$6=1)*((BJ9:BQ9="Y")+(BJ9:BQ9="N"))*2)+SUMPRODUCT((BJ$6:BQ$6=2)*((BJ9:BQ9="Y")+(BJ9:BQ9="N"))*1)+SUMPRODUCT((BJ$6:BQ$6=3)*((BJ9:BQ9="Y")+(BJ9:BQ9="N"))*1)+SUMPRODUCT((BJ$6:BQ$6=4)*((BJ9:BQ9="Y")+(BJ9:BQ9="N"))*1)+SUMPRODUCT((BJ$6:BQ$6=5)*((BJ9:BQ9="Y")+(BJ9:BQ9="N"))*2))} -> 24 | CK9: {=5*(SUMPRODUCT((T$6:V$6=1)*(T9:V9="Y")*2)+SUMPRODUCT((T$6:V$6=2)*(T9:V9="Y")*1)+SUMPRODUCT((T$6:V$6=3)*(T9:V9="Y")*1)+SUMPRODUCT((T$6:V$6=4)*(T9:V9="N")*1)+SUMPRODUCT((T$6:V$6=5)*(T9:V9="N")*2))+(SUMPRODUCT((BJ$6:BQ$6=1)*(BJ9:BQ9="Y")*2)+SUMPRODUCT((BJ$6:BQ$6=2)*(BJ9:BQ9="Y")*1)+SUMPRODUCT((BJ$6:BQ$6=3)*(BJ9:BQ9="Y")*1)+SUMPRODUCT((BJ$6:BQ$6=4)*(BJ9:BQ9="N")*1)+SUMPRODUCT((BJ$6:BQ$6=5)*(BJ9:BQ9="N")*2))} -> 24 | CL9: =COUNTA(T9:V9)+COUNTA(BJ9:BQ9) -> 11 | CM9: =SUM(COUNTIF(M9, $H$128)*$H$137)+(COUNTIF(M9, $H$129)*$H$137)+(COUNTIF(#REF!, $H$128)*$H$135)+(COUNTIF(#REF!, $H$129)*$H$135) -> #REF! | CN9: =SUM(COUNTIF(M9, $H$128)*$H$137)+(COUNTIF(#REF!, $H$128)*$H$135) -> #REF! | CO9: =COUNTA(M9)+COUNTA(#REF!) -> 2 | CP9: =SUM(COUNTIF(M9, $H$128)*$H$137)+(COUNTIF(M9, $H$129)*$H$137)+(COUNTIF(#REF!, $H$128)*$H$135)+(COUNTIF(#REF!, $H$129)*$H$135) -> #REF! | CQ9: =SUM(COUNTIF(M9, $H$128)*$H$137)+(COUNTIF(#REF!, $H$128)*$H$135) -> #REF! | CR9: =COUNTA(M9)+COUNTA(#REF!) -> 2
A10: =SUM((BT10/BS10)*100) -> 90.384615 | B10: =SUM(BY10/BX10)*100 -> 100 | C10: =SUM(CB10/CA10)*100 -> 75 | D10: =SUM(CE10/CD10)*100 -> 100 | E10: =SUM(CH10/CG10)*100 -> 100 | F10: =SUM(CK10/CJ10)*100 -> 100 | H10: Sen. | I10: Barrasso | J10: John | K10: WY | L10: R | M10: Y | N10: Y | O10: Y | P10: Y | Q10: Y | R10: Y | S10: Y | T10: Y | U10: Y | V10: Y | W10: Y | X10: Y | Y10: Y | Z10: Y | AA10: Y | AB10: Y | AC10: Y | AD10: Y | AE10: Y | AF10: Y | AG10: Y | AH10: Y | AI10: Y | AJ10: Y | AK10: Y | AL10: Y | AM10: Y | AN10: Y | AO10: Y | AP10: Y | AQ10: Y | AR10: Y | AS10: Y | AT10: Y | AU10: Y | AV10: Y | AW10: Y | AX10: Y | AY10: Y | AZ10: Y | BA10: Y | BB10: Y | BC10: Y | BD10: Y | BE10: Y | BF10: Y | BG10: Y | BH10: Y | BI10: Y | BJ10: Y | BK10: Y | BL10: Y | BM10: Y | BN10: Y | BO10: Y | BP10: Y | BQ10: Y | BR10: Y | BS10: {=5 * (SUMPRODUCT( (M$6:V$6=1)*((M10:V10="Y") + (M10:V10="N")) * 2 ) +SUMPRODUCT( (M$6:V$6=2) * ((M10:V10="Y") + (M10:V10="N")) * 1 ) + SUMPRODUCT( (M$6:V$6=3)*((M10:V10="Y")+(M10:V10="N"))*1 ) +SUMPRODUCT( (M$6:V$6=4 ) * ((M10:V10="Y") + (M10:V10="N")) * 1 )+SUMPRODUCT( (M$6:V$6=5) * ((M10:V10="Y")+(M10:V10="N")) * 2 ))+1*(SUMPRODUCT( (X$6:BQ$6=1) * ((X10:BQ10="Y") + (X10:BQ10="N")) * 2 ) +SUMPRODUCT( (X$6:BQ$6=2 ) * ((X10:BQ10="Y") + (X10:BQ10="N")) * 1 ) +SUMPRODUCT( (X$6:BQ$6=3) * ((X10:BQ10="Y") + (X10:BQ10="N")) * 1 ) +SUMPRODUCT( (X$6:BQ$6=4) * ((X10:BQ10="Y") + (X10:BQ10="N")) * 1 ) + SUMPRODUCT( (X$6:BQ$6=5) * ((X10:BQ10="Y") + (X10:BQ10="N")) * 2 ))} -> 104 | BT10: {=5 * (SUMPRODUCT( (M$6:V$6=1) * (M10:V10="Y") * 2 ) + SUMPRODUCT( (M$6:V$6=2) * (M10:V10="Y") * 1 ) +SUMPRODUCT( (M$6:V$6=3) * (M10:V10="Y") * 1 ) + SUMPRODUCT( (M$6:V$6=4) * (M10:V10="N") * 1 ) +SUMPRODUCT( (M$6:V$6=5) * (M10:V10="N") * 2 )) + (SUMPRODUCT( (X$6:BQ$6=1) * (X10:BQ10="Y") * 2 ) +SUMPRODUCT( (X$6:BQ$6=2) * (X10:BQ10="Y") * 1 ) +SUMPRODUCT( (X$6:BQ$6=3) * (X10:BQ10="Y") * 1 ) +SUMPRODUCT( (X$6:BQ$6=4) * (X10:BQ10="N") * 1 ) +SUMPRODUCT( (X$6:BQ$6=5) * (X10:BQ10="N") * 2 ))} -> 94 | BU10: =SUM(COUNTIF(M10:V10,$H$130)*$H$137)+(COUNTIF(X10:BQ10, $H$130)*$H$135) -> 0 | BV10: =COUNTA(M10) -> 1 | BX10: =5 * (SUMPRODUCT( (M$6:N$6=1)*((M10:N10="Y") + (M10:N10="N")) * 2 ) +SUMPRODUCT( (M$6:N$6=2) * ((M10:N10="Y") + (M10:N10="N")) * 1 ) + SUMPRODUCT( (M$6:N$6=3)*((M10:N10="Y")+(M10:N10="N"))*1 ) +SUMPRODUCT( (M$6:N$6=4 ) * ((M10:N10="Y") + (M10:N10="N")) * 1 )+SUMPRODUCT( (M$6:N$6=5) * ((M10:N10="Y")+(M10:N10="N")) * 2 ))+1*(SUMPRODUCT( (X$6:AC$6=1) * ((X10:AC10="Y") + (X10:AC10="N")) * 2 ) +SUMPRODUCT( (X$6:AC$6=2 ) * ((X10:AC10="Y") + (X10:AC10="N")) * 1 ) +SUMPRODUCT( (X$6:AC$6=3) * ((X10:AC10="Y") + (X10:AC10="N")) * 1 ) +SUMPRODUCT( (X$6:AC$6=4) * ((X10:AC10="Y") + (X10:AC10="N")) * 1 ) + SUMPRODUCT( (X$6:AC$6=5) * ((X10:AC10="Y") + (X10:AC10="N")) * 2 )) -> 17 | BY10: =5 * (SUMPRODUCT( (M$6:N$6=1) * (M10:N10="Y") * 2 ) + SUMPRODUCT( (M$6:N$6=2) * (M10:N10="Y") * 1 ) +SUMPRODUCT( (M$6:N$6=3) * (M10:N10="Y") * 1 ) + SUMPRODUCT( (M$6:N$6=4) * (M10:N10="N") * 1 ) +SUMPRODUCT( (M$6:N$6=5) * (M10:N10="N") * 2 )) + (SUMPRODUCT( (X$6:AC$6=1) * (X10:AC10="Y") * 2 ) +SUMPRODUCT( (X$6:AC$6=2) * (X10:AC10="Y") * 1 ) +SUMPRODUCT( (X$6:AC$6=3) * (X10:AC10="Y") * 1 ) +SUMPRODUCT( (X$6:AC$6=4) * (X10:AC10="N") * 1 ) +SUMPRODUCT( (X$6:AC$6=5) * (X10:AC10="N") * 2 )) -> 17 | BZ10: =COUNTA(M10:N10)+COUNTA(X10:AC10) -> 8 | CA10: =5 * (SUMPRODUCT( (O$6:R$6=1)*((O10:R10="Y") + (O10:R10="N")) * 2 ) +SUMPRODUCT( (O$6:R$6=2) * ((O10:R10="Y") + (O10:R10="N")) * 1 ) + SUMPRODUCT( (O$6:R$6=3)*((O10:R10="Y")+(O10:R10="N"))*1 ) +SUMPRODUCT( (O$6:R$6=4 ) * ((O10:R10="Y") + (O10:R10="N")) * 1 )+SUMPRODUCT( (O$6:R$6=5) * ((O10:R10="Y")+(O10:R10="N")) * 2 )) +1*(SUMPRODUCT( (AD$6:AQ$6=1) * ((AD10:AQ10="Y") + (AD10:AQ10="N")) * 2 ) +SUMPRODUCT( (AD$6:AQ$6=2 ) * ((AD10:AQ10="Y") + (AD10:AQ10="N")) * 1 ) +SUMPRODUCT( (AD$6:AQ$6=3) * ((AD10:AQ10="Y") + (AD10:AQ10="N")) * 1 ) +SUMPRODUCT( (AD$6:AQ$6=4) * ((AD10:AQ10="Y") + (AD10:AQ10="N")) * 1 ) + SUMPRODUCT( (AD$6:AQ$6=5) * ((AD10:AQ10="Y") + (AD10:AQ10="N")) * 2 )) -> 40 | CB10: {=5 * (SUMPRODUCT( (O$6:R$6=1) * (O10:R10="Y") * 2 ) + SUMPRODUCT( (O$6:R$6=2) * (O10:R10="Y") * 1 ) +SUMPRODUCT( (O$6:R$6=3) * (O10:R10="Y") * 1 ) + SUMPRODUCT( (O$6:R$6=4) * (O10:R10="N") * 1 ) +SUMPRODUCT( (O$6:R$6=5) * (O10:R10="N") * 2 )) + (SUMPRODUCT( (AD$6:AQ$6=1) * (AD10:AQ10="Y") * 2 ) +SUMPRODUCT( (AD$6:AQ$6=2) * (AD10:AQ10="Y") * 1 ) +SUMPRODUCT( (AD$6:AQ$6=3) * (AD10:AQ10="Y") * 1 ) +SUMPRODUCT( (AD$6:AQ$6=4) * (AD10:AQ10="N") * 1 ) +SUMPRODUCT( (AD$6:AQ$6=5) * (AD10:AQ10="N") * 2 ))} -> 30 | CC10: =COUNTA(O10:R10)+COUNTA(AD10:AQ10) -> 18 | CD10: =1*(SUMPRODUCT( (AR$6:AY$6=1) * ((AR10:AY10="Y") + (AR10:AY10="N")) * 2 ) +SUMPRODUCT( (AR$6:AY$6=2 ) * ((AR10:AY10="Y") + (AR10:AY10="N")) * 1 ) +SUMPRODUCT( (AR$6:AY$6=3) * ((AR10:AY10="Y") + (AR10:AY10="N")) * 1 ) +SUMPRODUCT( (AR$6:AY$6=4) * ((AR10:AY10="Y") + (AR10:AY10="N")) * 1 ) + SUMPRODUCT( (AR$6:AY$6=5) * ((AR10:AY10="Y") + (AR10:AY10="N")) * 2 )) -> 8 | CE10: =(SUMPRODUCT( (AR$6:AY$6=1) * (AR10:AY10="Y") * 2 ) +SUMPRODUCT( (AR$6:AY$6=2) * (AR10:AY10="Y") * 1 ) +SUMPRODUCT( (AR$6:AY$6=3) * (AR10:AY10="Y") * 1 ) +SUMPRODUCT( (AR$6:AY$6=4) * (AR10:AY10="N") * 1 ) +SUMPRODUCT( (AR$6:AY$6=5) * (AR10:AY10="N") * 2 )) -> 8 | CF10: =COUNTA(AR10:AY10) -> 8 | CG10: {=5*(SUMPRODUCT((S$6=1)*((S10="Y")+(S10="N"))*2)+SUMPRODUCT((S$6=2)*((S10="Y")+(S10="N"))*1)+SUMPRODUCT((S$6=3)*((S10="Y")+(S10="N"))*1)+SUMPRODUCT((S$6=4)*((S10="Y")+(S10="N"))*1)+SUMPRODUCT((S$6=5)*((S10="Y")+(S10="N"))*2))+1*(SUMPRODUCT((AZ$6:BI$6=1)*((AZ10:BI10="Y")+(AZ10:BI10="N"))*2)+SUMPRODUCT((AZ$6:BI$6=2)*((AZ10:BI10="Y")+(AZ10:BI10="N"))*1)+SUMPRODUCT((AZ$6:BI$6=3)*((AZ10:BI10="Y")+(AZ10:BI10="N"))*1)+SUMPRODUCT((AZ$6:BI$6=4)*((AZ10:BI10="Y")+(AZ10:BI10="N"))*1)+SUMPRODUCT((AZ$6:BI$6=5)*((AZ10:BI10="Y")+(AZ10:BI10="N"))*2))} -> 15 | CH10: {=5*(SUMPRODUCT((S$6=1)*(S10="Y")*2)+SUMPRODUCT((S$6=2)*(S10="Y")*1)+SUMPRODUCT((S$6=3)*(S10="Y")*1)+SUMPRODUCT((S$6=4)*(S10="N")*1)+SUMPRODUCT((S$6=5)*(S10="N")*2))+(SUMPRODUCT((AZ$6:BI$6=1)*(AZ10:BI10="Y")*2)+SUMPRODUCT((AZ$6:BI$6=2)*(AZ10:BI10="Y")*1)+SUMPRODUCT((AZ$6:BI$6=3)*(AZ10:BI10="Y")*1)+SUMPRODUCT((AZ$6:BI$6=4)*(AZ10:BI10="N")*1)+SUMPRODUCT((AZ$6:BI$6=5)*(AZ10:BI10="N")*2))} -> 15 | CI10: =COUNTA(S10)+COUNTA(AZ10:BI10) -> 11 | CJ10: {=5*(SUMPRODUCT((T$6:V$6=1)*((T10:V10="Y")+(T10:V10="N"))*2)+SUMPRODUCT((T$6:V$6=2)*((T10:V10="Y")+(T10:V10="N"))*1)+SUMPRODUCT((T$6:V$6=3)*((T10:V10="Y")+(T10:V10="N"))*1)+SUMPRODUCT((T$6:V$6=4)*((T10:V10="Y")+(T10:V10="N"))*1)+SUMPRODUCT((T$6:V$6=5)*((T10:V10="Y")+(T10:V10="N"))*2))+1*(SUMPRODUCT((BJ$6:BQ$6=1)*((BJ10:BQ10="Y")+(BJ10:BQ10="N"))*2)+SUMPRODUCT((BJ$6:BQ$6=2)*((BJ10:BQ10="Y")+(BJ10:BQ10="N"))*1)+SUMPRODUCT((BJ$6:BQ$6=3)*((BJ10:BQ10="Y")+(BJ10:BQ10="N"))*1)+SUMPRODUCT((BJ$6:BQ$6=4)*((BJ10:BQ10="Y")+(BJ10:BQ10="N"))*1)+SUMPRODUCT((BJ$6:BQ$6=5)*((BJ10:BQ10="Y")+(BJ10:BQ10="N"))*2))} -> 24 | CK10: {=5*(SUMPRODUCT((T$6:V$6=1)*(T10:V10="Y")*2)+SUMPRODUCT((T$6:V$6=2)*(T10:V10="Y")*1)+SUMPRODUCT((T$6:V$6=3)*(T10:V10="Y")*1)+SUMPRODUCT((T$6:V$6=4)*(T10:V10="N")*1)+SUMPRODUCT((T$6:V$6=5)*(T10:V10="N")*2))+(SUMPRODUCT((BJ$6:BQ$6=1)*(BJ10:BQ10="Y")*2)+SUMPRODUCT((BJ$6:BQ$6=2)*(BJ10:BQ10="Y")*1)+SUMPRODUCT((BJ$6:BQ$6=3)*(BJ10:BQ10="Y")*1)+SUMPRODUCT((BJ$6:BQ$6=4)*(BJ10:BQ10="N")*1)+SUMPRODUCT((BJ$6:BQ$6=5)*(BJ10:BQ10="N")*2))} -> 24 | CL10: =COUNTA(T10:V10)+COUNTA(BJ10:BQ10) -> 11 | CM10: =SUM(COUNTIF(M10, $H$128)*$H$137)+(COUNTIF(M10, $H$129)*$H$137)+(COUNTIF(#REF!, $H$128)*$H$135)+(COUNTIF(#REF!, $H$129)*$H$135) -> #REF! | CN10: =SUM(COUNTIF(M10, $H$128)*$H$137)+(COUNTIF(#REF!, $H$128)*$H$135) -> #REF! | CO10: =COUNTA(M10)+COUNTA(#REF!) -> 2 | CP10: =SUM(COUNTIF(M10, $H$128)*$H$137)+(COUNTIF(M10, $H$129)*$H$137)+(COUNTIF(#REF!, $H$128)*$H$135)+(COUNTIF(#REF!, $H$129)*$H$135) -> #REF! | CQ10: =SUM(COUNTIF(M10, $H$128)*$H$137)+(COUNTIF(#REF!, $H$128)*$H$135) -> #REF! | CR10: =COUNTA(M10)+COUNTA(#REF!) -> 2
A11: =SUM((BT11/BS11)*100) -> 90.09901 | B11: =SUM(BY11/BX11)*100 -> 100 | C11: =SUM(CB11/CA11)*100 -> 74.358974 | D11: =SUM(CE11/CD11)*100 -> 100 | E11: =SUM(CH11/CG11)*100 -> 100 | F11: =SUM(CK11/CJ11)*100 -> 100 | H11: Sen. | I11: Blackburn | J11: Marsha | K11: TN | L11: R | M11: Y | N11: Y | O11: Y | P11: Y | Q11: Y | R11: Y | S11: Y | T11: Y | U11: Y | V11: Y | W11: Y | X11: Y | Y11: Y | Z11: Y | AA11: Y | AB11: Y | AC11: Y | AD11: Y | AE11: Y | AF11: Y | AG11: NV | AH11: Y | AI11: Y | AJ11: Y | AK11: Y | AL11: Y | AM11: Y | AN11: Y | AO11: Y | AP11: Y | AQ11: Y | AR11: Y | AS11: Y | AT11: Y | AU11: Y | AV11: Y | AW11: Y | AX11: Y | AY11: Y | AZ11: Y | BA11: Y | BB11: NV | BC11: Y | BD11: Y | BE11: Y | BF11: Y | BG11: NV | BH11: Y | BI11: Y | BJ11: Y | BK11: Y | BL11: Y | BM11: Y | BN11: Y | BO11: Y | BP11: Y | BQ11: Y | BR11: Y | BS11: {=5 * (SUMPRODUCT( (M$6:V$6=1)*((M11:V11="Y") + (M11:V11="N")) * 2 ) +SUMPRODUCT( (M$6:V$6=2) * ((M11:V11="Y") + (M11:V11="N")) * 1 ) + SUMPRODUCT( (M$6:V$6=3)*((M11:V11="Y")+(M11:V11="N"))*1 ) +SUMPRODUCT( (M$6:V$6=4 ) * ((M11:V11="Y") + (M11:V11="N")) * 1 )+SUMPRODUCT( (M$6:V$6=5) * ((M11:V11="Y")+(M11:V11="N")) * 2 ))+1*(SUMPRODUCT( (X$6:BQ$6=1) * ((X11:BQ11="Y") + (X11:BQ11="N")) * 2 ) +SUMPRODUCT( (X$6:BQ$6=2 ) * ((X11:BQ11="Y") + (X11:BQ11="N")) * 1 ) +SUMPRODUCT( (X$6:BQ$6=3) * ((X11:BQ11="Y") + (X11:BQ11="N")) * 1 ) +SUMPRODUCT( (X$6:BQ$6=4) * ((X11:BQ11="Y") + (X11:BQ11="N")) * 1 ) + SUMPRODUCT( (X$6:BQ$6=5) * ((X11:BQ11="Y") + (X11:BQ11="N")) * 2 ))} -> 101 | BT11: {=5 * (SUMPRODUCT( (M$6:V$6=1) * (M11:V11="Y") * 2 ) + SUMPRODUCT( (M$6:V$6=2) * (M11:V11="Y") * 1 ) +SUMPRODUCT( (M$6:V$6=3) * (M11:V11="Y") * 1 ) + SUMPRODUCT( (M$6:V$6=4) * (M11:V11="N") * 1 ) +SUMPRODUCT( (M$6:V$6=5) * (M11:V11="N") * 2 )) + (SUMPRODUCT( (X$6:BQ$6=1) * (X11:BQ11="Y") * 2 ) +SUMPRODUCT( (X$6:BQ$6=2) * (X11:BQ11="Y") * 1 ) +SUMPRODUCT( (X$6:BQ$6=3) * (X11:BQ11="Y") * 1 ) +SUMPRODUCT( (X$6:BQ$6=4) * (X11:BQ11="N") * 1 ) +SUMPRODUCT( (X$6:BQ$6=5) * (X11:BQ11="N") * 2 ))} -> 91 | BU11: =SUM(COUNTIF(M11:V11,$H$130)*$H$137)+(COUNTIF(X11:BQ11, $H$130)*$H$135) -> 3 | BV11: =COUNTA(M11) -> 1 | BX11: =5 * (SUMPRODUCT( (M$6:N$6=1)*((M11:N11="Y") + (M11:N11="N")) * 2 ) +SUMPRODUCT( (M$6:N$6=2) * ((M11:N11="Y") + (M11:N11="N")) * 1 ) + SUMPRODUCT( (M$6:N$6=3)*((M11:N11="Y")+(M11:N11="N"))*1 ) +SUMPRODUCT( (M$6:N$6=4 ) * ((M11:N11="Y") + (M11:N11="N")) * 1 )+SUMPRODUCT( (M$6:N$6=5) * ((M11:N11="Y")+(M11:N11="N")) * 2 ))+1*(SUMPRODUCT( (X$6:AC$6=1) * ((X11:AC11="Y") + (X11:AC11="N")) * 2 ) +SUMPRODUCT( (X$6:AC$6=2 ) * ((X11:AC11="Y") + (X11:AC11="N")) * 1 ) +SUMPRODUCT( (X$6:AC$6=3) * ((X11:AC11="Y") + (X11:AC11="N")) * 1 ) +SUMPRODUCT( (X$6:AC$6=4) * ((X11:AC11="Y") + (X11:AC11="N")) * 1 ) + SUMPRODUCT( (X$6:AC$6=5) * ((X11:AC11="Y") + (X11:AC11="N")) * 2 )) -> 17 | BY11: =5 * (SUMPRODUCT( (M$6:N$6=1) * (M11:N11="Y") * 2 ) + SUMPRODUCT( (M$6:N$6=2) * (M11:N11="Y") * 1 ) +SUMPRODUCT( (M$6:N$6=3) * (M11:N11="Y") * 1 ) + SUMPRODUCT( (M$6:N$6=4) * (M11:N11="N") * 1 ) +SUMPRODUCT( (M$6:N$6=5) * (M11:N11="N") * 2 )) + (SUMPRODUCT( (X$6:AC$6=1) * (X11:AC11="Y") * 2 ) +SUMPRODUCT( (X$6:AC$6=2) * (X11:AC11="Y") * 1 ) +SUMPRODUCT( (X$6:AC$6=3) * (X11:AC11="Y") * 1 ) +SUMPRODUCT( (X$6:AC$6=4) * (X11:AC11="N") * 1 ) +SUMPRODUCT( (X$6:AC$6=5) * (X11:AC11="N") * 2 )) -> 17 | BZ11: =COUNTA(M11:N11)+COUNTA(X11:AC11) -> 8 | CA11: =5 * (SUMPRODUCT( (O$6:R$6=1)*((O11:R11="Y") + (O11:R11="N")) * 2 ) +SUMPRODUCT( (O$6:R$6=2) * ((O11:R11="Y") + (O11:R11="N")) * 1 ) + SUMPRODUCT( (O$6:R$6=3)*((O11:R11="Y")+(O11:R11="N"))*1 ) +SUMPRODUCT( (O$6:R$6=4 ) * ((O11:R11="Y") + (O11:R11="N")) * 1 )+SUMPRODUCT( (O$6:R$6=5) * ((O11:R11="Y")+(O11:R11="N")) * 2 )) +1*(SUMPRODUCT( (AD$6:AQ$6=1) * ((AD11:AQ11="Y") + (AD11:AQ11="N")) * 2 ) +SUMPRODUCT( (AD$6:AQ$6=2 ) * ((AD11:AQ11="Y") + (AD11:AQ11="N")) * 1 ) +SUMPRODUCT( (AD$6:AQ$6=3) * ((AD11:AQ11="Y") + (AD11:AQ11="N")) * 1 ) +SUMPRODUCT( (AD$6:AQ$6=4) * ((AD11:AQ11="Y") + (AD11:AQ11="N")) * 1 ) + SUMPRODUCT( (AD$6:AQ$6=5) * ((AD11:AQ11="Y") + (AD11:AQ11="N")) * 2 )) -> 39 | CB11: =5 * (SUMPRODUCT( (O$6:R$6=1) * (O11:R11="Y") * 2 ) + SUMPRODUCT( (O$6:R$6=2) * (O11:R11="Y") * 1 ) +SUMPRODUCT( (O$6:R$6=3) * (O11:R11="Y") * 1 ) + SUMPRODUCT( (O$6:R$6=4) * (O11:R11="N") * 1 ) +SUMPRODUCT( (O$6:R$6=5) * (O11:R11="N") * 2 )) + (SUMPRODUCT( (AD$6:AQ$6=1) * (AD11:AQ11="Y") * 2 ) +SUMPRODUCT( (AD$6:AQ$6=2) * (AD11:AQ11="Y") * 1 ) +SUMPRODUCT( (AD$6:AQ$6=3) * (AD11:AQ11="Y") * 1 ) +SUMPRODUCT( (AD$6:AQ$6=4) * (AD11:AQ11="N") * 1 ) +SUMPRODUCT( (AD$6:AQ$6=5) * (AD11:AQ11="N") * 2 )) -> 29 | CC11: =COUNTA(O11:R11)+COUNTA(AD11:AQ11) -> 18 | CD11: =1*(SUMPRODUCT( (AR$6:AY$6=1) * ((AR11:AY11="Y") + (AR11:AY11="N")) * 2 ) +SUMPRODUCT( (AR$6:AY$6=2 ) * ((AR11:AY11="Y") + (AR11:AY11="N")) * 1 ) +SUMPRODUCT( (AR$6:AY$6=3) * ((AR11:AY11="Y") + (AR11:AY11="N")) * 1 ) +SUMPRODUCT( (AR$6:AY$6=4) * ((AR11:AY11="Y") + (AR11:AY11="N")) * 1 ) + SUMPRODUCT( (AR$6:AY$6=5) * ((AR11:AY11="Y") + (AR11:AY11="N")) * 2 )) -> 8 | CE11: =(SUMPRODUCT( (AR$6:AY$6=1) * (AR11:AY11="Y") * 2 ) +SUMPRODUCT( (AR$6:AY$6=2) * (AR11:AY11="Y") * 1 ) +SUMPRODUCT( (AR$6:AY$6=3) * (AR11:AY11="Y") * 1 ) +SUMPRODUCT( (AR$6:AY$6=4) * (AR11:AY11="N") * 1 ) +SUMPRODUCT( (AR$6:AY$6=5) * (AR11:AY11="N") * 2 )) -> 8 | CF11: =COUNTA(AR11:AY11) -> 8 | CG11: {=5*(SUMPRODUCT((S$6=1)*((S11="Y")+(S11="N"))*2)+SUMPRODUCT((S$6=2)*((S11="Y")+(S11="N"))*1)+SUMPRODUCT((S$6=3)*((S11="Y")+(S11="N"))*1)+SUMPRODUCT((S$6=4)*((S11="Y")+(S11="N"))*1)+SUMPRODUCT((S$6=5)*((S11="Y")+(S11="N"))*2))+1*(SUMPRODUCT((AZ$6:BI$6=1)*((AZ11:BI11="Y")+(AZ11:BI11="N"))*2)+SUMPRODUCT((AZ$6:BI$6=2)*((AZ11:BI11="Y")+(AZ11:BI11="N"))*1)+SUMPRODUCT((AZ$6:BI$6=3)*((AZ11:BI11="Y")+(AZ11:BI11="N"))*1)+SUMPRODUCT((AZ$6:BI$6=4)*((AZ11:BI11="Y")+(AZ11:BI11="N"))*1)+SUMPRODUCT((AZ$6:BI$6=5)*((AZ11:BI11="Y")+(AZ11:BI11="N"))*2))} -> 13 | CH11: {=5*(SUMPRODUCT((S$6=1)*(S11="Y")*2)+SUMPRODUCT((S$6=2)*(S11="Y")*1)+SUMPRODUCT((S$6=3)*(S11="Y")*1)+SUMPRODUCT((S$6=4)*(S11="N")*1)+SUMPRODUCT((S$6=5)*(S11="N")*2))+(SUMPRODUCT((AZ$6:BI$6=1)*(AZ11:BI11="Y")*2)+SUMPRODUCT((AZ$6:BI$6=2)*(AZ11:BI11="Y")*1)+SUMPRODUCT((AZ$6:BI$6=3)*(AZ11:BI11="Y")*1)+SUMPRODUCT((AZ$6:BI$6=4)*(AZ11:BI11="N")*1)+SUMPRODUCT((AZ$6:BI$6=5)*(AZ11:BI11="N")*2))} -> 13 | CI11: =COUNTA(S11)+COUNTA(AZ11:BI11) -> 11 | CJ11: {=5*(SUMPRODUCT((T$6:V$6=1)*((T11:V11="Y")+(T11:V11="N"))*2)+SUMPRODUCT((T$6:V$6=2)*((T11:V11="Y")+(T11:V11="N"))*1)+SUMPRODUCT((T$6:V$6=3)*((T11:V11="Y")+(T11:V11="N"))*1)+SUMPRODUCT((T$6:V$6=4)*((T11:V11="Y")+(T11:V11="N"))*1)+SUMPRODUCT((T$6:V$6=5)*((T11:V11="Y")+(T11:V11="N"))*2))+1*(SUMPRODUCT((BJ$6:BQ$6=1)*((BJ11:BQ11="Y")+(BJ11:BQ11="N"))*2)+SUMPRODUCT((BJ$6:BQ$6=2)*((BJ11:BQ11="Y")+(BJ11:BQ11="N"))*1)+SUMPRODUCT((BJ$6:BQ$6=3)*((BJ11:BQ11="Y")+(BJ11:BQ11="N"))*1)+SUMPRODUCT((BJ$6:BQ$6=4)*((BJ11:BQ11="Y")+(BJ11:BQ11="N"))*1)+SUMPRODUCT((BJ$6:BQ$6=5)*((BJ11:BQ11="Y")+(BJ11:BQ11="N"))*2))} -> 24 | CK11: {=5*(SUMPRODUCT((T$6:V$6=1)*(T11:V11="Y")*2)+SUMPRODUCT((T$6:V$6=2)*(T11:V11="Y")*1)+SUMPRODUCT((T$6:V$6=3)*(T11:V11="Y")*1)+SUMPRODUCT((T$6:V$6=4)*(T11:V11="N")*1)+SUMPRODUCT((T$6:V$6=5)*(T11:V11="N")*2))+(SUMPRODUCT((BJ$6:BQ$6=1)*(BJ11:BQ11="Y")*2)+SUMPRODUCT((BJ$6:BQ$6=2)*(BJ11:BQ11="Y")*1)+SUMPRODUCT((BJ$6:BQ$6=3)*(BJ11:BQ11="Y")*1)+SUMPRODUCT((BJ$6:BQ$6=4)*(BJ11:BQ11="N")*1)+SUMPRODUCT((BJ$6:BQ$6=5)*(BJ11:BQ11="N")*2))} -> 24 | CL11: =COUNTA(T11:V11)+COUNTA(BJ11:BQ11) -> 11 | CM11: =SUM(COUNTIF(M11, $H$128)*$H$137)+(COUNTIF(M11, $H$129)*$H$137)+(COUNTIF(#REF!, $H$128)*$H$135)+(COUNTIF(#REF!, $H$129)*$H$135) -> #REF! | CN11: =SUM(COUNTIF(M11, $H$128)*$H$137)+(COUNTIF(#REF!, $H$128)*$H$135) -> #REF! | CO11: =COUNTA(M11)+COUNTA(#REF!) -> 2 | CP11: =SUM(COUNTIF(M11, $H$128)*$H$137)+(COUNTIF(M11, $H$129)*$H$137)+(COUNTIF(#REF!, $H$128)*$H$135)+(COUNTIF(#REF!, $H$129)*$H$135) -> #REF! | CQ11: =SUM(COUNTIF(M11, $H$128)*$H$137)+(COUNTIF(#REF!, $H$128)*$H$135) -> #REF! | CR11: =COUNTA(M11)+COUNTA(#REF!) -> 2
A12: =SUM((BT12/BS12)*100) -> 90.384615 | B12: =SUM(BY12/BX12)*100 -> 100 | C12: =SUM(CB12/CA12)*100 -> 75 | D12: =SUM(CE12/CD12)*100 -> 100 | E12: =SUM(CH12/CG12)*100 -> 100 | F12: =SUM(CK12/CJ12)*100 -> 100 | H12: Sen. | I12: Boozman | J12: John | K12: AR | L12: R | M12: Y | N12: Y | O12: Y | P12: Y | Q12: Y | R12: Y | S12: Y | T12: Y | U12: Y | V12: Y | W12: Y | X12: Y | Y12: Y | Z12: Y | AA12: Y | AB12: Y | AC12: Y | AD12: Y | AE12: Y | AF12: Y | AG12: Y | AH12: Y | AI12: Y | AJ12: Y | AK12: Y | AL12: Y | AM12: Y | AN12: Y | AO12: Y | AP12: Y | AQ12: Y | AR12: Y | AS12: Y | AT12: Y | AU12: Y | AV12: Y | AW12: Y | AX12: Y | AY12: Y | AZ12: Y | BA12: Y | BB12: Y | BC12: Y | BD12: Y | BE12: Y | BF12: Y | BG12: Y | BH12: Y | BI12: Y | BJ12: Y | BK12: Y | BL12: Y | BM12: Y | BN12: Y | BO12: Y | BP12: Y | BQ12: Y | BR12: Y | BS12: {=5 * (SUMPRODUCT( (M$6:V$6=1)*((M12:V12="Y") + (M12:V12="N")) * 2 ) +SUMPRODUCT( (M$6:V$6=2) * ((M12:V12="Y") + (M12:V12="N")) * 1 ) + SUMPRODUCT( (M$6:V$6=3)*((M12:V12="Y")+(M12:V12="N"))*1 ) +SUMPRODUCT( (M$6:V$6=4 ) * ((M12:V12="Y") + (M12:V12="N")) * 1 )+SUMPRODUCT( (M$6:V$6=5) * ((M12:V12="Y")+(M12:V12="N")) * 2 ))+1*(SUMPRODUCT( (X$6:BQ$6=1) * ((X12:BQ12="Y") + (X12:BQ12="N")) * 2 ) +SUMPRODUCT( (X$6:BQ$6=2 ) * ((X12:BQ12="Y") + (X12:BQ12="N")) * 1 ) +SUMPRODUCT( (X$6:BQ$6=3) * ((X12:BQ12="Y") + (X12:BQ12="N")) * 1 ) +SUMPRODUCT( (X$6:BQ$6=4) * ((X12:BQ12="Y") + (X12:BQ12="N")) * 1 ) + SUMPRODUCT( (X$6:BQ$6=5) * ((X12:BQ12="Y") + (X12:BQ12="N")) * 2 ))} -> 104 | BT12: {=5 * (SUMPRODUCT( (M$6:V$6=1) * (M12:V12="Y") * 2 ) + SUMPRODUCT( (M$6:V$6=2) * (M12:V12="Y") * 1 ) +SUMPRODUCT( (M$6:V$6=3) * (M12:V12="Y") * 1 ) + SUMPRODUCT( (M$6:V$6=4) * (M12:V12="N") * 1 ) +SUMPRODUCT( (M$6:V$6=5) * (M12:V12="N") * 2 )) + (SUMPRODUCT( (X$6:BQ$6=1) * (X12:BQ12="Y") * 2 ) +SUMPRODUCT( (X$6:BQ$6=2) * (X12:BQ12="Y") * 1 ) +SUMPRODUCT( (X$6:BQ$6=3) * (X12:BQ12="Y") * 1 ) +SUMPRODUCT( (X$6:BQ$6=4) * (X12:BQ12="N") * 1 ) +SUMPRODUCT( (X$6:BQ$6=5) * (X12:BQ12="N") * 2 ))} -> 94 | BU12: =SUM(COUNTIF(M12:V12,$H$130)*$H$137)+(COUNTIF(X12:BQ12, $H$130)*$H$135) -> 0 | BV12: =COUNTA(M12) -> 1 | BX12: =5 * (SUMPRODUCT( (M$6:N$6=1)*((M12:N12="Y") + (M12:N12="N")) * 2 ) +SUMPRODUCT( (M$6:N$6=2) * ((M12:N12="Y") + (M12:N12="N")) * 1 ) + SUMPRODUCT( (M$6:N$6=3)*((M12:N12="Y")+(M12:N12="N"))*1 ) +SUMPRODUCT( (M$6:N$6=4 ) * ((M12:N12="Y") + (M12:N12="N")) * 1 )+SUMPRODUCT( (M$6:N$6=5) * ((M12:N12="Y")+(M12:N12="N")) * 2 ))+1*(SUMPRODUCT( (X$6:AC$6=1) * ((X12:AC12="Y") + (X12:AC12="N")) * 2 ) +SUMPRODUCT( (X$6:AC$6=2 ) * ((X12:AC12="Y") + (X12:AC12="N")) * 1 ) +SUMPRODUCT( (X$6:AC$6=3) * ((X12:AC12="Y") + (X12:AC12="N")) * 1 ) +SUMPRODUCT( (X$6:AC$6=4) * ((X12:AC12="Y") + (X12:AC12="N")) * 1 ) + SUMPRODUCT( (X$6:AC$6=5) * ((X12:AC12="Y") + (X12:AC12="N")) * 2 )) -> 17 | BY12: =5 * (SUMPRODUCT( (M$6:N$6=1) * (M12:N12="Y") * 2 ) + SUMPRODUCT( (M$6:N$6=2) * (M12:N12="Y") * 1 ) +SUMPRODUCT( (M$6:N$6=3) * (M12:N12="Y") * 1 ) + SUMPRODUCT( (M$6:N$6=4) * (M12:N12="N") * 1 ) +SUMPRODUCT( (M$6:N$6=5) * (M12:N12="N") * 2 )) + (SUMPRODUCT( (X$6:AC$6=1) * (X12:AC12="Y") * 2 ) +SUMPRODUCT( (X$6:AC$6=2) * (X12:AC12="Y") * 1 ) +SUMPRODUCT( (X$6:AC$6=3) * (X12:AC12="Y") * 1 ) +SUMPRODUCT( (X$6:AC$6=4) * (X12:AC12="N") * 1 ) +SUMPRODUCT( (X$6:AC$6=5) * (X12:AC12="N") * 2 )) -> 17 | BZ12: =COUNTA(M12:N12)+COUNTA(X12:AC12) -> 8 | CA12: =5 * (SUMPRODUCT( (O$6:R$6=1)*((O12:R12="Y") + (O12:R12="N")) * 2 ) +SUMPRODUCT( (O$6:R$6=2) * ((O12:R12="Y") + (O12:R12="N")) * 1 ) + SUMPRODUCT( (O$6:R$6=3)*((O12:R12="Y")+(O12:R12="N"))*1 ) +SUMPRODUCT( (O$6:R$6=4 ) * ((O12:R12="Y") + (O12:R12="N")) * 1 )+SUMPRODUCT( (O$6:R$6=5) * ((O12:R12="Y")+(O12:R12="N")) * 2 )) +1*(SUMPRODUCT( (AD$6:AQ$6=1) * ((AD12:AQ12="Y") + (AD12:AQ12="N")) * 2 ) +SUMPRODUCT( (AD$6:AQ$6=2 ) * ((AD12:AQ12="Y") + (AD12:AQ12="N")) * 1 ) +SUMPRODUCT( (AD$6:AQ$6=3) * ((AD12:AQ12="Y") + (AD12:AQ12="N")) * 1 ) +SUMPRODUCT( (AD$6:AQ$6=4) * ((AD12:AQ12="Y") + (AD12:AQ12="N")) * 1 ) + SUMPRODUCT( (AD$6:AQ$6=5) * ((AD12:AQ12="Y") + (AD12:AQ12="N")) * 2 )) -> 40 | CB12: =5 * (SUMPRODUCT( (O$6:R$6=1) * (O12:R12="Y") * 2 ) + SUMPRODUCT( (O$6:R$6=2) * (O12:R12="Y") * 1 ) +SUMPRODUCT( (O$6:R$6=3) * (O12:R12="Y") * 1 ) + SUMPRODUCT( (O$6:R$6=4) * (O12:R12="N") * 1 ) +SUMPRODUCT( (O$6:R$6=5) * (O12:R12="N") * 2 )) + (SUMPRODUCT( (AD$6:AQ$6=1) * (AD12:AQ12="Y") * 2 ) +SUMPRODUCT( (AD$6:AQ$6=2) * (AD12:AQ12="Y") * 1 ) +SUMPRODUCT( (AD$6:AQ$6=3) * (AD12:AQ12="Y") * 1 ) +SUMPRODUCT( (AD$6:AQ$6=4) * (AD12:AQ12="N") * 1 ) +SUMPRODUCT( (AD$6:AQ$6=5) * (AD12:AQ12="N") * 2 )) -> 30 | CC12: =COUNTA(O12:R12)+COUNTA(AD12:AQ12) -> 18 | CD12: =1*(SUMPRODUCT( (AR$6:AY$6=1) * ((AR12:AY12="Y") + (AR12:AY12="N")) * 2 ) +SUMPRODUCT( (AR$6:AY$6=2 ) * ((AR12:AY12="Y") + (AR12:AY12="N")) * 1 ) +SUMPRODUCT( (AR$6:AY$6=3) * ((AR12:AY12="Y") + (AR12:AY12="N")) * 1 ) +SUMPRODUCT( (AR$6:AY$6=4) * ((AR12:AY12="Y") + (AR12:AY12="N")) * 1 ) + SUMPRODUCT( (AR$6:AY$6=5) * ((AR12:AY12="Y") + (AR12:AY12="N")) * 2 )) -> 8 | CE12: =(SUMPRODUCT( (AR$6:AY$6=1) * (AR12:AY12="Y") * 2 ) +SUMPRODUCT( (AR$6:AY$6=2) * (AR12:AY12="Y") * 1 ) +SUMPRODUCT( (AR$6:AY$6=3) * (AR12:AY12="Y") * 1 ) +SUMPRODUCT( (AR$6:AY$6=4) * (AR12:AY12="N") * 1 ) +SUMPRODUCT( (AR$6:AY$6=5) * (AR12:AY12="N") * 2 )) -> 8 | CF12: =COUNTA(AR12:AY12) -> 8 | CG12: {=5*(SUMPRODUCT((S$6=1)*((S12="Y")+(S12="N"))*2)+SUMPRODUCT((S$6=2)*((S12="Y")+(S12="N"))*1)+SUMPRODUCT((S$6=3)*((S12="Y")+(S12="N"))*1)+SUMPRODUCT((S$6=4)*((S12="Y")+(S12="N"))*1)+SUMPRODUCT((S$6=5)*((S12="Y")+(S12="N"))*2))+1*(SUMPRODUCT((AZ$6:BI$6=1)*((AZ12:BI12="Y")+(AZ12:BI12="N"))*2)+SUMPRODUCT((AZ$6:BI$6=2)*((AZ12:BI12="Y")+(AZ12:BI12="N"))*1)+SUMPRODUCT((AZ$6:BI$6=3)*((AZ12:BI12="Y")+(AZ12:BI12="N"))*1)+SUMPRODUCT((AZ$6:BI$6=4)*((AZ12:BI12="Y")+(AZ12:BI12="N"))*1)+SUMPRODUCT((AZ$6:BI$6=5)*((AZ12:BI12="Y")+(AZ12:BI12="N"))*2))} -> 15 | CH12: {=5*(SUMPRODUCT((S$6=1)*(S12="Y")*2)+SUMPRODUCT((S$6=2)*(S12="Y")*1)+SUMPRODUCT((S$6=3)*(S12="Y")*1)+SUMPRODUCT((S$6=4)*(S12="N")*1)+SUMPRODUCT((S$6=5)*(S12="N")*2))+(SUMPRODUCT((AZ$6:BI$6=1)*(AZ12:BI12="Y")*2)+SUMPRODUCT((AZ$6:BI$6=2)*(AZ12:BI12="Y")*1)+SUMPRODUCT((AZ$6:BI$6=3)*(AZ12:BI12="Y")*1)+SUMPRODUCT((AZ$6:BI$6=4)*(AZ12:BI12="N")*1)+SUMPRODUCT((AZ$6:BI$6=5)*(AZ12:BI12="N")*2))} -> 15 | CI12: =COUNTA(S12)+COUNTA(AZ12:BI12) -> 11 | CJ12: {=5*(SUMPRODUCT((T$6:V$6=1)*((T12:V12="Y")+(T12:V12="N"))*2)+SUMPRODUCT((T$6:V$6=2)*((T12:V12="Y")+(T12:V12="N"))*1)+SUMPRODUCT((T$6:V$6=3)*((T12:V12="Y")+(T12:V12="N"))*1)+SUMPRODUCT((T$6:V$6=4)*((T12:V12="Y")+(T12:V12="N"))*1)+SUMPRODUCT((T$6:V$6=5)*((T12:V12="Y")+(T12:V12="N"))*2))+1*(SUMPRODUCT((BJ$6:BQ$6=1)*((BJ12:BQ12="Y")+(BJ12:BQ12="N"))*2)+SUMPRODUCT((BJ$6:BQ$6=2)*((BJ12:BQ12="Y")+(BJ12:BQ12="N"))*1)+SUMPRODUCT((BJ$6:BQ$6=3)*((BJ12:BQ12="Y")+(BJ12:BQ12="N"))*1)+SUMPRODUCT((BJ$6:BQ$6=4)*((BJ12:BQ12="Y")+(BJ12:BQ12="N"))*1)+SUMPRODUCT((BJ$6:BQ$6=5)*((BJ12:BQ12="Y")+(BJ12:BQ12="N"))*2))} -> 24 | CK12: {=5*(SUMPRODUCT((T$6:V$6=1)*(T12:V12="Y")*2)+SUMPRODUCT((T$6:V$6=2)*(T12:V12="Y")*1)+SUMPRODUCT((T$6:V$6=3)*(T12:V12="Y")*1)+SUMPRODUCT((T$6:V$6=4)*(T12:V12="N")*1)+SUMPRODUCT((T$6:V$6=5)*(T12:V12="N")*2))+(SUMPRODUCT((BJ$6:BQ$6=1)*(BJ12:BQ12="Y")*2)+SUMPRODUCT((BJ$6:BQ$6=2)*(BJ12:BQ12="Y")*1)+SUMPRODUCT((BJ$6:BQ$6=3)*(BJ12:BQ12="Y")*1)+SUMPRODUCT((BJ$6:BQ$6=4)*(BJ12:BQ12="N")*1)+SUMPRODUCT((BJ$6:BQ$6=5)*(BJ12:BQ12="N")*2))} -> 24 | CL12: =COUNTA(T12:V12)+COUNTA(BJ12:BQ12) -> 11 | CM12: =SUM(COUNTIF(M12, $H$128)*$H$137)+(COUNTIF(M12, $H$129)*$H$137)+(COUNTIF(#REF!, $H$128)*$H$135)+(COUNTIF(#REF!, $H$129)*$H$135) -> #REF! | CN12: =SUM(COUNTIF(M12, $H$128)*$H$137)+(COUNTIF(#REF!, $H$128)*$H$135) -> #REF! | CO12: =COUNTA(M12)+COUNTA(#REF!) -> 2 | CP12: =SUM(COUNTIF(M12, $H$128)*$H$137)+(COUNTIF(M12, $H$129)*$H$137)+(COUNTIF(#REF!, $H$128)*$H$135)+(COUNTIF(#REF!, $H$129)*$H$135) -> #REF! | CQ12: =SUM(COUNTIF(M12, $H$128)*$H$137)+(COUNTIF(#REF!, $H$128)*$H$135) -> #REF! | CR12: =COUNTA(M12)+COUNTA(#REF!) -> 2
A13: =SUM((BT13/BS13)*100) -> 89.583333 | B13: =SUM(BY13/BX13)*100 -> 100 | C13: =SUM(CB13/CA13)*100 -> 75 | D13: =SUM(CE13/CD13)*100 -> 100 | E13: =SUM(CH13/CG13)*100 -> 100 | F13: =SUM(CK13/CJ13)*100 -> 100 | H13: Sen. | I13: Britt | J13: Katie Boyd | K13: AL | L13: R | M13: Y | N13: Y | O13: Y | P13: Y | Q13: Y | R13: Y | S13: Y | T13: Y | U13: Y | V13: NV | W13: Y | X13: Y | Y13: Y | Z13: NV | AA13: Y | AB13: Y | AC13: Y | AD13: Y | AE13: Y | AF13: Y | AG13: Y | AH13: Y | AI13: Y | AJ13: Y | AK13: Y | AL13: Y | AM13: Y | AN13: Y | AO13: Y | AP13: Y | AQ13: Y | AR13: Y | AS13: Y | AT13: Y | AU13: Y | AV13: Y | AW13: Y | AX13: Y | AY13: Y | AZ13: Y | BA13: Y | BB13: Y | BC13: Y | BD13: Y | BE13: Y | BF13: Y | BG13: Y | BH13: Y | BI13: Y | BJ13: NV | BK13: Y | BL13: Y | BM13: Y | BN13: NV | BO13: Y | BP13: Y | BQ13: Y | BR13: Y | BS13: {=5 * (SUMPRODUCT( (M$6:V$6=1)*((M13:V13="Y") + (M13:V13="N")) * 2 ) +SUMPRODUCT( (M$6:V$6=2) * ((M13:V13="Y") + (M13:V13="N")) * 1 ) + SUMPRODUCT( (M$6:V$6=3)*((M13:V13="Y")+(M13:V13="N"))*1 ) +SUMPRODUCT( (M$6:V$6=4 ) * ((M13:V13="Y") + (M13:V13="N")) * 1 )+SUMPRODUCT( (M$6:V$6=5) * ((M13:V13="Y")+(M13:V13="N")) * 2 ))+1*(SUMPRODUCT( (X$6:BQ$6=1) * ((X13:BQ13="Y") + (X13:BQ13="N")) * 2 ) +SUMPRODUCT( (X$6:BQ$6=2 ) * ((X13:BQ13="Y") + (X13:BQ13="N")) * 1 ) +SUMPRODUCT( (X$6:BQ$6=3) * ((X13:BQ13="Y") + (X13:BQ13="N")) * 1 ) +SUMPRODUCT( (X$6:BQ$6=4) * ((X13:BQ13="Y") + (X13:BQ13="N")) * 1 ) + SUMPRODUCT( (X$6:BQ$6=5) * ((X13:BQ13="Y") + (X13:BQ13="N")) * 2 ))} -> 96 | BT13: {=5 * (SUMPRODUCT( (M$6:V$6=1) * (M13:V13="Y") * 2 ) + SUMPRODUCT( (M$6:V$6=2) * (M13:V13="Y") * 1 ) +SUMPRODUCT( (M$6:V$6=3) * (M13:V13="Y") * 1 ) + SUMPRODUCT( (M$6:V$6=4) * (M13:V13="N") * 1 ) +SUMPRODUCT( (M$6:V$6=5) * (M13:V13="N") * 2 )) + (SUMPRODUCT( (X$6:BQ$6=1) * (X13:BQ13="Y") * 2 ) +SUMPRODUCT( (X$6:BQ$6=2) * (X13:BQ13="Y") * 1 ) +SUMPRODUCT( (X$6:BQ$6=3) * (X13:BQ13="Y") * 1 ) +SUMPRODUCT( (X$6:BQ$6=4) * (X13:BQ13="N") * 1 ) +SUMPRODUCT( (X$6:BQ$6=5) * (X13:BQ13="N") * 2 ))} -> 86 | BU13: =SUM(COUNTIF(M13:V13,$H$130)*$H$137)+(COUNTIF(X13:BQ13, $H$130)*$H$135) -> 8 | BV13: =COUNTA(M13) -> 1 | BX13: =5 * (SUMPRODUCT( (M$6:N$6=1)*((M13:N13="Y") + (M13:N13="N")) * 2 ) +SUMPRODUCT( (M$6:N$6=2) * ((M13:N13="Y") + (M13:N13="N")) * 1 ) + SUMPRODUCT( (M$6:N$6=3)*((M13:N13="Y")+(M13:N13="N"))*1 ) +SUMPRODUCT( (M$6:N$6=4 ) * ((M13:N13="Y") + (M13:N13="N")) * 1 )+SUMPRODUCT( (M$6:N$6=5) * ((M13:N13="Y")+(M13:N13="N")) * 2 ))+1*(SUMPRODUCT( (X$6:AC$6=1) * ((X13:AC13="Y") + (X13:AC13="N")) * 2 ) +SUMPRODUCT( (X$6:AC$6=2 ) * ((X13:AC13="Y") + (X13:AC13="N")) * 1 ) +SUMPRODUCT( (X$6:AC$6=3) * ((X13:AC13="Y") + (X13:AC13="N")) * 1 ) +SUMPRODUCT( (X$6:AC$6=4) * ((X13:AC13="Y") + (X13:AC13="N")) * 1 ) + SUMPRODUCT( (X$6:AC$6=5) * ((X13:AC13="Y") + (X13:AC13="N")) * 2 )) -> 16 | BY13: =5 * (SUMPRODUCT( (M$6:N$6=1) * (M13:N13="Y") * 2 ) + SUMPRODUCT( (M$6:N$6=2) * (M13:N13="Y") * 1 ) +SUMPRODUCT( (M$6:N$6=3) * (M13:N13="Y") * 1 ) + SUMPRODUCT( (M$6:N$6=4) * (M13:N13="N") * 1 ) +SUMPRODUCT( (M$6:N$6=5) * (M13:N13="N") * 2 )) + (SUMPRODUCT( (X$6:AC$6=1) * (X13:AC13="Y") * 2 ) +SUMPRODUCT( (X$6:AC$6=2) * (X13:AC13="Y") * 1 ) +SUMPRODUCT( (X$6:AC$6=3) * (X13:AC13="Y") * 1 ) +SUMPRODUCT( (X$6:AC$6=4) * (X13:AC13="N") * 1 ) +SUMPRODUCT( (X$6:AC$6=5) * (X13:AC13="N") * 2 )) -> 16 | BZ13: =COUNTA(M13:N13)+COUNTA(X13:AC13) -> 8 | CA13: =5 * (SUMPRODUCT( (O$6:R$6=1)*((O13:R13="Y") + (O13:R13="N")) * 2 ) +SUMPRODUCT( (O$6:R$6=2) * ((O13:R13="Y") + (O13:R13="N")) * 1 ) + SUMPRODUCT( (O$6:R$6=3)*((O13:R13="Y")+(O13:R13="N"))*1 ) +SUMPRODUCT( (O$6:R$6=4 ) * ((O13:R13="Y") + (O13:R13="N")) * 1 )+SUMPRODUCT( (O$6:R$6=5) * ((O13:R13="Y")+(O13:R13="N")) * 2 )) +1*(SUMPRODUCT( (AD$6:AQ$6=1) * ((AD13:AQ13="Y") + (AD13:AQ13="N")) * 2 ) +SUMPRODUCT( (AD$6:AQ$6=2 ) * ((AD13:AQ13="Y") + (AD13:AQ13="N")) * 1 ) +SUMPRODUCT( (AD$6:AQ$6=3) * ((AD13:AQ13="Y") + (AD13:AQ13="N")) * 1 ) +SUMPRODUCT( (AD$6:AQ$6=4) * ((AD13:AQ13="Y") + (AD13:AQ13="N")) * 1 ) + SUMPRODUCT( (AD$6:AQ$6=5) * ((AD13:AQ13="Y") + (AD13:AQ13="N")) * 2 )) -> 40 | CB13: =5 * (SUMPRODUCT( (O$6:R$6=1) * (O13:R13="Y") * 2 ) + SUMPRODUCT( (O$6:R$6=2) * (O13:R13="Y") * 1 ) +SUMPRODUCT( (O$6:R$6=3) * (O13:R13="Y") * 1 ) + SUMPRODUCT( (O$6:R$6=4) * (O13:R13="N") * 1 ) +SUMPRODUCT( (O$6:R$6=5) * (O13:R13="N") * 2 )) + (SUMPRODUCT( (AD$6:AQ$6=1) * (AD13:AQ13="Y") * 2 ) +SUMPRODUCT( (AD$6:AQ$6=2) * (AD13:AQ13="Y") * 1 ) +SUMPRODUCT( (AD$6:AQ$6=3) * (AD13:AQ13="Y") * 1 ) +SUMPRODUCT( (AD$6:AQ$6=4) * (AD13:AQ13="N") * 1 ) +SUMPRODUCT( (AD$6:AQ$6=5) * (AD13:AQ13="N") * 2 )) -> 30 | CC13: =COUNTA(O13:R13)+COUNTA(AD13:AQ13) -> 18 | CD13: =1*(SUMPRODUCT( (AR$6:AY$6=1) * ((AR13:AY13="Y") + (AR13:AY13="N")) * 2 ) +SUMPRODUCT( (AR$6:AY$6=2 ) * ((AR13:AY13="Y") + (AR13:AY13="N")) * 1 ) +SUMPRODUCT( (AR$6:AY$6=3) * ((AR13:AY13="Y") + (AR13:AY13="N")) * 1 ) +SUMPRODUCT( (AR$6:AY$6=4) * ((AR13:AY13="Y") + (AR13:AY13="N")) * 1 ) + SUMPRODUCT( (AR$6:AY$6=5) * ((AR13:AY13="Y") + (AR13:AY13="N")) * 2 )) -> 8 | CE13: =(SUMPRODUCT( (AR$6:AY$6=1) * (AR13:AY13="Y") * 2 ) +SUMPRODUCT( (AR$6:AY$6=2) * (AR13:AY13="Y") * 1 ) +SUMPRODUCT( (AR$6:AY$6=3) * (AR13:AY13="Y") * 1 ) +SUMPRODUCT( (AR$6:AY$6=4) * (AR13:AY13="N") * 1 ) +SUMPRODUCT( (AR$6:AY$6=5) * (AR13:AY13="N") * 2 )) -> 8 | CF13: =COUNTA(AR13:AY13) -> 8 | CG13: {=5*(SUMPRODUCT((S$6=1)*((S13="Y")+(S13="N"))*2)+SUMPRODUCT((S$6=2)*((S13="Y")+(S13="N"))*1)+SUMPRODUCT((S$6=3)*((S13="Y")+(S13="N"))*1)+SUMPRODUCT((S$6=4)*((S13="Y")+(S13="N"))*1)+SUMPRODUCT((S$6=5)*((S13="Y")+(S13="N"))*2))+1*(SUMPRODUCT((AZ$6:BI$6=1)*((AZ13:BI13="Y")+(AZ13:BI13="N"))*2)+SUMPRODUCT((AZ$6:BI$6=2)*((AZ13:BI13="Y")+(AZ13:BI13="N"))*1)+SUMPRODUCT((AZ$6:BI$6=3)*((AZ13:BI13="Y")+(AZ13:BI13="N"))*1)+SUMPRODUCT((AZ$6:BI$6=4)*((AZ13:BI13="Y")+(AZ13:BI13="N"))*1)+SUMPRODUCT((AZ$6:BI$6=5)*((AZ13:BI13="Y")+(AZ13:BI13="N"))*2))} -> 15 | CH13: {=5*(SUMPRODUCT((S$6=1)*(S13="Y")*2)+SUMPRODUCT((S$6=2)*(S13="Y")*1)+SUMPRODUCT((S$6=3)*(S13="Y")*1)+SUMPRODUCT((S$6=4)*(S13="N")*1)+SUMPRODUCT((S$6=5)*(S13="N")*2))+(SUMPRODUCT((AZ$6:BI$6=1)*(AZ13:BI13="Y")*2)+SUMPRODUCT((AZ$6:BI$6=2)*(AZ13:BI13="Y")*1)+SUMPRODUCT((AZ$6:BI$6=3)*(AZ13:BI13="Y")*1)+SUMPRODUCT((AZ$6:BI$6=4)*(AZ13:BI13="N")*1)+SUMPRODUCT((AZ$6:BI$6=5)*(AZ13:BI13="N")*2))} -> 15 | CI13: =COUNTA(S13)+COUNTA(AZ13:BI13) -> 11 | CJ13: {=5*(SUMPRODUCT((T$6:V$6=1)*((T13:V13="Y")+(T13:V13="N"))*2)+SUMPRODUCT((T$6:V$6=2)*((T13:V13="Y")+(T13:V13="N"))*1)+SUMPRODUCT((T$6:V$6=3)*((T13:V13="Y")+(T13:V13="N"))*1)+SUMPRODUCT((T$6:V$6=4)*((T13:V13="Y")+(T13:V13="N"))*1)+SUMPRODUCT((T$6:V$6=5)*((T13:V13="Y")+(T13:V13="N"))*2))+1*(SUMPRODUCT((BJ$6:BQ$6=1)*((BJ13:BQ13="Y")+(BJ13:BQ13="N"))*2)+SUMPRODUCT((BJ$6:BQ$6=2)*((BJ13:BQ13="Y")+(BJ13:BQ13="N"))*1)+SUMPRODUCT((BJ$6:BQ$6=3)*((BJ13:BQ13="Y")+(BJ13:BQ13="N"))*1)+SUMPRODUCT((BJ$6:BQ$6=4)*((BJ13:BQ13="Y")+(BJ13:BQ13="N"))*1)+SUMPRODUCT((BJ$6:BQ$6=5)*((BJ13:BQ13="Y")+(BJ13:BQ13="N"))*2))} -> 17 | CK13: {=5*(SUMPRODUCT((T$6:V$6=1)*(T13:V13="Y")*2)+SUMPRODUCT((T$6:V$6=2)*(T13:V13="Y")*1)+SUMPRODUCT((T$6:V$6=3)*(T13:V13="Y")*1)+SUMPRODUCT((T$6:V$6=4)*(T13:V13="N")*1)+SUMPRODUCT((T$6:V$6=5)*(T13:V13="N")*2))+(SUMPRODUCT((BJ$6:BQ$6=1)*(BJ13:BQ13="Y")*2)+SUMPRODUCT((BJ$6:BQ$6=2)*(BJ13:BQ13="Y")*1)+SUMPRODUCT((BJ$6:BQ$6=3)*(BJ13:BQ13="Y")*1)+SUMPRODUCT((BJ$6:BQ$6=4)*(BJ13:BQ13="N")*1)+SUMPRODUCT((BJ$6:BQ$6=5)*(BJ13:BQ13="N")*2))} -> 17 | CL13: =COUNTA(T13:V13)+COUNTA(BJ13:BQ13) -> 11 | CM13: =SUM(COUNTIF(M13, $H$128)*$H$137)+(COUNTIF(M13, $H$129)*$H$137)+(COUNTIF(#REF!, $H$128)*$H$135)+(COUNTIF(#REF!, $H$129)*$H$135) -> #REF! | CN13: =SUM(COUNTIF(M13, $H$128)*$H$137)+(COUNTIF(#REF!, $H$128)*$H$135) -> #REF! | CO13: =COUNTA(M13)+COUNTA(#REF!) -> 2 | CP13: =SUM(COUNTIF(M13, $H$128)*$H$137)+(COUNTIF(M13, $H$129)*$H$137)+(COUNTIF(#REF!, $H$128)*$H$135)+(COUNTIF(#REF!, $H$129)*$H$135) -> #REF! | CQ13: =SUM(COUNTIF(M13, $H$128)*$H$137)+(COUNTIF(#REF!, $H$128)*$H$135) -> #REF! | CR13: =COUNTA(M13)+COUNTA(#REF!) -> 2
